BEGIN:VCALENDAR
VERSION:2.0
PRODID:-//Belhus Park Chapel - ECPv6.15.14//NONSGML v1.0//EN
CALSCALE:GREGORIAN
METHOD:PUBLISH
X-ORIGINAL-URL:https://www.belhusparkchapel.co.uk
X-WR-CALDESC:Events for Belhus Park Chapel
REFRESH-INTERVAL;VALUE=DURATION:PT1H
X-Robots-Tag:noindex
X-PUBLISHED-TTL:PT1H
BEGIN:VTIMEZONE
TZID:UTC
BEGIN:STANDARD
TZOFFSETFROM:+0000
TZOFFSETTO:+0000
TZNAME:UTC
DTSTART:20180101T000000
END:STANDARD
END:VTIMEZONE
BEGIN:VEVENT
DTSTART;TZID=UTC:20190415T100000
DTEND;TZID=UTC:20190418T120000
DTSTAMP:20260424T184638
CREATED:20190202T215258Z
LAST-MODIFIED:20190202T222212Z
UID:8973-1555322400-1555588800@www.belhusparkchapel.co.uk
SUMMARY:BELRASSIC PARK - BPC Holiday Club 2019
DESCRIPTION:Easter is fast approaching and once again Belhus Park Chapel will be holding it’s annual Holiday Club\, this called ‘BELRASSIC PARK’. The holiday club runs from Monday 15th to Thursday 18th April. Spaces for the holiday club are limited\, so please register by calling 01708851900.
URL:https://www.belhusparkchapel.co.uk/calendar/belrassic-park-bpc-holiday-club-2019/
ATTACH;FMTTYPE=image/jpeg:https://www.belhusparkchapel.co.uk/wp-content/uploads/2019/02/BELRASSIC-Park-Logo.jpg
END:VEVENT
END:VCALENDAR