BEGIN:VCALENDAR
VERSION:2.0
PRODID:-//Belhus Park Chapel - ECPv6.15.14//NONSGML v1.0//EN
CALSCALE:GREGORIAN
METHOD:PUBLISH
X-ORIGINAL-URL:https://www.belhusparkchapel.co.uk
X-WR-CALDESC:Events for Belhus Park Chapel
REFRESH-INTERVAL;VALUE=DURATION:PT1H
X-Robots-Tag:noindex
X-PUBLISHED-TTL:PT1H
BEGIN:VTIMEZONE
TZID:UTC
BEGIN:STANDARD
TZOFFSETFROM:+0000
TZOFFSETTO:+0000
TZNAME:UTC
DTSTART:20230101T000000
END:STANDARD
END:VTIMEZONE
BEGIN:VEVENT
DTSTART;TZID=UTC:20241117T094500
DTEND;TZID=UTC:20241117T104500
DTSTAMP:20260424T111859
CREATED:20181105T095347Z
LAST-MODIFIED:20181105T095347Z
UID:11339-1731836700-1731840300@www.belhusparkchapel.co.uk
SUMMARY:Explorers & Bible Class
DESCRIPTION:
URL:https://www.belhusparkchapel.co.uk/calendar/explorers-bible-class-2019-01-20-2024-10-06-2024-10-13/2024-11-17/
END:VEVENT
BEGIN:VEVENT
DTSTART;TZID=UTC:20241117T111500
DTEND;TZID=UTC:20241117T123000
DTSTAMP:20260424T111859
CREATED:20231213T222148Z
LAST-MODIFIED:20241028T213331Z
UID:12168-1731842100-1731846600@www.belhusparkchapel.co.uk
SUMMARY:Morning Service - Mr Maurice Titmarsh (available to stream)
DESCRIPTION:
URL:https://www.belhusparkchapel.co.uk/calendar/morning-service-preacher-tba-available-to-stream-2-2024-03-31/2024-11-17/
LOCATION:Belhus Park Chapel
END:VEVENT
BEGIN:VEVENT
DTSTART;TZID=UTC:20241117T183000
DTEND;TZID=UTC:20241117T193000
DTSTAMP:20260424T111859
CREATED:20231213T222311Z
LAST-MODIFIED:20241028T213635Z
UID:12220-1731868200-1731871800@www.belhusparkchapel.co.uk
SUMMARY:Discovery Service - Mr Maurice Titmarsh (available to stream)
DESCRIPTION:followed by hot buffet
URL:https://www.belhusparkchapel.co.uk/calendar/evening-service-preacher-tba-available-to-stream-2024-04-07/2024-11-17/
LOCATION:Belhus Park Chapel
END:VEVENT
END:VCALENDAR