BEGIN:VCALENDAR
VERSION:2.0
PRODID:-//Belhus Park Chapel - ECPv6.15.14//NONSGML v1.0//EN
CALSCALE:GREGORIAN
METHOD:PUBLISH
X-WR-CALNAME:Belhus Park Chapel
X-ORIGINAL-URL:https://www.belhusparkchapel.co.uk
X-WR-CALDESC:Events for Belhus Park Chapel
REFRESH-INTERVAL;VALUE=DURATION:PT1H
X-Robots-Tag:noindex
X-PUBLISHED-TTL:PT1H
BEGIN:VTIMEZONE
TZID:UTC
BEGIN:STANDARD
TZOFFSETFROM:+0000
TZOFFSETTO:+0000
TZNAME:UTC
DTSTART:20230101T000000
END:STANDARD
END:VTIMEZONE
BEGIN:VEVENT
DTSTART;TZID=UTC:20241215T094500
DTEND;TZID=UTC:20241215T104500
DTSTAMP:20260422T094805
CREATED:20181105T095347Z
LAST-MODIFIED:20181105T095347Z
UID:11500-1734255900-1734259500@www.belhusparkchapel.co.uk
SUMMARY:Explorers & Bible Class
DESCRIPTION:
URL:https://www.belhusparkchapel.co.uk/calendar/explorers-bible-class-2019-01-20-2024-10-06-2024-10-13/2024-12-15/
END:VEVENT
BEGIN:VEVENT
DTSTART;TZID=UTC:20241215T111500
DTEND;TZID=UTC:20241215T123000
DTSTAMP:20260422T094806
CREATED:20231213T222148Z
LAST-MODIFIED:20241028T213833Z
UID:12172-1734261300-1734265800@www.belhusparkchapel.co.uk
SUMMARY:Morning Service - Mr Maurice Titmarsh (available to stream)
DESCRIPTION:
URL:https://www.belhusparkchapel.co.uk/calendar/morning-service-preacher-tba-available-to-stream-2-2024-03-31/2024-12-15/
LOCATION:Belhus Park Chapel
END:VEVENT
BEGIN:VEVENT
DTSTART;TZID=UTC:20241215T183000
DTEND;TZID=UTC:20241215T193000
DTSTAMP:20260422T094806
CREATED:20231213T222311Z
LAST-MODIFIED:20241028T213925Z
UID:12224-1734287400-1734291000@www.belhusparkchapel.co.uk
SUMMARY:Discovery Service - Mr Maurice Titmarsh (available to stream)
DESCRIPTION:followed by hot buffet
URL:https://www.belhusparkchapel.co.uk/calendar/evening-service-preacher-tba-available-to-stream-2024-04-07/2024-12-15/
LOCATION:Belhus Park Chapel
END:VEVENT
END:VCALENDAR