BEGIN:VCALENDAR
VERSION:2.0
PRODID:-//Belhus Park Chapel - ECPv6.15.14//NONSGML v1.0//EN
CALSCALE:GREGORIAN
METHOD:PUBLISH
X-WR-CALNAME:Belhus Park Chapel
X-ORIGINAL-URL:https://www.belhusparkchapel.co.uk
X-WR-CALDESC:Events for Belhus Park Chapel
REFRESH-INTERVAL;VALUE=DURATION:PT1H
X-Robots-Tag:noindex
X-PUBLISHED-TTL:PT1H
BEGIN:VTIMEZONE
TZID:UTC
BEGIN:STANDARD
TZOFFSETFROM:+0000
TZOFFSETTO:+0000
TZNAME:UTC
DTSTART:20240101T000000
END:STANDARD
END:VTIMEZONE
BEGIN:VEVENT
DTSTART;TZID=UTC:20250330T094500
DTEND;TZID=UTC:20250330T104500
DTSTAMP:20260421T084333
CREATED:20181105T095347Z
LAST-MODIFIED:20250326T193956Z
UID:11951-1743327900-1743331500@www.belhusparkchapel.co.uk
SUMMARY:Explorers
DESCRIPTION:
URL:https://www.belhusparkchapel.co.uk/calendar/explorers-bible-class-2019-01-20-2024-10-06-2024-10-13/2025-03-30/
END:VEVENT
BEGIN:VEVENT
DTSTART;TZID=UTC:20250330T113000
DTEND;TZID=UTC:20250330T123000
DTSTAMP:20260421T084333
CREATED:20250319T085912Z
LAST-MODIFIED:20250319T085912Z
UID:12870-1743334200-1743337800@www.belhusparkchapel.co.uk
SUMMARY:Morning Service - Mr Chris Knowles (available to stream)
DESCRIPTION:
URL:https://www.belhusparkchapel.co.uk/calendar/morning-service-mr-chris-knowles-available-to-stream/
LOCATION:Belhus Park Chapel
END:VEVENT
BEGIN:VEVENT
DTSTART;TZID=UTC:20250330T183000
DTEND;TZID=UTC:20250330T193000
DTSTAMP:20260421T084333
CREATED:20250319T090059Z
LAST-MODIFIED:20250319T090059Z
UID:12872-1743359400-1743363000@www.belhusparkchapel.co.uk
SUMMARY:Evening Service - Mr Daniel Olteanuo (available to stream)
DESCRIPTION:
URL:https://www.belhusparkchapel.co.uk/calendar/evening-service-mr-daniel-olteanuo-available-to-stream/
LOCATION:Belhus Park Chapel
END:VEVENT
END:VCALENDAR