BEGIN:VCALENDAR
VERSION:2.0
PRODID:-//Belhus Park Chapel - ECPv6.15.14//NONSGML v1.0//EN
CALSCALE:GREGORIAN
METHOD:PUBLISH
X-WR-CALNAME:Belhus Park Chapel
X-ORIGINAL-URL:https://www.belhusparkchapel.co.uk
X-WR-CALDESC:Events for Belhus Park Chapel
REFRESH-INTERVAL;VALUE=DURATION:PT1H
X-Robots-Tag:noindex
X-PUBLISHED-TTL:PT1H
BEGIN:VTIMEZONE
TZID:UTC
BEGIN:STANDARD
TZOFFSETFROM:+0000
TZOFFSETTO:+0000
TZNAME:UTC
DTSTART:20240101T000000
END:STANDARD
END:VTIMEZONE
BEGIN:VEVENT
DTSTART;TZID=UTC:20250713T094500
DTEND;TZID=UTC:20250713T104500
DTSTAMP:20260421T143838
CREATED:20181105T095347Z
LAST-MODIFIED:20250619T081119Z
UID:12005-1752399900-1752403500@www.belhusparkchapel.co.uk
SUMMARY:Explorers
DESCRIPTION:
URL:https://www.belhusparkchapel.co.uk/calendar/explorers-bible-class-2019-01-20-2024-10-06-2024-10-13/2025-07-13/
END:VEVENT
BEGIN:VEVENT
DTSTART;TZID=UTC:20250713T111500
DTEND;TZID=UTC:20250713T123000
DTSTAMP:20260421T143838
CREATED:20250619T080951Z
LAST-MODIFIED:20250619T080951Z
UID:13080-1752405300-1752409800@www.belhusparkchapel.co.uk
SUMMARY:Morning Service - Pastor Julian Rogers (available to stream)
DESCRIPTION:
URL:https://www.belhusparkchapel.co.uk/calendar/morning-service-pastor-julian-rogers-available-to-stream-12/
LOCATION:Belhus Park Chapel
END:VEVENT
BEGIN:VEVENT
DTSTART;TZID=UTC:20250713T183000
DTEND;TZID=UTC:20250713T193000
DTSTAMP:20260421T143838
CREATED:20250619T081056Z
LAST-MODIFIED:20250619T081056Z
UID:13082-1752431400-1752435000@www.belhusparkchapel.co.uk
SUMMARY:Evening Service - Mr Ray Birch (available to stream)
DESCRIPTION:
URL:https://www.belhusparkchapel.co.uk/calendar/evening-service-mr-ray-birch-available-to-stream-2/
LOCATION:Belhus Park Chapel
END:VEVENT
END:VCALENDAR