BEGIN:VCALENDAR
VERSION:2.0
PRODID:-//Belhus Park Chapel - ECPv6.15.14//NONSGML v1.0//EN
CALSCALE:GREGORIAN
METHOD:PUBLISH
X-WR-CALNAME:Belhus Park Chapel
X-ORIGINAL-URL:https://www.belhusparkchapel.co.uk
X-WR-CALDESC:Events for Belhus Park Chapel
REFRESH-INTERVAL;VALUE=DURATION:PT1H
X-Robots-Tag:noindex
X-PUBLISHED-TTL:PT1H
BEGIN:VTIMEZONE
TZID:UTC
BEGIN:STANDARD
TZOFFSETFROM:+0000
TZOFFSETTO:+0000
TZNAME:UTC
DTSTART:20250101T000000
END:STANDARD
END:VTIMEZONE
BEGIN:VEVENT
DTSTART;TZID=UTC:20260426T094500
DTEND;TZID=UTC:20260426T104500
DTSTAMP:20260422T184459
CREATED:20260119T102908Z
LAST-MODIFIED:20260119T102908Z
UID:13383-1777196700-1777200300@www.belhusparkchapel.co.uk
SUMMARY:Explorers
DESCRIPTION:
URL:https://www.belhusparkchapel.co.uk/calendar/explorers-3/2026-04-26/
LOCATION:Belhus Park Chapel
END:VEVENT
BEGIN:VEVENT
DTSTART;TZID=UTC:20260503T094500
DTEND;TZID=UTC:20260503T104500
DTSTAMP:20260422T184459
CREATED:20260119T102908Z
LAST-MODIFIED:20260119T102908Z
UID:13384-1777801500-1777805100@www.belhusparkchapel.co.uk
SUMMARY:Explorers
DESCRIPTION:
URL:https://www.belhusparkchapel.co.uk/calendar/explorers-3/2026-05-03/
LOCATION:Belhus Park Chapel
END:VEVENT
BEGIN:VEVENT
DTSTART;TZID=UTC:20260510T094500
DTEND;TZID=UTC:20260510T104500
DTSTAMP:20260422T184459
CREATED:20260119T102908Z
LAST-MODIFIED:20260119T102908Z
UID:13385-1778406300-1778409900@www.belhusparkchapel.co.uk
SUMMARY:Explorers
DESCRIPTION:
URL:https://www.belhusparkchapel.co.uk/calendar/explorers-3/2026-05-10/
LOCATION:Belhus Park Chapel
END:VEVENT
BEGIN:VEVENT
DTSTART;TZID=UTC:20260517T094500
DTEND;TZID=UTC:20260517T104500
DTSTAMP:20260422T184459
CREATED:20260119T102908Z
LAST-MODIFIED:20260119T102908Z
UID:13386-1779011100-1779014700@www.belhusparkchapel.co.uk
SUMMARY:Explorers
DESCRIPTION:
URL:https://www.belhusparkchapel.co.uk/calendar/explorers-3/2026-05-17/
LOCATION:Belhus Park Chapel
END:VEVENT
BEGIN:VEVENT
DTSTART;TZID=UTC:20260524T094500
DTEND;TZID=UTC:20260524T104500
DTSTAMP:20260422T184459
CREATED:20260119T102908Z
LAST-MODIFIED:20260119T102908Z
UID:13387-1779615900-1779619500@www.belhusparkchapel.co.uk
SUMMARY:Explorers
DESCRIPTION:
URL:https://www.belhusparkchapel.co.uk/calendar/explorers-3/2026-05-24/
LOCATION:Belhus Park Chapel
END:VEVENT
BEGIN:VEVENT
DTSTART;TZID=UTC:20260531T094500
DTEND;TZID=UTC:20260531T104500
DTSTAMP:20260422T184459
CREATED:20260119T102908Z
LAST-MODIFIED:20260119T102908Z
UID:13388-1780220700-1780224300@www.belhusparkchapel.co.uk
SUMMARY:Explorers
DESCRIPTION:
URL:https://www.belhusparkchapel.co.uk/calendar/explorers-3/2026-05-31/
LOCATION:Belhus Park Chapel
END:VEVENT
BEGIN:VEVENT
DTSTART;TZID=UTC:20260607T094500
DTEND;TZID=UTC:20260607T104500
DTSTAMP:20260422T184459
CREATED:20260119T102908Z
LAST-MODIFIED:20260119T102908Z
UID:13389-1780825500-1780829100@www.belhusparkchapel.co.uk
SUMMARY:Explorers
DESCRIPTION:
URL:https://www.belhusparkchapel.co.uk/calendar/explorers-3/2026-06-07/
LOCATION:Belhus Park Chapel
END:VEVENT
BEGIN:VEVENT
DTSTART;TZID=UTC:20260614T094500
DTEND;TZID=UTC:20260614T104500
DTSTAMP:20260422T184459
CREATED:20260119T102908Z
LAST-MODIFIED:20260119T102908Z
UID:13390-1781430300-1781433900@www.belhusparkchapel.co.uk
SUMMARY:Explorers
DESCRIPTION:
URL:https://www.belhusparkchapel.co.uk/calendar/explorers-3/2026-06-14/
LOCATION:Belhus Park Chapel
END:VEVENT
BEGIN:VEVENT
DTSTART;TZID=UTC:20260621T094500
DTEND;TZID=UTC:20260621T104500
DTSTAMP:20260422T184459
CREATED:20260119T102908Z
LAST-MODIFIED:20260119T102908Z
UID:13391-1782035100-1782038700@www.belhusparkchapel.co.uk
SUMMARY:Explorers
DESCRIPTION:
URL:https://www.belhusparkchapel.co.uk/calendar/explorers-3/2026-06-21/
LOCATION:Belhus Park Chapel
END:VEVENT
BEGIN:VEVENT
DTSTART;TZID=UTC:20260628T094500
DTEND;TZID=UTC:20260628T104500
DTSTAMP:20260422T184459
CREATED:20260119T102908Z
LAST-MODIFIED:20260119T102908Z
UID:13392-1782639900-1782643500@www.belhusparkchapel.co.uk
SUMMARY:Explorers
DESCRIPTION:
URL:https://www.belhusparkchapel.co.uk/calendar/explorers-3/2026-06-28/
LOCATION:Belhus Park Chapel
END:VEVENT
BEGIN:VEVENT
DTSTART;TZID=UTC:20260705T094500
DTEND;TZID=UTC:20260705T104500
DTSTAMP:20260422T184459
CREATED:20260119T102908Z
LAST-MODIFIED:20260119T102908Z
UID:13393-1783244700-1783248300@www.belhusparkchapel.co.uk
SUMMARY:Explorers
DESCRIPTION:
URL:https://www.belhusparkchapel.co.uk/calendar/explorers-3/2026-07-05/
LOCATION:Belhus Park Chapel
END:VEVENT
BEGIN:VEVENT
DTSTART;TZID=UTC:20260712T094500
DTEND;TZID=UTC:20260712T104500
DTSTAMP:20260422T184459
CREATED:20260119T102908Z
LAST-MODIFIED:20260119T102908Z
UID:13394-1783849500-1783853100@www.belhusparkchapel.co.uk
SUMMARY:Explorers
DESCRIPTION:
URL:https://www.belhusparkchapel.co.uk/calendar/explorers-3/2026-07-12/
LOCATION:Belhus Park Chapel
END:VEVENT
BEGIN:VEVENT
DTSTART;TZID=UTC:20260719T094500
DTEND;TZID=UTC:20260719T104500
DTSTAMP:20260422T184459
CREATED:20260119T102908Z
LAST-MODIFIED:20260119T102908Z
UID:13395-1784454300-1784457900@www.belhusparkchapel.co.uk
SUMMARY:Explorers
DESCRIPTION:
URL:https://www.belhusparkchapel.co.uk/calendar/explorers-3/2026-07-19/
LOCATION:Belhus Park Chapel
END:VEVENT
BEGIN:VEVENT
DTSTART;TZID=UTC:20260726T094500
DTEND;TZID=UTC:20260726T104500
DTSTAMP:20260422T184459
CREATED:20260119T102908Z
LAST-MODIFIED:20260119T102908Z
UID:13396-1785059100-1785062700@www.belhusparkchapel.co.uk
SUMMARY:Explorers
DESCRIPTION:
URL:https://www.belhusparkchapel.co.uk/calendar/explorers-3/2026-07-26/
LOCATION:Belhus Park Chapel
END:VEVENT
BEGIN:VEVENT
DTSTART;TZID=UTC:20260802T094500
DTEND;TZID=UTC:20260802T104500
DTSTAMP:20260422T184459
CREATED:20260119T102908Z
LAST-MODIFIED:20260119T102908Z
UID:13397-1785663900-1785667500@www.belhusparkchapel.co.uk
SUMMARY:Explorers
DESCRIPTION:
URL:https://www.belhusparkchapel.co.uk/calendar/explorers-3/2026-08-02/
LOCATION:Belhus Park Chapel
END:VEVENT
BEGIN:VEVENT
DTSTART;TZID=UTC:20260809T094500
DTEND;TZID=UTC:20260809T104500
DTSTAMP:20260422T184459
CREATED:20260119T102908Z
LAST-MODIFIED:20260119T102908Z
UID:13398-1786268700-1786272300@www.belhusparkchapel.co.uk
SUMMARY:Explorers
DESCRIPTION:
URL:https://www.belhusparkchapel.co.uk/calendar/explorers-3/2026-08-09/
LOCATION:Belhus Park Chapel
END:VEVENT
BEGIN:VEVENT
DTSTART;TZID=UTC:20260816T094500
DTEND;TZID=UTC:20260816T104500
DTSTAMP:20260422T184459
CREATED:20260119T102908Z
LAST-MODIFIED:20260119T102908Z
UID:13399-1786873500-1786877100@www.belhusparkchapel.co.uk
SUMMARY:Explorers
DESCRIPTION:
URL:https://www.belhusparkchapel.co.uk/calendar/explorers-3/2026-08-16/
LOCATION:Belhus Park Chapel
END:VEVENT
BEGIN:VEVENT
DTSTART;TZID=UTC:20260823T094500
DTEND;TZID=UTC:20260823T104500
DTSTAMP:20260422T184459
CREATED:20260119T102908Z
LAST-MODIFIED:20260119T102908Z
UID:13400-1787478300-1787481900@www.belhusparkchapel.co.uk
SUMMARY:Explorers
DESCRIPTION:
URL:https://www.belhusparkchapel.co.uk/calendar/explorers-3/2026-08-23/
LOCATION:Belhus Park Chapel
END:VEVENT
BEGIN:VEVENT
DTSTART;TZID=UTC:20260830T094500
DTEND;TZID=UTC:20260830T104500
DTSTAMP:20260422T184459
CREATED:20260119T102908Z
LAST-MODIFIED:20260119T102908Z
UID:13401-1788083100-1788086700@www.belhusparkchapel.co.uk
SUMMARY:Explorers
DESCRIPTION:
URL:https://www.belhusparkchapel.co.uk/calendar/explorers-3/2026-08-30/
LOCATION:Belhus Park Chapel
END:VEVENT
BEGIN:VEVENT
DTSTART;TZID=UTC:20260906T094500
DTEND;TZID=UTC:20260906T104500
DTSTAMP:20260422T184459
CREATED:20260119T102908Z
LAST-MODIFIED:20260119T102908Z
UID:13402-1788687900-1788691500@www.belhusparkchapel.co.uk
SUMMARY:Explorers
DESCRIPTION:
URL:https://www.belhusparkchapel.co.uk/calendar/explorers-3/2026-09-06/
LOCATION:Belhus Park Chapel
END:VEVENT
BEGIN:VEVENT
DTSTART;TZID=UTC:20260913T094500
DTEND;TZID=UTC:20260913T104500
DTSTAMP:20260422T184459
CREATED:20260119T102908Z
LAST-MODIFIED:20260119T102908Z
UID:13403-1789292700-1789296300@www.belhusparkchapel.co.uk
SUMMARY:Explorers
DESCRIPTION:
URL:https://www.belhusparkchapel.co.uk/calendar/explorers-3/2026-09-13/
LOCATION:Belhus Park Chapel
END:VEVENT
BEGIN:VEVENT
DTSTART;TZID=UTC:20260920T094500
DTEND;TZID=UTC:20260920T104500
DTSTAMP:20260422T184459
CREATED:20260119T102908Z
LAST-MODIFIED:20260119T102908Z
UID:13404-1789897500-1789901100@www.belhusparkchapel.co.uk
SUMMARY:Explorers
DESCRIPTION:
URL:https://www.belhusparkchapel.co.uk/calendar/explorers-3/2026-09-20/
LOCATION:Belhus Park Chapel
END:VEVENT
BEGIN:VEVENT
DTSTART;TZID=UTC:20260927T094500
DTEND;TZID=UTC:20260927T104500
DTSTAMP:20260422T184459
CREATED:20260119T102908Z
LAST-MODIFIED:20260119T102908Z
UID:13405-1790502300-1790505900@www.belhusparkchapel.co.uk
SUMMARY:Explorers
DESCRIPTION:
URL:https://www.belhusparkchapel.co.uk/calendar/explorers-3/2026-09-27/
LOCATION:Belhus Park Chapel
END:VEVENT
BEGIN:VEVENT
DTSTART;TZID=UTC:20261004T094500
DTEND;TZID=UTC:20261004T104500
DTSTAMP:20260422T184459
CREATED:20260119T102908Z
LAST-MODIFIED:20260119T102908Z
UID:13406-1791107100-1791110700@www.belhusparkchapel.co.uk
SUMMARY:Explorers
DESCRIPTION:
URL:https://www.belhusparkchapel.co.uk/calendar/explorers-3/2026-10-04/
LOCATION:Belhus Park Chapel
END:VEVENT
BEGIN:VEVENT
DTSTART;TZID=UTC:20261011T094500
DTEND;TZID=UTC:20261011T104500
DTSTAMP:20260422T184459
CREATED:20260119T102908Z
LAST-MODIFIED:20260119T102908Z
UID:13407-1791711900-1791715500@www.belhusparkchapel.co.uk
SUMMARY:Explorers
DESCRIPTION:
URL:https://www.belhusparkchapel.co.uk/calendar/explorers-3/2026-10-11/
LOCATION:Belhus Park Chapel
END:VEVENT
BEGIN:VEVENT
DTSTART;TZID=UTC:20261018T094500
DTEND;TZID=UTC:20261018T104500
DTSTAMP:20260422T184459
CREATED:20260119T102908Z
LAST-MODIFIED:20260119T102908Z
UID:13408-1792316700-1792320300@www.belhusparkchapel.co.uk
SUMMARY:Explorers
DESCRIPTION:
URL:https://www.belhusparkchapel.co.uk/calendar/explorers-3/2026-10-18/
LOCATION:Belhus Park Chapel
END:VEVENT
BEGIN:VEVENT
DTSTART;TZID=UTC:20261025T094500
DTEND;TZID=UTC:20261025T104500
DTSTAMP:20260422T184459
CREATED:20260119T102908Z
LAST-MODIFIED:20260119T102908Z
UID:13409-1792921500-1792925100@www.belhusparkchapel.co.uk
SUMMARY:Explorers
DESCRIPTION:
URL:https://www.belhusparkchapel.co.uk/calendar/explorers-3/2026-10-25/
LOCATION:Belhus Park Chapel
END:VEVENT
BEGIN:VEVENT
DTSTART;TZID=UTC:20261101T094500
DTEND;TZID=UTC:20261101T104500
DTSTAMP:20260422T184459
CREATED:20260119T102908Z
LAST-MODIFIED:20260119T102908Z
UID:13410-1793526300-1793529900@www.belhusparkchapel.co.uk
SUMMARY:Explorers
DESCRIPTION:
URL:https://www.belhusparkchapel.co.uk/calendar/explorers-3/2026-11-01/
LOCATION:Belhus Park Chapel
END:VEVENT
BEGIN:VEVENT
DTSTART;TZID=UTC:20261108T094500
DTEND;TZID=UTC:20261108T104500
DTSTAMP:20260422T184459
CREATED:20260119T102908Z
LAST-MODIFIED:20260119T102908Z
UID:13411-1794131100-1794134700@www.belhusparkchapel.co.uk
SUMMARY:Explorers
DESCRIPTION:
URL:https://www.belhusparkchapel.co.uk/calendar/explorers-3/2026-11-08/
LOCATION:Belhus Park Chapel
END:VEVENT
BEGIN:VEVENT
DTSTART;TZID=UTC:20261115T094500
DTEND;TZID=UTC:20261115T104500
DTSTAMP:20260422T184459
CREATED:20260119T102908Z
LAST-MODIFIED:20260119T102908Z
UID:13412-1794735900-1794739500@www.belhusparkchapel.co.uk
SUMMARY:Explorers
DESCRIPTION:
URL:https://www.belhusparkchapel.co.uk/calendar/explorers-3/2026-11-15/
LOCATION:Belhus Park Chapel
END:VEVENT
END:VCALENDAR