BEGIN:VCALENDAR
VERSION:2.0
PRODID:-//Belhus Park Chapel - ECPv6.15.14//NONSGML v1.0//EN
CALSCALE:GREGORIAN
METHOD:PUBLISH
X-WR-CALNAME:Belhus Park Chapel
X-ORIGINAL-URL:https://www.belhusparkchapel.co.uk
X-WR-CALDESC:Events for Belhus Park Chapel
REFRESH-INTERVAL;VALUE=DURATION:PT1H
X-Robots-Tag:noindex
X-PUBLISHED-TTL:PT1H
BEGIN:VTIMEZONE
TZID:UTC
BEGIN:STANDARD
TZOFFSETFROM:+0000
TZOFFSETTO:+0000
TZNAME:UTC
DTSTART:20170101T000000
END:STANDARD
END:VTIMEZONE
BEGIN:VEVENT
DTSTART;VALUE=DATE:20180409
DTEND;VALUE=DATE:20180410
DTSTAMP:20260425T234110
CREATED:20180122T190536Z
LAST-MODIFIED:20180122T190635Z
UID:7184-1523232000-1523318399@www.belhusparkchapel.co.uk
SUMMARY:Holiday Club - Mission Impossible
DESCRIPTION:More information soon.
URL:https://www.belhusparkchapel.co.uk/calendar/holiday-club-mission-impossible/2018-04-09/
END:VEVENT
END:VCALENDAR