BEGIN:VCALENDAR
VERSION:2.0
PRODID:-//Belhus Park Chapel - ECPv6.15.14//NONSGML v1.0//EN
CALSCALE:GREGORIAN
METHOD:PUBLISH
X-WR-CALNAME:Belhus Park Chapel
X-ORIGINAL-URL:https://www.belhusparkchapel.co.uk
X-WR-CALDESC:Events for Belhus Park Chapel
REFRESH-INTERVAL;VALUE=DURATION:PT1H
X-Robots-Tag:noindex
X-PUBLISHED-TTL:PT1H
BEGIN:VTIMEZONE
TZID:UTC
BEGIN:STANDARD
TZOFFSETFROM:+0000
TZOFFSETTO:+0000
TZNAME:UTC
DTSTART:20230101T000000
END:STANDARD
END:VTIMEZONE
BEGIN:VEVENT
DTSTART;TZID=UTC:20241217T124500
DTEND;TZID=UTC:20241217T134500
DTSTAMP:20260421T090136
CREATED:20231213T223007Z
LAST-MODIFIED:20231213T223007Z
UID:12277-1734439500-1734443100@www.belhusparkchapel.co.uk
SUMMARY:Lunch Club
DESCRIPTION:
URL:https://www.belhusparkchapel.co.uk/calendar/lunch-club-3/2024-12-17/
LOCATION:Belhus Park Chapel
END:VEVENT
BEGIN:VEVENT
DTSTART;TZID=UTC:20241210T124500
DTEND;TZID=UTC:20241210T134500
DTSTAMP:20260421T090136
CREATED:20231213T223007Z
LAST-MODIFIED:20231213T223007Z
UID:12276-1733834700-1733838300@www.belhusparkchapel.co.uk
SUMMARY:Lunch Club
DESCRIPTION:
URL:https://www.belhusparkchapel.co.uk/calendar/lunch-club-3/2024-12-10/
LOCATION:Belhus Park Chapel
END:VEVENT
BEGIN:VEVENT
DTSTART;TZID=UTC:20241203T124500
DTEND;TZID=UTC:20241203T134500
DTSTAMP:20260421T090136
CREATED:20231213T223007Z
LAST-MODIFIED:20231213T223007Z
UID:12275-1733229900-1733233500@www.belhusparkchapel.co.uk
SUMMARY:Lunch Club
DESCRIPTION:
URL:https://www.belhusparkchapel.co.uk/calendar/lunch-club-3/2024-12-03/
LOCATION:Belhus Park Chapel
END:VEVENT
BEGIN:VEVENT
DTSTART;TZID=UTC:20241126T124500
DTEND;TZID=UTC:20241126T134500
DTSTAMP:20260421T090136
CREATED:20231213T223007Z
LAST-MODIFIED:20231213T223007Z
UID:12274-1732625100-1732628700@www.belhusparkchapel.co.uk
SUMMARY:Lunch Club
DESCRIPTION:
URL:https://www.belhusparkchapel.co.uk/calendar/lunch-club-3/2024-11-26/
LOCATION:Belhus Park Chapel
END:VEVENT
BEGIN:VEVENT
DTSTART;TZID=UTC:20241119T124500
DTEND;TZID=UTC:20241119T134500
DTSTAMP:20260421T090136
CREATED:20231213T223007Z
LAST-MODIFIED:20231213T223007Z
UID:12273-1732020300-1732023900@www.belhusparkchapel.co.uk
SUMMARY:Lunch Club
DESCRIPTION:
URL:https://www.belhusparkchapel.co.uk/calendar/lunch-club-3/2024-11-19/
LOCATION:Belhus Park Chapel
END:VEVENT
BEGIN:VEVENT
DTSTART;TZID=UTC:20241112T124500
DTEND;TZID=UTC:20241112T134500
DTSTAMP:20260421T090136
CREATED:20231213T223007Z
LAST-MODIFIED:20231213T223007Z
UID:12272-1731415500-1731419100@www.belhusparkchapel.co.uk
SUMMARY:Lunch Club
DESCRIPTION:
URL:https://www.belhusparkchapel.co.uk/calendar/lunch-club-3/2024-11-12/
LOCATION:Belhus Park Chapel
END:VEVENT
BEGIN:VEVENT
DTSTART;TZID=UTC:20241105T124500
DTEND;TZID=UTC:20241105T134500
DTSTAMP:20260421T090136
CREATED:20231213T223007Z
LAST-MODIFIED:20231213T223007Z
UID:12271-1730810700-1730814300@www.belhusparkchapel.co.uk
SUMMARY:Lunch Club
DESCRIPTION:
URL:https://www.belhusparkchapel.co.uk/calendar/lunch-club-3/2024-11-05/
LOCATION:Belhus Park Chapel
END:VEVENT
BEGIN:VEVENT
DTSTART;TZID=UTC:20241015T124500
DTEND;TZID=UTC:20241015T134500
DTSTAMP:20260421T090136
CREATED:20231213T223007Z
LAST-MODIFIED:20231213T223007Z
UID:12268-1728996300-1728999900@www.belhusparkchapel.co.uk
SUMMARY:Lunch Club
DESCRIPTION:
URL:https://www.belhusparkchapel.co.uk/calendar/lunch-club-3/2024-10-15/
LOCATION:Belhus Park Chapel
END:VEVENT
BEGIN:VEVENT
DTSTART;TZID=UTC:20241008T124500
DTEND;TZID=UTC:20241008T134500
DTSTAMP:20260421T090136
CREATED:20231213T223007Z
LAST-MODIFIED:20231213T223007Z
UID:12267-1728391500-1728395100@www.belhusparkchapel.co.uk
SUMMARY:Lunch Club
DESCRIPTION:
URL:https://www.belhusparkchapel.co.uk/calendar/lunch-club-3/2024-10-08/
LOCATION:Belhus Park Chapel
END:VEVENT
BEGIN:VEVENT
DTSTART;TZID=UTC:20241001T124500
DTEND;TZID=UTC:20241001T134500
DTSTAMP:20260421T090136
CREATED:20231213T223007Z
LAST-MODIFIED:20231213T223007Z
UID:12266-1727786700-1727790300@www.belhusparkchapel.co.uk
SUMMARY:Lunch Club
DESCRIPTION:
URL:https://www.belhusparkchapel.co.uk/calendar/lunch-club-3/2024-10-01/
LOCATION:Belhus Park Chapel
END:VEVENT
BEGIN:VEVENT
DTSTART;TZID=UTC:20240924T124500
DTEND;TZID=UTC:20240924T134500
DTSTAMP:20260421T090136
CREATED:20231213T223007Z
LAST-MODIFIED:20231213T223007Z
UID:12265-1727181900-1727185500@www.belhusparkchapel.co.uk
SUMMARY:Lunch Club
DESCRIPTION:
URL:https://www.belhusparkchapel.co.uk/calendar/lunch-club-3/2024-09-24/
LOCATION:Belhus Park Chapel
END:VEVENT
BEGIN:VEVENT
DTSTART;TZID=UTC:20240917T124500
DTEND;TZID=UTC:20240917T134500
DTSTAMP:20260421T090136
CREATED:20231213T223007Z
LAST-MODIFIED:20231213T223007Z
UID:12264-1726577100-1726580700@www.belhusparkchapel.co.uk
SUMMARY:Lunch Club
DESCRIPTION:
URL:https://www.belhusparkchapel.co.uk/calendar/lunch-club-3/2024-09-17/
LOCATION:Belhus Park Chapel
END:VEVENT
BEGIN:VEVENT
DTSTART;TZID=UTC:20240910T124500
DTEND;TZID=UTC:20240910T134500
DTSTAMP:20260421T090136
CREATED:20231213T223007Z
LAST-MODIFIED:20231213T223007Z
UID:12263-1725972300-1725975900@www.belhusparkchapel.co.uk
SUMMARY:Lunch Club
DESCRIPTION:
URL:https://www.belhusparkchapel.co.uk/calendar/lunch-club-3/2024-09-10/
LOCATION:Belhus Park Chapel
END:VEVENT
BEGIN:VEVENT
DTSTART;TZID=UTC:20240903T124500
DTEND;TZID=UTC:20240903T134500
DTSTAMP:20260421T090136
CREATED:20231213T223007Z
LAST-MODIFIED:20231213T223007Z
UID:12262-1725367500-1725371100@www.belhusparkchapel.co.uk
SUMMARY:Lunch Club
DESCRIPTION:
URL:https://www.belhusparkchapel.co.uk/calendar/lunch-club-3/2024-09-03/
LOCATION:Belhus Park Chapel
END:VEVENT
BEGIN:VEVENT
DTSTART;TZID=UTC:20240716T124500
DTEND;TZID=UTC:20240716T134500
DTSTAMP:20260421T090136
CREATED:20231213T223007Z
LAST-MODIFIED:20231213T223007Z
UID:12255-1721133900-1721137500@www.belhusparkchapel.co.uk
SUMMARY:Lunch Club
DESCRIPTION:
URL:https://www.belhusparkchapel.co.uk/calendar/lunch-club-3/2024-07-16/
LOCATION:Belhus Park Chapel
END:VEVENT
BEGIN:VEVENT
DTSTART;TZID=UTC:20240709T124500
DTEND;TZID=UTC:20240709T134500
DTSTAMP:20260421T090136
CREATED:20231213T223007Z
LAST-MODIFIED:20231213T223007Z
UID:12254-1720529100-1720532700@www.belhusparkchapel.co.uk
SUMMARY:Lunch Club
DESCRIPTION:
URL:https://www.belhusparkchapel.co.uk/calendar/lunch-club-3/2024-07-09/
LOCATION:Belhus Park Chapel
END:VEVENT
BEGIN:VEVENT
DTSTART;TZID=UTC:20240702T124500
DTEND;TZID=UTC:20240702T134500
DTSTAMP:20260421T090136
CREATED:20231213T223007Z
LAST-MODIFIED:20231213T223007Z
UID:12253-1719924300-1719927900@www.belhusparkchapel.co.uk
SUMMARY:Lunch Club
DESCRIPTION:
URL:https://www.belhusparkchapel.co.uk/calendar/lunch-club-3/2024-07-02/
LOCATION:Belhus Park Chapel
END:VEVENT
BEGIN:VEVENT
DTSTART;TZID=UTC:20240625T124500
DTEND;TZID=UTC:20240625T134500
DTSTAMP:20260421T090136
CREATED:20231213T223007Z
LAST-MODIFIED:20231213T223007Z
UID:12252-1719319500-1719323100@www.belhusparkchapel.co.uk
SUMMARY:Lunch Club
DESCRIPTION:
URL:https://www.belhusparkchapel.co.uk/calendar/lunch-club-3/2024-06-25/
LOCATION:Belhus Park Chapel
END:VEVENT
BEGIN:VEVENT
DTSTART;TZID=UTC:20240618T124500
DTEND;TZID=UTC:20240618T134500
DTSTAMP:20260421T090136
CREATED:20231213T223007Z
LAST-MODIFIED:20231213T223007Z
UID:12251-1718714700-1718718300@www.belhusparkchapel.co.uk
SUMMARY:Lunch Club
DESCRIPTION:
URL:https://www.belhusparkchapel.co.uk/calendar/lunch-club-3/2024-06-18/
LOCATION:Belhus Park Chapel
END:VEVENT
BEGIN:VEVENT
DTSTART;TZID=UTC:20240611T124500
DTEND;TZID=UTC:20240611T134500
DTSTAMP:20260421T090136
CREATED:20231213T223007Z
LAST-MODIFIED:20231213T223007Z
UID:12250-1718109900-1718113500@www.belhusparkchapel.co.uk
SUMMARY:Lunch Club
DESCRIPTION:
URL:https://www.belhusparkchapel.co.uk/calendar/lunch-club-3/2024-06-11/
LOCATION:Belhus Park Chapel
END:VEVENT
BEGIN:VEVENT
DTSTART;TZID=UTC:20240604T124500
DTEND;TZID=UTC:20240604T134500
DTSTAMP:20260421T090136
CREATED:20231213T223007Z
LAST-MODIFIED:20231213T223007Z
UID:12249-1717505100-1717508700@www.belhusparkchapel.co.uk
SUMMARY:Lunch Club
DESCRIPTION:
URL:https://www.belhusparkchapel.co.uk/calendar/lunch-club-3/2024-06-04/
LOCATION:Belhus Park Chapel
END:VEVENT
BEGIN:VEVENT
DTSTART;TZID=UTC:20240521T124500
DTEND;TZID=UTC:20240521T134500
DTSTAMP:20260421T090136
CREATED:20231213T223007Z
LAST-MODIFIED:20231213T223007Z
UID:12247-1716295500-1716299100@www.belhusparkchapel.co.uk
SUMMARY:Lunch Club
DESCRIPTION:
URL:https://www.belhusparkchapel.co.uk/calendar/lunch-club-3/2024-05-21/
LOCATION:Belhus Park Chapel
END:VEVENT
BEGIN:VEVENT
DTSTART;TZID=UTC:20240514T124500
DTEND;TZID=UTC:20240514T134500
DTSTAMP:20260421T090136
CREATED:20231213T223007Z
LAST-MODIFIED:20231213T223007Z
UID:12246-1715690700-1715694300@www.belhusparkchapel.co.uk
SUMMARY:Lunch Club
DESCRIPTION:
URL:https://www.belhusparkchapel.co.uk/calendar/lunch-club-3/2024-05-14/
LOCATION:Belhus Park Chapel
END:VEVENT
BEGIN:VEVENT
DTSTART;TZID=UTC:20240507T124500
DTEND;TZID=UTC:20240507T134500
DTSTAMP:20260421T090136
CREATED:20231213T223007Z
LAST-MODIFIED:20231213T223007Z
UID:12245-1715085900-1715089500@www.belhusparkchapel.co.uk
SUMMARY:Lunch Club
DESCRIPTION:
URL:https://www.belhusparkchapel.co.uk/calendar/lunch-club-3/2024-05-07/
LOCATION:Belhus Park Chapel
END:VEVENT
BEGIN:VEVENT
DTSTART;TZID=UTC:20240430T124500
DTEND;TZID=UTC:20240430T134500
DTSTAMP:20260421T090136
CREATED:20231213T223007Z
LAST-MODIFIED:20231213T223007Z
UID:12244-1714481100-1714484700@www.belhusparkchapel.co.uk
SUMMARY:Lunch Club
DESCRIPTION:
URL:https://www.belhusparkchapel.co.uk/calendar/lunch-club-3/2024-04-30/
LOCATION:Belhus Park Chapel
END:VEVENT
BEGIN:VEVENT
DTSTART;TZID=UTC:20240423T124500
DTEND;TZID=UTC:20240423T134500
DTSTAMP:20260421T090136
CREATED:20231213T223007Z
LAST-MODIFIED:20231213T223007Z
UID:12243-1713876300-1713879900@www.belhusparkchapel.co.uk
SUMMARY:Lunch Club
DESCRIPTION:
URL:https://www.belhusparkchapel.co.uk/calendar/lunch-club-3/2024-04-23/
LOCATION:Belhus Park Chapel
END:VEVENT
BEGIN:VEVENT
DTSTART;TZID=UTC:20240109T124500
DTEND;TZID=UTC:20240109T134500
DTSTAMP:20260421T090136
CREATED:20231213T223007Z
LAST-MODIFIED:20231213T223007Z
UID:12227-1704804300-1704807900@www.belhusparkchapel.co.uk
SUMMARY:Lunch Club
DESCRIPTION:
URL:https://www.belhusparkchapel.co.uk/calendar/lunch-club-3/2024-01-09/
LOCATION:Belhus Park Chapel
END:VEVENT
END:VCALENDAR