BEGIN:VCALENDAR
VERSION:2.0
PRODID:-//Belhus Park Chapel - ECPv6.15.14//NONSGML v1.0//EN
CALSCALE:GREGORIAN
METHOD:PUBLISH
X-WR-CALNAME:Belhus Park Chapel
X-ORIGINAL-URL:https://www.belhusparkchapel.co.uk
X-WR-CALDESC:Events for Belhus Park Chapel
REFRESH-INTERVAL;VALUE=DURATION:PT1H
X-Robots-Tag:noindex
X-PUBLISHED-TTL:PT1H
BEGIN:VTIMEZONE
TZID:UTC
BEGIN:STANDARD
TZOFFSETFROM:+0000
TZOFFSETTO:+0000
TZNAME:UTC
DTSTART:20180101T000000
END:STANDARD
END:VTIMEZONE
BEGIN:VEVENT
DTSTART;TZID=UTC:20190303T111500
DTEND;TZID=UTC:20190303T123000
DTSTAMP:20260424T233300
CREATED:20181105T095935Z
LAST-MODIFIED:20190212T094359Z
UID:7854-1551611700-1551616200@www.belhusparkchapel.co.uk
SUMMARY:Family Service - Alan Hobbs
DESCRIPTION:Followed by refreshments
URL:https://www.belhusparkchapel.co.uk/calendar/morning-service-2019-03-03/
END:VEVENT
BEGIN:VEVENT
DTSTART;TZID=UTC:20190303T183000
DTEND;TZID=UTC:20190303T193000
DTSTAMP:20260424T233300
CREATED:20181105T100103Z
LAST-MODIFIED:20190212T094453Z
UID:7951-1551637800-1551641400@www.belhusparkchapel.co.uk
SUMMARY:Evening Service - Pastor Julian Rogers
DESCRIPTION:
URL:https://www.belhusparkchapel.co.uk/calendar/evening-service-2-2019-03-03/
END:VEVENT
BEGIN:VEVENT
DTSTART;TZID=UTC:20190310T111500
DTEND;TZID=UTC:20190310T123000
DTSTAMP:20260424T233300
CREATED:20181105T095935Z
LAST-MODIFIED:20190212T094538Z
UID:7855-1552216500-1552221000@www.belhusparkchapel.co.uk
SUMMARY:Morning Service - Pastor Julian Rogers
DESCRIPTION:
URL:https://www.belhusparkchapel.co.uk/calendar/morning-service-2019-03-10/
END:VEVENT
BEGIN:VEVENT
DTSTART;TZID=UTC:20190310T183000
DTEND;TZID=UTC:20190310T193000
DTSTAMP:20260424T233300
CREATED:20181105T100103Z
LAST-MODIFIED:20190212T094612Z
UID:7952-1552242600-1552246200@www.belhusparkchapel.co.uk
SUMMARY:Evening Service - Pastor Bill Gardner
DESCRIPTION:
URL:https://www.belhusparkchapel.co.uk/calendar/evening-service-2-2019-03-10/
END:VEVENT
BEGIN:VEVENT
DTSTART;TZID=UTC:20190317T111500
DTEND;TZID=UTC:20190317T123000
DTSTAMP:20260424T233300
CREATED:20181105T095935Z
LAST-MODIFIED:20190212T094705Z
UID:7856-1552821300-1552825800@www.belhusparkchapel.co.uk
SUMMARY:Morning Service - Pastor Maurice Titmarsh
DESCRIPTION:
URL:https://www.belhusparkchapel.co.uk/calendar/morning-service-2019-03-17/
END:VEVENT
BEGIN:VEVENT
DTSTART;TZID=UTC:20190317T183000
DTEND;TZID=UTC:20190317T193000
DTSTAMP:20260424T233300
CREATED:20181105T100103Z
LAST-MODIFIED:20190212T094818Z
UID:7953-1552847400-1552851000@www.belhusparkchapel.co.uk
SUMMARY:Discovery Service - Pastor Maurice Titmarsh
DESCRIPTION:Followed by hot buffet
URL:https://www.belhusparkchapel.co.uk/calendar/evening-service-2-2019-03-17/
END:VEVENT
BEGIN:VEVENT
DTSTART;TZID=UTC:20190324T111500
DTEND;TZID=UTC:20190324T123000
DTSTAMP:20260424T233300
CREATED:20181105T095935Z
LAST-MODIFIED:20190212T094902Z
UID:7857-1553426100-1553430600@www.belhusparkchapel.co.uk
SUMMARY:Morning Service - Pastor Julian Rogers
DESCRIPTION:
URL:https://www.belhusparkchapel.co.uk/calendar/morning-service-2019-03-24/
END:VEVENT
BEGIN:VEVENT
DTSTART;TZID=UTC:20190324T183000
DTEND;TZID=UTC:20190324T193000
DTSTAMP:20260424T233300
CREATED:20181105T100103Z
LAST-MODIFIED:20190212T094940Z
UID:7954-1553452200-1553455800@www.belhusparkchapel.co.uk
SUMMARY:Evening Service - Oliver Neill
DESCRIPTION:
URL:https://www.belhusparkchapel.co.uk/calendar/evening-service-2-2019-03-24/
END:VEVENT
BEGIN:VEVENT
DTSTART;TZID=UTC:20190331T111500
DTEND;TZID=UTC:20190331T123000
DTSTAMP:20260424T233300
CREATED:20181105T095935Z
LAST-MODIFIED:20190212T095041Z
UID:7858-1554030900-1554035400@www.belhusparkchapel.co.uk
SUMMARY:Morning Service - Pastor Ray Birch
DESCRIPTION:
URL:https://www.belhusparkchapel.co.uk/calendar/morning-service-2019-03-31/
END:VEVENT
BEGIN:VEVENT
DTSTART;TZID=UTC:20190331T183000
DTEND;TZID=UTC:20190331T193000
DTSTAMP:20260424T233300
CREATED:20181105T100103Z
LAST-MODIFIED:20190212T095119Z
UID:7955-1554057000-1554060600@www.belhusparkchapel.co.uk
SUMMARY:Evening Service - Pastor Julian Rogers
DESCRIPTION:
URL:https://www.belhusparkchapel.co.uk/calendar/evening-service-2-2019-03-31/
END:VEVENT
END:VCALENDAR