BEGIN:VCALENDAR
VERSION:2.0
PRODID:-//Belhus Park Chapel - ECPv6.15.14//NONSGML v1.0//EN
CALSCALE:GREGORIAN
METHOD:PUBLISH
X-WR-CALNAME:Belhus Park Chapel
X-ORIGINAL-URL:https://www.belhusparkchapel.co.uk
X-WR-CALDESC:Events for Belhus Park Chapel
REFRESH-INTERVAL;VALUE=DURATION:PT1H
X-Robots-Tag:noindex
X-PUBLISHED-TTL:PT1H
BEGIN:VTIMEZONE
TZID:UTC
BEGIN:STANDARD
TZOFFSETFROM:+0000
TZOFFSETTO:+0000
TZNAME:UTC
DTSTART:20180101T000000
END:STANDARD
END:VTIMEZONE
BEGIN:VEVENT
DTSTART;TZID=UTC:20190901T111500
DTEND;TZID=UTC:20190901T123000
DTSTAMP:20260424T220024
CREATED:20181105T095935Z
LAST-MODIFIED:20190809T084940Z
UID:7880-1567336500-1567341000@www.belhusparkchapel.co.uk
SUMMARY:Family Service - Alan Hobbs
DESCRIPTION:Followed by refreshments
URL:https://www.belhusparkchapel.co.uk/calendar/morning-service-2019-09-01/
END:VEVENT
BEGIN:VEVENT
DTSTART;TZID=UTC:20190901T183000
DTEND;TZID=UTC:20190901T193000
DTSTAMP:20260424T220024
CREATED:20181105T100103Z
LAST-MODIFIED:20190809T085027Z
UID:7977-1567362600-1567366200@www.belhusparkchapel.co.uk
SUMMARY:Evening Service - Pastor Julian Rogers
DESCRIPTION:
URL:https://www.belhusparkchapel.co.uk/calendar/evening-service-2-2019-09-01/
END:VEVENT
BEGIN:VEVENT
DTSTART;TZID=UTC:20190908T111500
DTEND;TZID=UTC:20190908T123000
DTSTAMP:20260424T220024
CREATED:20181105T095935Z
LAST-MODIFIED:20190809T085151Z
UID:7881-1567941300-1567945800@www.belhusparkchapel.co.uk
SUMMARY:Morning Service - Pastor Julian Rogers
DESCRIPTION:
URL:https://www.belhusparkchapel.co.uk/calendar/morning-service-2019-09-08/
END:VEVENT
BEGIN:VEVENT
DTSTART;TZID=UTC:20190908T183000
DTEND;TZID=UTC:20190908T193000
DTSTAMP:20260424T220024
CREATED:20181105T100103Z
LAST-MODIFIED:20190809T085237Z
UID:7978-1567967400-1567971000@www.belhusparkchapel.co.uk
SUMMARY:Evening Service - Pastor Keith White
DESCRIPTION:
URL:https://www.belhusparkchapel.co.uk/calendar/evening-service-2-2019-09-08/
END:VEVENT
BEGIN:VEVENT
DTSTART;TZID=UTC:20190910T103000
DTEND;TZID=UTC:20190910T120000
DTSTAMP:20260424T220024
CREATED:20181105T100219Z
LAST-MODIFIED:20190809T085316Z
UID:8075-1568111400-1568116800@www.belhusparkchapel.co.uk
SUMMARY:Coffee Plus
DESCRIPTION:
URL:https://www.belhusparkchapel.co.uk/calendar/coffee-morning-2-2019-09-10/
END:VEVENT
BEGIN:VEVENT
DTSTART;TZID=UTC:20190915T111500
DTEND;TZID=UTC:20190915T123000
DTSTAMP:20260424T220024
CREATED:20181105T095935Z
LAST-MODIFIED:20190809T085400Z
UID:7882-1568546100-1568550600@www.belhusparkchapel.co.uk
SUMMARY:Morning Service - Pastor Maurice Titmarsh
DESCRIPTION:
URL:https://www.belhusparkchapel.co.uk/calendar/morning-service-2019-09-15/
END:VEVENT
BEGIN:VEVENT
DTSTART;TZID=UTC:20190915T183000
DTEND;TZID=UTC:20190915T193000
DTSTAMP:20260424T220024
CREATED:20181105T100103Z
LAST-MODIFIED:20190809T085459Z
UID:7979-1568572200-1568575800@www.belhusparkchapel.co.uk
SUMMARY:Discovery Service - Pastor Maurice Titmarsh
DESCRIPTION:Followed by hot buffet
URL:https://www.belhusparkchapel.co.uk/calendar/evening-service-2-2019-09-15/
END:VEVENT
BEGIN:VEVENT
DTSTART;TZID=UTC:20190917T103000
DTEND;TZID=UTC:20190917T120000
DTSTAMP:20260424T220024
CREATED:20181105T100219Z
LAST-MODIFIED:20190809T085541Z
UID:8076-1568716200-1568721600@www.belhusparkchapel.co.uk
SUMMARY:Coffee Plus
DESCRIPTION:
URL:https://www.belhusparkchapel.co.uk/calendar/coffee-morning-2-2019-09-17/
END:VEVENT
BEGIN:VEVENT
DTSTART;TZID=UTC:20190922T111500
DTEND;TZID=UTC:20190922T123000
DTSTAMP:20260424T220024
CREATED:20181105T095935Z
LAST-MODIFIED:20190809T085622Z
UID:7883-1569150900-1569155400@www.belhusparkchapel.co.uk
SUMMARY:Morning Service - Pastor Julian Rogers
DESCRIPTION:
URL:https://www.belhusparkchapel.co.uk/calendar/morning-service-2019-09-22/
END:VEVENT
BEGIN:VEVENT
DTSTART;TZID=UTC:20190922T183000
DTEND;TZID=UTC:20190922T193000
DTSTAMP:20260424T220024
CREATED:20181105T100103Z
LAST-MODIFIED:20190809T085701Z
UID:7980-1569177000-1569180600@www.belhusparkchapel.co.uk
SUMMARY:Evening Service - Malcolm Wallace
DESCRIPTION:
URL:https://www.belhusparkchapel.co.uk/calendar/evening-service-2-2019-09-22/
END:VEVENT
BEGIN:VEVENT
DTSTART;TZID=UTC:20190924T103000
DTEND;TZID=UTC:20190924T120000
DTSTAMP:20260424T220024
CREATED:20181105T100219Z
LAST-MODIFIED:20190809T085724Z
UID:8077-1569321000-1569326400@www.belhusparkchapel.co.uk
SUMMARY:Coffee Plus
DESCRIPTION:
URL:https://www.belhusparkchapel.co.uk/calendar/coffee-morning-2-2019-09-24/
END:VEVENT
BEGIN:VEVENT
DTSTART;TZID=UTC:20190929T111500
DTEND;TZID=UTC:20190929T123000
DTSTAMP:20260424T220024
CREATED:20181105T095935Z
LAST-MODIFIED:20190809T085807Z
UID:7884-1569755700-1569760200@www.belhusparkchapel.co.uk
SUMMARY:Morning Service - Pastor Bill Gardner
DESCRIPTION:
URL:https://www.belhusparkchapel.co.uk/calendar/morning-service-2019-09-29/
END:VEVENT
BEGIN:VEVENT
DTSTART;TZID=UTC:20190929T183000
DTEND;TZID=UTC:20190929T193000
DTSTAMP:20260424T220024
CREATED:20181105T100103Z
LAST-MODIFIED:20190809T085839Z
UID:7981-1569781800-1569785400@www.belhusparkchapel.co.uk
SUMMARY:Evening Service - Pastor Julian Rogers
DESCRIPTION:
URL:https://www.belhusparkchapel.co.uk/calendar/evening-service-2-2019-09-29/
END:VEVENT
END:VCALENDAR