BEGIN:VCALENDAR
VERSION:2.0
PRODID:-//Belhus Park Chapel - ECPv6.15.14//NONSGML v1.0//EN
CALSCALE:GREGORIAN
METHOD:PUBLISH
X-WR-CALNAME:Belhus Park Chapel
X-ORIGINAL-URL:https://www.belhusparkchapel.co.uk
X-WR-CALDESC:Events for Belhus Park Chapel
REFRESH-INTERVAL;VALUE=DURATION:PT1H
X-Robots-Tag:noindex
X-PUBLISHED-TTL:PT1H
BEGIN:VTIMEZONE
TZID:UTC
BEGIN:STANDARD
TZOFFSETFROM:+0000
TZOFFSETTO:+0000
TZNAME:UTC
DTSTART:20180101T000000
END:STANDARD
END:VTIMEZONE
BEGIN:VEVENT
DTSTART;TZID=UTC:20191001T103000
DTEND;TZID=UTC:20191001T120000
DTSTAMP:20260422T214838
CREATED:20181105T100219Z
LAST-MODIFIED:20190809T085906Z
UID:8078-1569925800-1569931200@www.belhusparkchapel.co.uk
SUMMARY:Coffee Plus
DESCRIPTION:
URL:https://www.belhusparkchapel.co.uk/calendar/coffee-morning-2-2019-10-01/
END:VEVENT
BEGIN:VEVENT
DTSTART;TZID=UTC:20191006T111500
DTEND;TZID=UTC:20191006T123000
DTSTAMP:20260422T214838
CREATED:20181105T095935Z
LAST-MODIFIED:20190910T112851Z
UID:7885-1570360500-1570365000@www.belhusparkchapel.co.uk
SUMMARY:Harvest & Family Service - Pastor Mark Drury
DESCRIPTION:followed by refreshments
URL:https://www.belhusparkchapel.co.uk/calendar/morning-service-2019-10-06/
END:VEVENT
BEGIN:VEVENT
DTSTART;TZID=UTC:20191006T183000
DTEND;TZID=UTC:20191006T193000
DTSTAMP:20260422T214838
CREATED:20181105T100103Z
LAST-MODIFIED:20190910T113019Z
UID:7982-1570386600-1570390200@www.belhusparkchapel.co.uk
SUMMARY:Evening Harvest Service - Pastor Julian Rogers
DESCRIPTION:
URL:https://www.belhusparkchapel.co.uk/calendar/evening-service-2-2019-10-06/
END:VEVENT
BEGIN:VEVENT
DTSTART;TZID=UTC:20191008T103000
DTEND;TZID=UTC:20191008T120000
DTSTAMP:20260422T214838
CREATED:20181105T100219Z
LAST-MODIFIED:20190910T113050Z
UID:8079-1570530600-1570536000@www.belhusparkchapel.co.uk
SUMMARY:Coffee Plus
DESCRIPTION:
URL:https://www.belhusparkchapel.co.uk/calendar/coffee-morning-2-2019-10-08/
END:VEVENT
BEGIN:VEVENT
DTSTART;TZID=UTC:20191013T111500
DTEND;TZID=UTC:20191013T123000
DTSTAMP:20260422T214838
CREATED:20181105T095935Z
LAST-MODIFIED:20190910T113131Z
UID:7886-1570965300-1570969800@www.belhusparkchapel.co.uk
SUMMARY:Morning Service - Pastor Julian Rogers
DESCRIPTION:
URL:https://www.belhusparkchapel.co.uk/calendar/morning-service-2019-10-13/
END:VEVENT
BEGIN:VEVENT
DTSTART;TZID=UTC:20191013T183000
DTEND;TZID=UTC:20191013T193000
DTSTAMP:20260422T214838
CREATED:20181105T100103Z
LAST-MODIFIED:20190910T113212Z
UID:7983-1570991400-1570995000@www.belhusparkchapel.co.uk
SUMMARY:Evening Service - Iain Jamieson
DESCRIPTION:
URL:https://www.belhusparkchapel.co.uk/calendar/evening-service-2-2019-10-13/
END:VEVENT
BEGIN:VEVENT
DTSTART;TZID=UTC:20191015T103000
DTEND;TZID=UTC:20191015T120000
DTSTAMP:20260422T214838
CREATED:20181105T100219Z
LAST-MODIFIED:20190910T113238Z
UID:8080-1571135400-1571140800@www.belhusparkchapel.co.uk
SUMMARY:Coffee Plus
DESCRIPTION:
URL:https://www.belhusparkchapel.co.uk/calendar/coffee-morning-2-2019-10-15/
END:VEVENT
BEGIN:VEVENT
DTSTART;TZID=UTC:20191020T111500
DTEND;TZID=UTC:20191020T123000
DTSTAMP:20260422T214838
CREATED:20181105T095935Z
LAST-MODIFIED:20190910T113324Z
UID:7887-1571570100-1571574600@www.belhusparkchapel.co.uk
SUMMARY:Morning Service - Pastor Maurice Titmarsh
DESCRIPTION:
URL:https://www.belhusparkchapel.co.uk/calendar/morning-service-2019-10-20/
END:VEVENT
BEGIN:VEVENT
DTSTART;TZID=UTC:20191020T183000
DTEND;TZID=UTC:20191020T193000
DTSTAMP:20260422T214838
CREATED:20181105T100103Z
LAST-MODIFIED:20190910T113424Z
UID:7984-1571596200-1571599800@www.belhusparkchapel.co.uk
SUMMARY:Discovery Service - Pastor Maurice Titmarsh
DESCRIPTION:Followed by hot buffet
URL:https://www.belhusparkchapel.co.uk/calendar/evening-service-2-2019-10-20/
END:VEVENT
BEGIN:VEVENT
DTSTART;TZID=UTC:20191027T111500
DTEND;TZID=UTC:20191027T123000
DTSTAMP:20260422T214838
CREATED:20181105T095935Z
LAST-MODIFIED:20190910T113748Z
UID:7888-1572174900-1572179400@www.belhusparkchapel.co.uk
SUMMARY:Morning Service - Pastor Julian Rogers
DESCRIPTION:
URL:https://www.belhusparkchapel.co.uk/calendar/morning-service-2019-10-27/
END:VEVENT
BEGIN:VEVENT
DTSTART;TZID=UTC:20191027T183000
DTEND;TZID=UTC:20191027T193000
DTSTAMP:20260422T214838
CREATED:20181105T100103Z
LAST-MODIFIED:20190910T113827Z
UID:7985-1572201000-1572204600@www.belhusparkchapel.co.uk
SUMMARY:Evening Service - David Wood
DESCRIPTION:
URL:https://www.belhusparkchapel.co.uk/calendar/evening-service-2-2019-10-27/
END:VEVENT
END:VCALENDAR