BEGIN:VCALENDAR
VERSION:2.0
PRODID:-//Belhus Park Chapel - ECPv6.15.14//NONSGML v1.0//EN
CALSCALE:GREGORIAN
METHOD:PUBLISH
X-WR-CALNAME:Belhus Park Chapel
X-ORIGINAL-URL:https://www.belhusparkchapel.co.uk
X-WR-CALDESC:Events for Belhus Park Chapel
REFRESH-INTERVAL;VALUE=DURATION:PT1H
X-Robots-Tag:noindex
X-PUBLISHED-TTL:PT1H
BEGIN:VTIMEZONE
TZID:UTC
BEGIN:STANDARD
TZOFFSETFROM:+0000
TZOFFSETTO:+0000
TZNAME:UTC
DTSTART:20180101T000000
END:STANDARD
END:VTIMEZONE
BEGIN:VEVENT
DTSTART;TZID=UTC:20191103T111500
DTEND;TZID=UTC:20191103T123000
DTSTAMP:20260424T233305
CREATED:20181105T095935Z
LAST-MODIFIED:20191016T084744Z
UID:7889-1572779700-1572784200@www.belhusparkchapel.co.uk
SUMMARY:Family Service - Steve Gurnett
DESCRIPTION:Followed by refreshments
URL:https://www.belhusparkchapel.co.uk/calendar/morning-service-2019-11-03/
END:VEVENT
BEGIN:VEVENT
DTSTART;TZID=UTC:20191103T183000
DTEND;TZID=UTC:20191103T193000
DTSTAMP:20260424T233305
CREATED:20181105T100103Z
LAST-MODIFIED:20191016T084841Z
UID:7986-1572805800-1572809400@www.belhusparkchapel.co.uk
SUMMARY:Evening Service - Pastor Julian Rogers
DESCRIPTION:
URL:https://www.belhusparkchapel.co.uk/calendar/evening-service-2-2019-11-03/
END:VEVENT
BEGIN:VEVENT
DTSTART;TZID=UTC:20191105T103000
DTEND;TZID=UTC:20191105T120000
DTSTAMP:20260424T233305
CREATED:20181105T100219Z
LAST-MODIFIED:20191016T084923Z
UID:8083-1572949800-1572955200@www.belhusparkchapel.co.uk
SUMMARY:Coffee Plus
DESCRIPTION:
URL:https://www.belhusparkchapel.co.uk/calendar/coffee-morning-2-2019-11-05/
END:VEVENT
BEGIN:VEVENT
DTSTART;TZID=UTC:20191110T111500
DTEND;TZID=UTC:20191110T123000
DTSTAMP:20260424T233305
CREATED:20181105T095935Z
LAST-MODIFIED:20191016T085138Z
UID:7890-1573384500-1573389000@www.belhusparkchapel.co.uk
SUMMARY:Morning Service - Pastor Julian Rogers (11am START)
DESCRIPTION:
URL:https://www.belhusparkchapel.co.uk/calendar/morning-service-2019-11-10/
END:VEVENT
BEGIN:VEVENT
DTSTART;TZID=UTC:20191110T183000
DTEND;TZID=UTC:20191110T193000
DTSTAMP:20260424T233305
CREATED:20181105T100103Z
LAST-MODIFIED:20191016T085331Z
UID:7987-1573410600-1573414200@www.belhusparkchapel.co.uk
SUMMARY:Evening Service - Chris Knowles
DESCRIPTION:
URL:https://www.belhusparkchapel.co.uk/calendar/evening-service-2-2019-11-10/
END:VEVENT
BEGIN:VEVENT
DTSTART;TZID=UTC:20191112T103000
DTEND;TZID=UTC:20191112T120000
DTSTAMP:20260424T233305
CREATED:20181105T100219Z
LAST-MODIFIED:20191016T085405Z
UID:8084-1573554600-1573560000@www.belhusparkchapel.co.uk
SUMMARY:Coffee Plus
DESCRIPTION:
URL:https://www.belhusparkchapel.co.uk/calendar/coffee-morning-2-2019-11-12/
END:VEVENT
BEGIN:VEVENT
DTSTART;TZID=UTC:20191117T111500
DTEND;TZID=UTC:20191117T123000
DTSTAMP:20260424T233305
CREATED:20181105T095935Z
LAST-MODIFIED:20191016T085450Z
UID:7891-1573989300-1573993800@www.belhusparkchapel.co.uk
SUMMARY:Morning Service - Pastor Maurice Titmarsh
DESCRIPTION:
URL:https://www.belhusparkchapel.co.uk/calendar/morning-service-2019-11-17/
END:VEVENT
BEGIN:VEVENT
DTSTART;TZID=UTC:20191117T183000
DTEND;TZID=UTC:20191117T193000
DTSTAMP:20260424T233305
CREATED:20181105T100103Z
LAST-MODIFIED:20191016T085541Z
UID:7988-1574015400-1574019000@www.belhusparkchapel.co.uk
SUMMARY:Discovery Service - Pastor Maurice Titmarsh
DESCRIPTION:Followed by hot buffet
URL:https://www.belhusparkchapel.co.uk/calendar/evening-service-2-2019-11-17/
END:VEVENT
BEGIN:VEVENT
DTSTART;TZID=UTC:20191119T103000
DTEND;TZID=UTC:20191119T120000
DTSTAMP:20260424T233305
CREATED:20181105T100219Z
LAST-MODIFIED:20191016T085618Z
UID:8085-1574159400-1574164800@www.belhusparkchapel.co.uk
SUMMARY:Coffee Plus
DESCRIPTION:
URL:https://www.belhusparkchapel.co.uk/calendar/coffee-morning-2-2019-11-19/
END:VEVENT
BEGIN:VEVENT
DTSTART;TZID=UTC:20191124T111500
DTEND;TZID=UTC:20191124T123000
DTSTAMP:20260424T233305
CREATED:20181105T095935Z
LAST-MODIFIED:20191016T085656Z
UID:7892-1574594100-1574598600@www.belhusparkchapel.co.uk
SUMMARY:Morning Service - Pastor Julian Rogers
DESCRIPTION:
URL:https://www.belhusparkchapel.co.uk/calendar/morning-service-2019-11-24/
END:VEVENT
BEGIN:VEVENT
DTSTART;TZID=UTC:20191124T183000
DTEND;TZID=UTC:20191124T193000
DTSTAMP:20260424T233305
CREATED:20181105T100103Z
LAST-MODIFIED:20191016T085743Z
UID:7989-1574620200-1574623800@www.belhusparkchapel.co.uk
SUMMARY:Evening Service - Harry Vallance
DESCRIPTION:
URL:https://www.belhusparkchapel.co.uk/calendar/evening-service-2-2019-11-24/
END:VEVENT
BEGIN:VEVENT
DTSTART;TZID=UTC:20191126T103000
DTEND;TZID=UTC:20191126T120000
DTSTAMP:20260424T233305
CREATED:20181105T100219Z
LAST-MODIFIED:20191016T085818Z
UID:8086-1574764200-1574769600@www.belhusparkchapel.co.uk
SUMMARY:Coffee Plus
DESCRIPTION:
URL:https://www.belhusparkchapel.co.uk/calendar/coffee-morning-2-2019-11-26/
END:VEVENT
END:VCALENDAR