BEGIN:VCALENDAR
VERSION:2.0
PRODID:-//Belhus Park Chapel - ECPv6.15.14//NONSGML v1.0//EN
CALSCALE:GREGORIAN
METHOD:PUBLISH
X-ORIGINAL-URL:https://www.belhusparkchapel.co.uk
X-WR-CALDESC:Events for Belhus Park Chapel
REFRESH-INTERVAL;VALUE=DURATION:PT1H
X-Robots-Tag:noindex
X-PUBLISHED-TTL:PT1H
BEGIN:VTIMEZONE
TZID:UTC
BEGIN:STANDARD
TZOFFSETFROM:+0000
TZOFFSETTO:+0000
TZNAME:UTC
DTSTART:20240101T000000
END:STANDARD
END:VTIMEZONE
BEGIN:VEVENT
DTSTART;TZID=UTC:20250105T094500
DTEND;TZID=UTC:20250105T104500
DTSTAMP:20260421T131350
CREATED:20181105T095347Z
LAST-MODIFIED:20181105T095347Z
UID:11510-1736070300-1736073900@www.belhusparkchapel.co.uk
SUMMARY:Explorers & Bible Class
DESCRIPTION:
URL:https://www.belhusparkchapel.co.uk/calendar/explorers-bible-class-2019-01-20-2024-10-06-2024-10-13/2025-01-05/
END:VEVENT
BEGIN:VEVENT
DTSTART;TZID=UTC:20250105T111500
DTEND;TZID=UTC:20250105T123000
DTSTAMP:20260421T131350
CREATED:20241127T085853Z
LAST-MODIFIED:20241127T085853Z
UID:12738-1736075700-1736080200@www.belhusparkchapel.co.uk
SUMMARY:Morning Service - Preacher TBA (available to stream)
DESCRIPTION:
URL:https://www.belhusparkchapel.co.uk/calendar/morning-service-preacher-tba-available-to-stream-3/
LOCATION:Belhus Park Chapel
END:VEVENT
BEGIN:VEVENT
DTSTART;TZID=UTC:20250107T200000
DTEND;TZID=UTC:20250107T210000
DTSTAMP:20260421T131350
CREATED:20241129T085206Z
LAST-MODIFIED:20241129T085206Z
UID:12750-1736280000-1736283600@www.belhusparkchapel.co.uk
SUMMARY:Prayer Meeting (on Zoom)
DESCRIPTION:
URL:https://www.belhusparkchapel.co.uk/calendar/prayer-meeting-on-zoom-6/
END:VEVENT
BEGIN:VEVENT
DTSTART;TZID=UTC:20250112T094500
DTEND;TZID=UTC:20250112T104500
DTSTAMP:20260421T131350
CREATED:20181105T095347Z
LAST-MODIFIED:20181105T095347Z
UID:11511-1736675100-1736678700@www.belhusparkchapel.co.uk
SUMMARY:Explorers & Bible Class
DESCRIPTION:
URL:https://www.belhusparkchapel.co.uk/calendar/explorers-bible-class-2019-01-20-2024-10-06-2024-10-13/2025-01-12/
END:VEVENT
BEGIN:VEVENT
DTSTART;TZID=UTC:20250112T111500
DTEND;TZID=UTC:20250112T123000
DTSTAMP:20260421T131350
CREATED:20241127T090109Z
LAST-MODIFIED:20241127T090109Z
UID:12740-1736680500-1736685000@www.belhusparkchapel.co.uk
SUMMARY:Morning Service - Preacher TBA (available to stream)
DESCRIPTION:
URL:https://www.belhusparkchapel.co.uk/calendar/morning-service-preacher-tba-available-to-stream-4/
LOCATION:Belhus Park Chapel
END:VEVENT
BEGIN:VEVENT
DTSTART;TZID=UTC:20250114T200000
DTEND;TZID=UTC:20250114T210000
DTSTAMP:20260421T131350
CREATED:20241129T085239Z
LAST-MODIFIED:20241129T085239Z
UID:12752-1736884800-1736888400@www.belhusparkchapel.co.uk
SUMMARY:Prayer Meeting (on Zoom)
DESCRIPTION:
URL:https://www.belhusparkchapel.co.uk/calendar/prayer-meeting-on-zoom-7/
END:VEVENT
BEGIN:VEVENT
DTSTART;TZID=UTC:20250119T094500
DTEND;TZID=UTC:20250119T104500
DTSTAMP:20260421T131350
CREATED:20181105T095347Z
LAST-MODIFIED:20181105T095347Z
UID:11892-1737279900-1737283500@www.belhusparkchapel.co.uk
SUMMARY:Explorers & Bible Class
DESCRIPTION:
URL:https://www.belhusparkchapel.co.uk/calendar/explorers-bible-class-2019-01-20-2024-10-06-2024-10-13/2025-01-19/
END:VEVENT
BEGIN:VEVENT
DTSTART;TZID=UTC:20250119T111500
DTEND;TZID=UTC:20250119T123000
DTSTAMP:20260421T131350
CREATED:20241127T090610Z
LAST-MODIFIED:20241127T090610Z
UID:12744-1737285300-1737289800@www.belhusparkchapel.co.uk
SUMMARY:Morning Service - Preacher TBA (available to stream)
DESCRIPTION:
URL:https://www.belhusparkchapel.co.uk/calendar/morning-service-preacher-tba-available-to-stream-5/
LOCATION:Belhus Park Chapel
END:VEVENT
BEGIN:VEVENT
DTSTART;TZID=UTC:20250121T200000
DTEND;TZID=UTC:20250121T210000
DTSTAMP:20260421T131350
CREATED:20241129T085315Z
LAST-MODIFIED:20241129T085315Z
UID:12754-1737489600-1737493200@www.belhusparkchapel.co.uk
SUMMARY:Prayer Meeting (on Zoom)
DESCRIPTION:
URL:https://www.belhusparkchapel.co.uk/calendar/prayer-meeting-on-zoom-8/
END:VEVENT
BEGIN:VEVENT
DTSTART;TZID=UTC:20250126T094500
DTEND;TZID=UTC:20250126T104500
DTSTAMP:20260421T131350
CREATED:20181105T095347Z
LAST-MODIFIED:20181105T095347Z
UID:11893-1737884700-1737888300@www.belhusparkchapel.co.uk
SUMMARY:Explorers & Bible Class
DESCRIPTION:
URL:https://www.belhusparkchapel.co.uk/calendar/explorers-bible-class-2019-01-20-2024-10-06-2024-10-13/2025-01-26/
END:VEVENT
BEGIN:VEVENT
DTSTART;TZID=UTC:20250128T123000
DTEND;TZID=UTC:20250128T140000
DTSTAMP:20260421T131350
CREATED:20250128T114720Z
LAST-MODIFIED:20250128T114720Z
UID:12766-1738067400-1738072800@www.belhusparkchapel.co.uk
SUMMARY:Lunch Club
DESCRIPTION:
URL:https://www.belhusparkchapel.co.uk/calendar/lunch-club-4/
LOCATION:Belhus Park Chapel
END:VEVENT
BEGIN:VEVENT
DTSTART;TZID=UTC:20250128T200000
DTEND;TZID=UTC:20250128T210000
DTSTAMP:20260421T131350
CREATED:20241129T085400Z
LAST-MODIFIED:20241129T085400Z
UID:12756-1738094400-1738098000@www.belhusparkchapel.co.uk
SUMMARY:Prayer Meeting (on Zoom)
DESCRIPTION:
URL:https://www.belhusparkchapel.co.uk/calendar/prayer-meeting-on-zoom-9/
END:VEVENT
BEGIN:VEVENT
DTSTART;TZID=UTC:20250129T180000
DTEND;TZID=UTC:20250129T210000
DTSTAMP:20260421T131350
CREATED:20250128T114846Z
LAST-MODIFIED:20250128T114846Z
UID:12768-1738173600-1738184400@www.belhusparkchapel.co.uk
SUMMARY:Campaigners
DESCRIPTION:
URL:https://www.belhusparkchapel.co.uk/calendar/campaigners-6/
LOCATION:Belhus Park Chapel
END:VEVENT
BEGIN:VEVENT
DTSTART;TZID=UTC:20250130T100000
DTEND;TZID=UTC:20250130T113000
DTSTAMP:20260421T131350
CREATED:20250128T114944Z
LAST-MODIFIED:20250128T114944Z
UID:12770-1738231200-1738236600@www.belhusparkchapel.co.uk
SUMMARY:Noah's Ark
DESCRIPTION:
URL:https://www.belhusparkchapel.co.uk/calendar/noahs-ark-6/
LOCATION:Belhus Park Chapel
END:VEVENT
END:VCALENDAR