BEGIN:VCALENDAR
VERSION:2.0
PRODID:-//Belhus Park Chapel - ECPv6.15.14//NONSGML v1.0//EN
CALSCALE:GREGORIAN
METHOD:PUBLISH
X-WR-CALNAME:Belhus Park Chapel
X-ORIGINAL-URL:https://www.belhusparkchapel.co.uk
X-WR-CALDESC:Events for Belhus Park Chapel
REFRESH-INTERVAL;VALUE=DURATION:PT1H
X-Robots-Tag:noindex
X-PUBLISHED-TTL:PT1H
BEGIN:VTIMEZONE
TZID:UTC
BEGIN:STANDARD
TZOFFSETFROM:+0000
TZOFFSETTO:+0000
TZNAME:UTC
DTSTART:20200101T000000
END:STANDARD
END:VTIMEZONE
BEGIN:VEVENT
DTSTART;TZID=UTC:20210131T111500
DTEND;TZID=UTC:20210131T123000
DTSTAMP:20260425T221946
CREATED:20181105T095935Z
LAST-MODIFIED:20210102T140959Z
UID:8970-1612091700-1612096200@www.belhusparkchapel.co.uk
SUMMARY:Morning Service
DESCRIPTION:
URL:https://www.belhusparkchapel.co.uk/calendar/morning-service-2019-03-03-2021-01-31/2021-01-31/
END:VEVENT
END:VCALENDAR