BEGIN:VCALENDAR
VERSION:2.0
PRODID:-//Belhus Park Chapel - ECPv6.15.14//NONSGML v1.0//EN
CALSCALE:GREGORIAN
METHOD:PUBLISH
X-WR-CALNAME:Belhus Park Chapel
X-ORIGINAL-URL:https://www.belhusparkchapel.co.uk
X-WR-CALDESC:Events for Belhus Park Chapel
REFRESH-INTERVAL;VALUE=DURATION:PT1H
X-Robots-Tag:noindex
X-PUBLISHED-TTL:PT1H
BEGIN:VTIMEZONE
TZID:UTC
BEGIN:STANDARD
TZOFFSETFROM:+0000
TZOFFSETTO:+0000
TZNAME:UTC
DTSTART:20230101T000000
END:STANDARD
END:VTIMEZONE
BEGIN:VEVENT
DTSTART;TZID=UTC:20241219T100000
DTEND;TZID=UTC:20241219T113000
DTSTAMP:20260421T131412
CREATED:20231213T223245Z
LAST-MODIFIED:20231213T223245Z
UID:12379-1734602400-1734607800@www.belhusparkchapel.co.uk
SUMMARY:Noah's Ark
DESCRIPTION:
URL:https://www.belhusparkchapel.co.uk/calendar/noahs-ark-5/2024-12-19/
LOCATION:Belhus Park Chapel
END:VEVENT
BEGIN:VEVENT
DTSTART;TZID=UTC:20241212T100000
DTEND;TZID=UTC:20241212T113000
DTSTAMP:20260421T131412
CREATED:20231213T223245Z
LAST-MODIFIED:20231213T223245Z
UID:12378-1733997600-1734003000@www.belhusparkchapel.co.uk
SUMMARY:Noah's Ark
DESCRIPTION:
URL:https://www.belhusparkchapel.co.uk/calendar/noahs-ark-5/2024-12-12/
LOCATION:Belhus Park Chapel
END:VEVENT
BEGIN:VEVENT
DTSTART;TZID=UTC:20241205T100000
DTEND;TZID=UTC:20241205T113000
DTSTAMP:20260421T131412
CREATED:20231213T223245Z
LAST-MODIFIED:20231213T223245Z
UID:12377-1733392800-1733398200@www.belhusparkchapel.co.uk
SUMMARY:Noah's Ark
DESCRIPTION:
URL:https://www.belhusparkchapel.co.uk/calendar/noahs-ark-5/2024-12-05/
LOCATION:Belhus Park Chapel
END:VEVENT
BEGIN:VEVENT
DTSTART;TZID=UTC:20241128T100000
DTEND;TZID=UTC:20241128T113000
DTSTAMP:20260421T131412
CREATED:20231213T223245Z
LAST-MODIFIED:20231213T223245Z
UID:12376-1732788000-1732793400@www.belhusparkchapel.co.uk
SUMMARY:Noah's Ark
DESCRIPTION:
URL:https://www.belhusparkchapel.co.uk/calendar/noahs-ark-5/2024-11-28/
LOCATION:Belhus Park Chapel
END:VEVENT
BEGIN:VEVENT
DTSTART;TZID=UTC:20241121T100000
DTEND;TZID=UTC:20241121T113000
DTSTAMP:20260421T131412
CREATED:20231213T223245Z
LAST-MODIFIED:20231213T223245Z
UID:12375-1732183200-1732188600@www.belhusparkchapel.co.uk
SUMMARY:Noah's Ark
DESCRIPTION:
URL:https://www.belhusparkchapel.co.uk/calendar/noahs-ark-5/2024-11-21/
LOCATION:Belhus Park Chapel
END:VEVENT
BEGIN:VEVENT
DTSTART;TZID=UTC:20241114T100000
DTEND;TZID=UTC:20241114T113000
DTSTAMP:20260421T131412
CREATED:20231213T223245Z
LAST-MODIFIED:20231213T223245Z
UID:12374-1731578400-1731583800@www.belhusparkchapel.co.uk
SUMMARY:Noah's Ark
DESCRIPTION:
URL:https://www.belhusparkchapel.co.uk/calendar/noahs-ark-5/2024-11-14/
LOCATION:Belhus Park Chapel
END:VEVENT
BEGIN:VEVENT
DTSTART;TZID=UTC:20241107T100000
DTEND;TZID=UTC:20241107T113000
DTSTAMP:20260421T131412
CREATED:20231213T223245Z
LAST-MODIFIED:20231213T223245Z
UID:12373-1730973600-1730979000@www.belhusparkchapel.co.uk
SUMMARY:Noah's Ark
DESCRIPTION:
URL:https://www.belhusparkchapel.co.uk/calendar/noahs-ark-5/2024-11-07/
LOCATION:Belhus Park Chapel
END:VEVENT
BEGIN:VEVENT
DTSTART;TZID=UTC:20241017T100000
DTEND;TZID=UTC:20241017T113000
DTSTAMP:20260421T131412
CREATED:20231213T223245Z
LAST-MODIFIED:20231213T223245Z
UID:12370-1729159200-1729164600@www.belhusparkchapel.co.uk
SUMMARY:Noah's Ark
DESCRIPTION:
URL:https://www.belhusparkchapel.co.uk/calendar/noahs-ark-5/2024-10-17/
LOCATION:Belhus Park Chapel
END:VEVENT
BEGIN:VEVENT
DTSTART;TZID=UTC:20241010T100000
DTEND;TZID=UTC:20241010T113000
DTSTAMP:20260421T131412
CREATED:20231213T223245Z
LAST-MODIFIED:20231213T223245Z
UID:12369-1728554400-1728559800@www.belhusparkchapel.co.uk
SUMMARY:Noah's Ark
DESCRIPTION:
URL:https://www.belhusparkchapel.co.uk/calendar/noahs-ark-5/2024-10-10/
LOCATION:Belhus Park Chapel
END:VEVENT
BEGIN:VEVENT
DTSTART;TZID=UTC:20241003T100000
DTEND;TZID=UTC:20241003T113000
DTSTAMP:20260421T131412
CREATED:20231213T223245Z
LAST-MODIFIED:20231213T223245Z
UID:12368-1727949600-1727955000@www.belhusparkchapel.co.uk
SUMMARY:Noah's Ark
DESCRIPTION:
URL:https://www.belhusparkchapel.co.uk/calendar/noahs-ark-5/2024-10-03/
LOCATION:Belhus Park Chapel
END:VEVENT
BEGIN:VEVENT
DTSTART;TZID=UTC:20240926T100000
DTEND;TZID=UTC:20240926T113000
DTSTAMP:20260421T131412
CREATED:20231213T223245Z
LAST-MODIFIED:20231213T223245Z
UID:12367-1727344800-1727350200@www.belhusparkchapel.co.uk
SUMMARY:Noah's Ark
DESCRIPTION:
URL:https://www.belhusparkchapel.co.uk/calendar/noahs-ark-5/2024-09-26/
LOCATION:Belhus Park Chapel
END:VEVENT
BEGIN:VEVENT
DTSTART;TZID=UTC:20240919T100000
DTEND;TZID=UTC:20240919T113000
DTSTAMP:20260421T131412
CREATED:20231213T223245Z
LAST-MODIFIED:20231213T223245Z
UID:12366-1726740000-1726745400@www.belhusparkchapel.co.uk
SUMMARY:Noah's Ark
DESCRIPTION:
URL:https://www.belhusparkchapel.co.uk/calendar/noahs-ark-5/2024-09-19/
LOCATION:Belhus Park Chapel
END:VEVENT
BEGIN:VEVENT
DTSTART;TZID=UTC:20240912T100000
DTEND;TZID=UTC:20240912T113000
DTSTAMP:20260421T131412
CREATED:20231213T223245Z
LAST-MODIFIED:20231213T223245Z
UID:12365-1726135200-1726140600@www.belhusparkchapel.co.uk
SUMMARY:Noah's Ark
DESCRIPTION:
URL:https://www.belhusparkchapel.co.uk/calendar/noahs-ark-5/2024-09-12/
LOCATION:Belhus Park Chapel
END:VEVENT
BEGIN:VEVENT
DTSTART;TZID=UTC:20240718T100000
DTEND;TZID=UTC:20240718T113000
DTSTAMP:20260421T131412
CREATED:20231213T223245Z
LAST-MODIFIED:20231213T223245Z
UID:12357-1721296800-1721302200@www.belhusparkchapel.co.uk
SUMMARY:Noah's Ark
DESCRIPTION:
URL:https://www.belhusparkchapel.co.uk/calendar/noahs-ark-5/2024-07-18/
LOCATION:Belhus Park Chapel
END:VEVENT
BEGIN:VEVENT
DTSTART;TZID=UTC:20240711T100000
DTEND;TZID=UTC:20240711T113000
DTSTAMP:20260421T131412
CREATED:20231213T223245Z
LAST-MODIFIED:20231213T223245Z
UID:12356-1720692000-1720697400@www.belhusparkchapel.co.uk
SUMMARY:Noah's Ark
DESCRIPTION:
URL:https://www.belhusparkchapel.co.uk/calendar/noahs-ark-5/2024-07-11/
LOCATION:Belhus Park Chapel
END:VEVENT
BEGIN:VEVENT
DTSTART;TZID=UTC:20240704T100000
DTEND;TZID=UTC:20240704T113000
DTSTAMP:20260421T131412
CREATED:20231213T223245Z
LAST-MODIFIED:20231213T223245Z
UID:12355-1720087200-1720092600@www.belhusparkchapel.co.uk
SUMMARY:Noah's Ark
DESCRIPTION:
URL:https://www.belhusparkchapel.co.uk/calendar/noahs-ark-5/2024-07-04/
LOCATION:Belhus Park Chapel
END:VEVENT
BEGIN:VEVENT
DTSTART;TZID=UTC:20240627T100000
DTEND;TZID=UTC:20240627T113000
DTSTAMP:20260421T131412
CREATED:20231213T223245Z
LAST-MODIFIED:20231213T223245Z
UID:12354-1719482400-1719487800@www.belhusparkchapel.co.uk
SUMMARY:Noah's Ark
DESCRIPTION:
URL:https://www.belhusparkchapel.co.uk/calendar/noahs-ark-5/2024-06-27/
LOCATION:Belhus Park Chapel
END:VEVENT
BEGIN:VEVENT
DTSTART;TZID=UTC:20240620T100000
DTEND;TZID=UTC:20240620T113000
DTSTAMP:20260421T131412
CREATED:20231213T223245Z
LAST-MODIFIED:20231213T223245Z
UID:12353-1718877600-1718883000@www.belhusparkchapel.co.uk
SUMMARY:Noah's Ark
DESCRIPTION:
URL:https://www.belhusparkchapel.co.uk/calendar/noahs-ark-5/2024-06-20/
LOCATION:Belhus Park Chapel
END:VEVENT
BEGIN:VEVENT
DTSTART;TZID=UTC:20240613T100000
DTEND;TZID=UTC:20240613T113000
DTSTAMP:20260421T131412
CREATED:20231213T223245Z
LAST-MODIFIED:20231213T223245Z
UID:12352-1718272800-1718278200@www.belhusparkchapel.co.uk
SUMMARY:Noah's Ark
DESCRIPTION:
URL:https://www.belhusparkchapel.co.uk/calendar/noahs-ark-5/2024-06-13/
LOCATION:Belhus Park Chapel
END:VEVENT
BEGIN:VEVENT
DTSTART;TZID=UTC:20240606T100000
DTEND;TZID=UTC:20240606T113000
DTSTAMP:20260421T131412
CREATED:20231213T223245Z
LAST-MODIFIED:20231213T223245Z
UID:12351-1717668000-1717673400@www.belhusparkchapel.co.uk
SUMMARY:Noah's Ark
DESCRIPTION:
URL:https://www.belhusparkchapel.co.uk/calendar/noahs-ark-5/2024-06-06/
LOCATION:Belhus Park Chapel
END:VEVENT
BEGIN:VEVENT
DTSTART;TZID=UTC:20240523T100000
DTEND;TZID=UTC:20240523T113000
DTSTAMP:20260421T131412
CREATED:20231213T223245Z
LAST-MODIFIED:20231213T223245Z
UID:12349-1716458400-1716463800@www.belhusparkchapel.co.uk
SUMMARY:Noah's Ark
DESCRIPTION:
URL:https://www.belhusparkchapel.co.uk/calendar/noahs-ark-5/2024-05-23/
LOCATION:Belhus Park Chapel
END:VEVENT
BEGIN:VEVENT
DTSTART;TZID=UTC:20240516T100000
DTEND;TZID=UTC:20240516T113000
DTSTAMP:20260421T131412
CREATED:20231213T223245Z
LAST-MODIFIED:20231213T223245Z
UID:12348-1715853600-1715859000@www.belhusparkchapel.co.uk
SUMMARY:Noah's Ark
DESCRIPTION:
URL:https://www.belhusparkchapel.co.uk/calendar/noahs-ark-5/2024-05-16/
LOCATION:Belhus Park Chapel
END:VEVENT
BEGIN:VEVENT
DTSTART;TZID=UTC:20240509T100000
DTEND;TZID=UTC:20240509T113000
DTSTAMP:20260421T131412
CREATED:20231213T223245Z
LAST-MODIFIED:20231213T223245Z
UID:12347-1715248800-1715254200@www.belhusparkchapel.co.uk
SUMMARY:Noah's Ark
DESCRIPTION:
URL:https://www.belhusparkchapel.co.uk/calendar/noahs-ark-5/2024-05-09/
LOCATION:Belhus Park Chapel
END:VEVENT
BEGIN:VEVENT
DTSTART;TZID=UTC:20240502T100000
DTEND;TZID=UTC:20240502T113000
DTSTAMP:20260421T131412
CREATED:20231213T223245Z
LAST-MODIFIED:20231213T223245Z
UID:12346-1714644000-1714649400@www.belhusparkchapel.co.uk
SUMMARY:Noah's Ark
DESCRIPTION:
URL:https://www.belhusparkchapel.co.uk/calendar/noahs-ark-5/2024-05-02/
LOCATION:Belhus Park Chapel
END:VEVENT
BEGIN:VEVENT
DTSTART;TZID=UTC:20240425T100000
DTEND;TZID=UTC:20240425T113000
DTSTAMP:20260421T131412
CREATED:20231213T223245Z
LAST-MODIFIED:20231213T223245Z
UID:12345-1714039200-1714044600@www.belhusparkchapel.co.uk
SUMMARY:Noah's Ark
DESCRIPTION:
URL:https://www.belhusparkchapel.co.uk/calendar/noahs-ark-5/2024-04-25/
LOCATION:Belhus Park Chapel
END:VEVENT
BEGIN:VEVENT
DTSTART;TZID=UTC:20240111T100000
DTEND;TZID=UTC:20240111T113000
DTSTAMP:20260421T131412
CREATED:20231213T223245Z
LAST-MODIFIED:20231213T223245Z
UID:12329-1704967200-1704972600@www.belhusparkchapel.co.uk
SUMMARY:Noah's Ark
DESCRIPTION:
URL:https://www.belhusparkchapel.co.uk/calendar/noahs-ark-5/2024-01-11/
LOCATION:Belhus Park Chapel
END:VEVENT
END:VCALENDAR