BEGIN:VCALENDAR
VERSION:2.0
PRODID:-//Belhus Park Chapel - ECPv6.15.14//NONSGML v1.0//EN
CALSCALE:GREGORIAN
METHOD:PUBLISH
X-WR-CALNAME:Belhus Park Chapel
X-ORIGINAL-URL:https://www.belhusparkchapel.co.uk
X-WR-CALDESC:Events for Belhus Park Chapel
REFRESH-INTERVAL;VALUE=DURATION:PT1H
X-Robots-Tag:noindex
X-PUBLISHED-TTL:PT1H
BEGIN:VTIMEZONE
TZID:UTC
BEGIN:STANDARD
TZOFFSETFROM:+0000
TZOFFSETTO:+0000
TZNAME:UTC
DTSTART:20170101T000000
END:STANDARD
END:VTIMEZONE
BEGIN:VEVENT
DTSTART;TZID=UTC:20180118T100000
DTEND;TZID=UTC:20180118T113000
DTSTAMP:20260425T165826
CREATED:20180115T163639Z
LAST-MODIFIED:20180129T100353Z
UID:6835-1516269600-1516275000@www.belhusparkchapel.co.uk
SUMMARY:Noah's Ark
DESCRIPTION:Morning. Term time only.
URL:https://www.belhusparkchapel.co.uk/calendar/noahs-ark/2018-01-18/
END:VEVENT
END:VCALENDAR