BEGIN:VCALENDAR
VERSION:2.0
PRODID:-//Belhus Park Chapel - ECPv6.15.14//NONSGML v1.0//EN
CALSCALE:GREGORIAN
METHOD:PUBLISH
X-ORIGINAL-URL:https://www.belhusparkchapel.co.uk
X-WR-CALDESC:Events for Belhus Park Chapel
REFRESH-INTERVAL;VALUE=DURATION:PT1H
X-Robots-Tag:noindex
X-PUBLISHED-TTL:PT1H
BEGIN:VTIMEZONE
TZID:UTC
BEGIN:STANDARD
TZOFFSETFROM:+0000
TZOFFSETTO:+0000
TZNAME:UTC
DTSTART:20250101T000000
END:STANDARD
END:VTIMEZONE
BEGIN:VEVENT
DTSTART;TZID=UTC:20260421T200000
DTEND;TZID=UTC:20260421T210000
DTSTAMP:20260425T030556
CREATED:20260119T103356Z
LAST-MODIFIED:20260119T103356Z
UID:13480-1776801600-1776805200@www.belhusparkchapel.co.uk
SUMMARY:Prayer Meeting (on Zoom)
DESCRIPTION:
URL:https://www.belhusparkchapel.co.uk/calendar/prayer-meeting-on-zoom-50/2026-04-21/
END:VEVENT
BEGIN:VEVENT
DTSTART;TZID=UTC:20260414T200000
DTEND;TZID=UTC:20260414T210000
DTSTAMP:20260425T030556
CREATED:20260119T103356Z
LAST-MODIFIED:20260119T103356Z
UID:13479-1776196800-1776200400@www.belhusparkchapel.co.uk
SUMMARY:Prayer Meeting (on Zoom)
DESCRIPTION:
URL:https://www.belhusparkchapel.co.uk/calendar/prayer-meeting-on-zoom-50/2026-04-14/
END:VEVENT
BEGIN:VEVENT
DTSTART;TZID=UTC:20260407T200000
DTEND;TZID=UTC:20260407T210000
DTSTAMP:20260425T030556
CREATED:20260119T103356Z
LAST-MODIFIED:20260119T103356Z
UID:13477-1775592000-1775595600@www.belhusparkchapel.co.uk
SUMMARY:Prayer Meeting (on Zoom)
DESCRIPTION:
URL:https://www.belhusparkchapel.co.uk/calendar/prayer-meeting-on-zoom-50/2026-04-07/
END:VEVENT
BEGIN:VEVENT
DTSTART;TZID=UTC:20260331T200000
DTEND;TZID=UTC:20260331T210000
DTSTAMP:20260425T030556
CREATED:20260119T103356Z
LAST-MODIFIED:20260119T103356Z
UID:13476-1774987200-1774990800@www.belhusparkchapel.co.uk
SUMMARY:Prayer Meeting (on Zoom)
DESCRIPTION:
URL:https://www.belhusparkchapel.co.uk/calendar/prayer-meeting-on-zoom-50/2026-03-31/
END:VEVENT
BEGIN:VEVENT
DTSTART;TZID=UTC:20260324T200000
DTEND;TZID=UTC:20260324T210000
DTSTAMP:20260425T030556
CREATED:20260119T103356Z
LAST-MODIFIED:20260119T103356Z
UID:13475-1774382400-1774386000@www.belhusparkchapel.co.uk
SUMMARY:Prayer Meeting (on Zoom)
DESCRIPTION:
URL:https://www.belhusparkchapel.co.uk/calendar/prayer-meeting-on-zoom-50/2026-03-24/
END:VEVENT
BEGIN:VEVENT
DTSTART;TZID=UTC:20260317T200000
DTEND;TZID=UTC:20260317T210000
DTSTAMP:20260425T030556
CREATED:20260119T103356Z
LAST-MODIFIED:20260119T103356Z
UID:13474-1773777600-1773781200@www.belhusparkchapel.co.uk
SUMMARY:Prayer Meeting (on Zoom)
DESCRIPTION:
URL:https://www.belhusparkchapel.co.uk/calendar/prayer-meeting-on-zoom-50/2026-03-17/
END:VEVENT
BEGIN:VEVENT
DTSTART;TZID=UTC:20260310T200000
DTEND;TZID=UTC:20260310T210000
DTSTAMP:20260425T030556
CREATED:20260119T103356Z
LAST-MODIFIED:20260119T103356Z
UID:13473-1773172800-1773176400@www.belhusparkchapel.co.uk
SUMMARY:Prayer Meeting (on Zoom)
DESCRIPTION:
URL:https://www.belhusparkchapel.co.uk/calendar/prayer-meeting-on-zoom-50/2026-03-10/
END:VEVENT
BEGIN:VEVENT
DTSTART;TZID=UTC:20260303T200000
DTEND;TZID=UTC:20260303T210000
DTSTAMP:20260425T030556
CREATED:20260119T103356Z
LAST-MODIFIED:20260119T103356Z
UID:13472-1772568000-1772571600@www.belhusparkchapel.co.uk
SUMMARY:Prayer Meeting (on Zoom)
DESCRIPTION:
URL:https://www.belhusparkchapel.co.uk/calendar/prayer-meeting-on-zoom-50/2026-03-03/
END:VEVENT
BEGIN:VEVENT
DTSTART;TZID=UTC:20260224T200000
DTEND;TZID=UTC:20260224T210000
DTSTAMP:20260425T030556
CREATED:20260119T103356Z
LAST-MODIFIED:20260119T103356Z
UID:13471-1771963200-1771966800@www.belhusparkchapel.co.uk
SUMMARY:Prayer Meeting (on Zoom)
DESCRIPTION:
URL:https://www.belhusparkchapel.co.uk/calendar/prayer-meeting-on-zoom-50/2026-02-24/
END:VEVENT
BEGIN:VEVENT
DTSTART;TZID=UTC:20260217T200000
DTEND;TZID=UTC:20260217T210000
DTSTAMP:20260425T030556
CREATED:20260119T103356Z
LAST-MODIFIED:20260119T103356Z
UID:13470-1771358400-1771362000@www.belhusparkchapel.co.uk
SUMMARY:Prayer Meeting (on Zoom)
DESCRIPTION:
URL:https://www.belhusparkchapel.co.uk/calendar/prayer-meeting-on-zoom-50/2026-02-17/
END:VEVENT
BEGIN:VEVENT
DTSTART;TZID=UTC:20260210T200000
DTEND;TZID=UTC:20260210T210000
DTSTAMP:20260425T030556
CREATED:20260119T103356Z
LAST-MODIFIED:20260119T103356Z
UID:13469-1770753600-1770757200@www.belhusparkchapel.co.uk
SUMMARY:Prayer Meeting (on Zoom)
DESCRIPTION:
URL:https://www.belhusparkchapel.co.uk/calendar/prayer-meeting-on-zoom-50/2026-02-10/
END:VEVENT
BEGIN:VEVENT
DTSTART;TZID=UTC:20260203T200000
DTEND;TZID=UTC:20260203T210000
DTSTAMP:20260425T030556
CREATED:20260119T103356Z
LAST-MODIFIED:20260119T103356Z
UID:13468-1770148800-1770152400@www.belhusparkchapel.co.uk
SUMMARY:Prayer Meeting (on Zoom)
DESCRIPTION:
URL:https://www.belhusparkchapel.co.uk/calendar/prayer-meeting-on-zoom-50/2026-02-03/
END:VEVENT
BEGIN:VEVENT
DTSTART;TZID=UTC:20260127T200000
DTEND;TZID=UTC:20260127T210000
DTSTAMP:20260425T030556
CREATED:20260119T103356Z
LAST-MODIFIED:20260119T103356Z
UID:13467-1769544000-1769547600@www.belhusparkchapel.co.uk
SUMMARY:Prayer Meeting (on Zoom)
DESCRIPTION:
URL:https://www.belhusparkchapel.co.uk/calendar/prayer-meeting-on-zoom-50/2026-01-27/
END:VEVENT
END:VCALENDAR