BEGIN:VCALENDAR
VERSION:2.0
PRODID:-//Belhus Park Chapel - ECPv6.15.14//NONSGML v1.0//EN
CALSCALE:GREGORIAN
METHOD:PUBLISH
X-WR-CALNAME:Belhus Park Chapel
X-ORIGINAL-URL:https://www.belhusparkchapel.co.uk
X-WR-CALDESC:Events for Belhus Park Chapel
REFRESH-INTERVAL;VALUE=DURATION:PT1H
X-Robots-Tag:noindex
X-PUBLISHED-TTL:PT1H
BEGIN:VTIMEZONE
TZID:UTC
BEGIN:STANDARD
TZOFFSETFROM:+0000
TZOFFSETTO:+0000
TZNAME:UTC
DTSTART:20170101T000000
END:STANDARD
END:VTIMEZONE
BEGIN:VEVENT
DTSTART;TZID=UTC:20181225T103000
DTEND;TZID=UTC:20181225T113000
DTSTAMP:20260424T233257
CREATED:20181009T113449Z
LAST-MODIFIED:20181009T113449Z
UID:7647-1545733800-1545737400@www.belhusparkchapel.co.uk
SUMMARY:Christmas Morning Service - Malcolm Wallace
DESCRIPTION:
URL:https://www.belhusparkchapel.co.uk/calendar/christmas-morning-service-malcolm-wallace/
END:VEVENT
BEGIN:VEVENT
DTSTART;TZID=UTC:20181230T111500
DTEND;TZID=UTC:20181230T123000
DTSTAMP:20260424T233257
CREATED:20181009T113328Z
LAST-MODIFIED:20181206T090624Z
UID:7645-1546168500-1546173000@www.belhusparkchapel.co.uk
SUMMARY:Morning Service - Pastor Ben Jones
DESCRIPTION:
URL:https://www.belhusparkchapel.co.uk/calendar/morning-service-pastor-ben-jones/
LOCATION:Belhus Park Chapel
END:VEVENT
BEGIN:VEVENT
DTSTART;TZID=UTC:20181230T183000
DTEND;TZID=UTC:20181230T193000
DTSTAMP:20260424T233257
CREATED:20180115T162640Z
LAST-MODIFIED:20181206T091002Z
UID:7359-1546194600-1546198200@www.belhusparkchapel.co.uk
SUMMARY:Evening Service - Fellowship / Creation DVD
DESCRIPTION:
URL:https://www.belhusparkchapel.co.uk/calendar/evening-service-2018-12-30/
END:VEVENT
END:VCALENDAR