BEGIN:VCALENDAR
VERSION:2.0
PRODID:-//Belhus Park Chapel - ECPv6.15.14//NONSGML v1.0//EN
CALSCALE:GREGORIAN
METHOD:PUBLISH
X-ORIGINAL-URL:https://www.belhusparkchapel.co.uk
X-WR-CALDESC:Events for Belhus Park Chapel
REFRESH-INTERVAL;VALUE=DURATION:PT1H
X-Robots-Tag:noindex
X-PUBLISHED-TTL:PT1H
BEGIN:VTIMEZONE
TZID:UTC
BEGIN:STANDARD
TZOFFSETFROM:+0000
TZOFFSETTO:+0000
TZNAME:UTC
DTSTART:20180101T000000
END:STANDARD
END:VTIMEZONE
BEGIN:VEVENT
DTSTART;TZID=UTC:20190106T111500
DTEND;TZID=UTC:20190106T123000
DTSTAMP:20260425T003625
CREATED:20181105T095935Z
LAST-MODIFIED:20190105T141730Z
UID:7845-1546773300-1546777800@www.belhusparkchapel.co.uk
SUMMARY:Family Service - Malcolm Wallace
DESCRIPTION:
URL:https://www.belhusparkchapel.co.uk/calendar/morning-service/
END:VEVENT
BEGIN:VEVENT
DTSTART;TZID=UTC:20190106T174500
DTEND;TZID=UTC:20190106T181500
DTSTAMP:20260425T003625
CREATED:20181105T100902Z
LAST-MODIFIED:20181105T100902Z
UID:8523-1546796700-1546798500@www.belhusparkchapel.co.uk
SUMMARY:Leatherland Lodge
DESCRIPTION:
URL:https://www.belhusparkchapel.co.uk/calendar/leatherland-lodge/2019-01-06/
END:VEVENT
BEGIN:VEVENT
DTSTART;TZID=UTC:20190106T183000
DTEND;TZID=UTC:20190106T193000
DTSTAMP:20260425T003625
CREATED:20181105T100103Z
LAST-MODIFIED:20181206T091439Z
UID:7942-1546799400-1546803000@www.belhusparkchapel.co.uk
SUMMARY:Evening Service - Pastor Julian Rogers
DESCRIPTION:
URL:https://www.belhusparkchapel.co.uk/calendar/evening-service-2/
END:VEVENT
END:VCALENDAR