BEGIN:VCALENDAR
VERSION:2.0
PRODID:-//Belhus Park Chapel - ECPv6.15.14//NONSGML v1.0//EN
CALSCALE:GREGORIAN
METHOD:PUBLISH
X-ORIGINAL-URL:https://www.belhusparkchapel.co.uk
X-WR-CALDESC:Events for Belhus Park Chapel
REFRESH-INTERVAL;VALUE=DURATION:PT1H
X-Robots-Tag:noindex
X-PUBLISHED-TTL:PT1H
BEGIN:VTIMEZONE
TZID:UTC
BEGIN:STANDARD
TZOFFSETFROM:+0000
TZOFFSETTO:+0000
TZNAME:UTC
DTSTART:20180101T000000
END:STANDARD
END:VTIMEZONE
BEGIN:VEVENT
DTSTART;TZID=UTC:20190108T103000
DTEND;TZID=UTC:20190108T120000
DTSTAMP:20260424T215123
CREATED:20181105T100219Z
LAST-MODIFIED:20181105T100219Z
UID:8039-1546943400-1546948800@www.belhusparkchapel.co.uk
SUMMARY:Coffee Morning
DESCRIPTION:
URL:https://www.belhusparkchapel.co.uk/calendar/coffee-morning-2/2019-01-08/
END:VEVENT
BEGIN:VEVENT
DTSTART;TZID=UTC:20190108T200000
DTEND;TZID=UTC:20190108T213000
DTSTAMP:20260424T215123
CREATED:20181105T100326Z
LAST-MODIFIED:20181105T100326Z
UID:8136-1546977600-1546983000@www.belhusparkchapel.co.uk
SUMMARY:Prayer & Bible Study
DESCRIPTION:
URL:https://www.belhusparkchapel.co.uk/calendar/prayer-bible-study-2/2019-01-08/
END:VEVENT
BEGIN:VEVENT
DTSTART;TZID=UTC:20190109T140000
DTEND;TZID=UTC:20190109T153000
DTSTAMP:20260424T215123
CREATED:20181105T100447Z
LAST-MODIFIED:20181105T100447Z
UID:8233-1547042400-1547047800@www.belhusparkchapel.co.uk
SUMMARY:Wednesday Fellowship
DESCRIPTION:
URL:https://www.belhusparkchapel.co.uk/calendar/wednesday-fellowship-2/2019-01-09/
END:VEVENT
BEGIN:VEVENT
DTSTART;TZID=UTC:20190109T180000
DTEND;TZID=UTC:20190109T210000
DTSTAMP:20260424T215123
CREATED:20181105T100606Z
LAST-MODIFIED:20181105T100606Z
UID:8330-1547056800-1547067600@www.belhusparkchapel.co.uk
SUMMARY:Campaigners
DESCRIPTION:
URL:https://www.belhusparkchapel.co.uk/calendar/campaigners-2/2019-01-09/
END:VEVENT
BEGIN:VEVENT
DTSTART;TZID=UTC:20190110T100000
DTEND;TZID=UTC:20190110T113000
DTSTAMP:20260424T215123
CREATED:20181105T100748Z
LAST-MODIFIED:20181105T100748Z
UID:8427-1547114400-1547119800@www.belhusparkchapel.co.uk
SUMMARY:Noah's Ark
DESCRIPTION:
URL:https://www.belhusparkchapel.co.uk/calendar/noahs-ark-2/2019-01-10/
END:VEVENT
BEGIN:VEVENT
DTSTART;TZID=UTC:20190113T094500
DTEND;TZID=UTC:20190113T104500
DTSTAMP:20260424T215123
CREATED:20181105T095347Z
LAST-MODIFIED:20190108T174818Z
UID:7654-1547372700-1547376300@www.belhusparkchapel.co.uk
SUMMARY:Explorers/Bible Cl.
DESCRIPTION:
URL:https://www.belhusparkchapel.co.uk/calendar/explorers-bible-class-2019-01-13/
END:VEVENT
BEGIN:VEVENT
DTSTART;TZID=UTC:20190113T111500
DTEND;TZID=UTC:20190113T123000
DTSTAMP:20260424T215123
CREATED:20181105T095935Z
LAST-MODIFIED:20181206T091622Z
UID:7847-1547378100-1547382600@www.belhusparkchapel.co.uk
SUMMARY:Morning Service - Andy Banton
DESCRIPTION:
URL:https://www.belhusparkchapel.co.uk/calendar/morning-service-2019-01-13/
END:VEVENT
BEGIN:VEVENT
DTSTART;TZID=UTC:20190113T183000
DTEND;TZID=UTC:20190113T193000
DTSTAMP:20260424T215123
CREATED:20181105T100103Z
LAST-MODIFIED:20181206T091719Z
UID:7944-1547404200-1547407800@www.belhusparkchapel.co.uk
SUMMARY:Evening Service - Andy Banton
DESCRIPTION:
URL:https://www.belhusparkchapel.co.uk/calendar/evening-service-2-2019-01-13/
END:VEVENT
END:VCALENDAR