BEGIN:VCALENDAR
VERSION:2.0
PRODID:-//Belhus Park Chapel - ECPv6.15.14//NONSGML v1.0//EN
CALSCALE:GREGORIAN
METHOD:PUBLISH
X-WR-CALNAME:Belhus Park Chapel
X-ORIGINAL-URL:https://www.belhusparkchapel.co.uk
X-WR-CALDESC:Events for Belhus Park Chapel
REFRESH-INTERVAL;VALUE=DURATION:PT1H
X-Robots-Tag:noindex
X-PUBLISHED-TTL:PT1H
BEGIN:VTIMEZONE
TZID:UTC
BEGIN:STANDARD
TZOFFSETFROM:+0000
TZOFFSETTO:+0000
TZNAME:UTC
DTSTART:20180101T000000
END:STANDARD
END:VTIMEZONE
BEGIN:VEVENT
DTSTART;TZID=UTC:20190210T111500
DTEND;TZID=UTC:20190210T123000
DTSTAMP:20260424T201924
CREATED:20181105T095935Z
LAST-MODIFIED:20190108T173615Z
UID:7851-1549797300-1549801800@www.belhusparkchapel.co.uk
SUMMARY:Morning Service - Pastor Julian Rogers
DESCRIPTION:
URL:https://www.belhusparkchapel.co.uk/calendar/morning-service-2019-02-10/
END:VEVENT
BEGIN:VEVENT
DTSTART;TZID=UTC:20190210T183000
DTEND;TZID=UTC:20190210T193000
DTSTAMP:20260424T201924
CREATED:20181105T100103Z
LAST-MODIFIED:20190108T173657Z
UID:7948-1549823400-1549827000@www.belhusparkchapel.co.uk
SUMMARY:Evening Service - Chris Knowles
DESCRIPTION:
URL:https://www.belhusparkchapel.co.uk/calendar/evening-service-2-2019-02-10/
END:VEVENT
END:VCALENDAR