BEGIN:VCALENDAR
VERSION:2.0
PRODID:-//Belhus Park Chapel - ECPv6.15.14//NONSGML v1.0//EN
CALSCALE:GREGORIAN
METHOD:PUBLISH
X-WR-CALNAME:Belhus Park Chapel
X-ORIGINAL-URL:https://www.belhusparkchapel.co.uk
X-WR-CALDESC:Events for Belhus Park Chapel
REFRESH-INTERVAL;VALUE=DURATION:PT1H
X-Robots-Tag:noindex
X-PUBLISHED-TTL:PT1H
BEGIN:VTIMEZONE
TZID:UTC
BEGIN:STANDARD
TZOFFSETFROM:+0000
TZOFFSETTO:+0000
TZNAME:UTC
DTSTART:20180101T000000
END:STANDARD
END:VTIMEZONE
BEGIN:VEVENT
DTSTART;TZID=UTC:20190409T103000
DTEND;TZID=UTC:20190409T120000
DTSTAMP:20260424T234156
CREATED:20190408T154136Z
LAST-MODIFIED:20190408T154136Z
UID:9078-1554805800-1554811200@www.belhusparkchapel.co.uk
SUMMARY:Coffee Morning
DESCRIPTION:
URL:https://www.belhusparkchapel.co.uk/calendar/coffee-morning-3/
LOCATION:Belhus Park Chapel
END:VEVENT
BEGIN:VEVENT
DTSTART;TZID=UTC:20190410T140000
DTEND;TZID=UTC:20190410T150000
DTSTAMP:20260424T234156
CREATED:20190408T154432Z
LAST-MODIFIED:20190408T154530Z
UID:9080-1554904800-1554908400@www.belhusparkchapel.co.uk
SUMMARY:Wednesday Fellowship Afternoon Tea
DESCRIPTION:Refreshments provided
URL:https://www.belhusparkchapel.co.uk/calendar/wednesday-fellowship-afternoon-tea/
END:VEVENT
BEGIN:VEVENT
DTSTART;TZID=UTC:20190414T111500
DTEND;TZID=UTC:20190414T123000
DTSTAMP:20260424T234156
CREATED:20181105T095935Z
LAST-MODIFIED:20190305T094511Z
UID:7860-1555240500-1555245000@www.belhusparkchapel.co.uk
SUMMARY:Morning Service - Pastor Julian Rogers
DESCRIPTION:
URL:https://www.belhusparkchapel.co.uk/calendar/morning-service-2019-04-14/
END:VEVENT
BEGIN:VEVENT
DTSTART;TZID=UTC:20190414T183000
DTEND;TZID=UTC:20190414T193000
DTSTAMP:20260424T234156
CREATED:20181105T100103Z
LAST-MODIFIED:20190305T094553Z
UID:7957-1555266600-1555270200@www.belhusparkchapel.co.uk
SUMMARY:Evening Service - Keith Cullwick
DESCRIPTION:
URL:https://www.belhusparkchapel.co.uk/calendar/evening-service-2-2019-04-14/
END:VEVENT
END:VCALENDAR