BEGIN:VCALENDAR
VERSION:2.0
PRODID:-//Belhus Park Chapel - ECPv6.15.14//NONSGML v1.0//EN
CALSCALE:GREGORIAN
METHOD:PUBLISH
X-ORIGINAL-URL:https://www.belhusparkchapel.co.uk
X-WR-CALDESC:Events for Belhus Park Chapel
REFRESH-INTERVAL;VALUE=DURATION:PT1H
X-Robots-Tag:noindex
X-PUBLISHED-TTL:PT1H
BEGIN:VTIMEZONE
TZID:UTC
BEGIN:STANDARD
TZOFFSETFROM:+0000
TZOFFSETTO:+0000
TZNAME:UTC
DTSTART:20180101T000000
END:STANDARD
END:VTIMEZONE
BEGIN:VEVENT
DTSTART;TZID=UTC:20190415T100000
DTEND;TZID=UTC:20190418T120000
DTSTAMP:20260424T234244
CREATED:20190202T215258Z
LAST-MODIFIED:20190202T222212Z
UID:8973-1555322400-1555588800@www.belhusparkchapel.co.uk
SUMMARY:BELRASSIC PARK - BPC Holiday Club 2019
DESCRIPTION:Easter is fast approaching and once again Belhus Park Chapel will be holding it’s annual Holiday Club\, this called ‘BELRASSIC PARK’. The holiday club runs from Monday 15th to Thursday 18th April. Spaces for the holiday club are limited\, so please register by calling 01708851900.
URL:https://www.belhusparkchapel.co.uk/calendar/belrassic-park-bpc-holiday-club-2019/
ATTACH;FMTTYPE=image/jpeg:https://www.belhusparkchapel.co.uk/wp-content/uploads/2019/02/BELRASSIC-Park-Logo.jpg
END:VEVENT
BEGIN:VEVENT
DTSTART;TZID=UTC:20190419T103000
DTEND;TZID=UTC:20190419T111500
DTSTAMP:20260424T234244
CREATED:20190202T222524Z
LAST-MODIFIED:20190305T094729Z
UID:8989-1555669800-1555672500@www.belhusparkchapel.co.uk
SUMMARY:Good Friday - Morning Service 10.30am - Pastor Maurice Titmarsh
DESCRIPTION:
URL:https://www.belhusparkchapel.co.uk/calendar/good-friday-morning-service-10-30am/
END:VEVENT
BEGIN:VEVENT
DTSTART;TZID=UTC:20190421T111500
DTEND;TZID=UTC:20190421T123000
DTSTAMP:20260424T234244
CREATED:20181105T095935Z
LAST-MODIFIED:20190305T094828Z
UID:7861-1555845300-1555849800@www.belhusparkchapel.co.uk
SUMMARY:Easter Morning Service - Pastor Maurice Titmarsh
DESCRIPTION:
URL:https://www.belhusparkchapel.co.uk/calendar/morning-service-2019-04-21/
END:VEVENT
BEGIN:VEVENT
DTSTART;TZID=UTC:20190421T183000
DTEND;TZID=UTC:20190421T193000
DTSTAMP:20260424T234244
CREATED:20181105T100103Z
LAST-MODIFIED:20190305T095014Z
UID:7958-1555871400-1555875000@www.belhusparkchapel.co.uk
SUMMARY:Discovery Service - Pastor Maurice Titmarsh
DESCRIPTION:
URL:https://www.belhusparkchapel.co.uk/calendar/evening-service-2-2019-04-21/
END:VEVENT
END:VCALENDAR