BEGIN:VCALENDAR
VERSION:2.0
PRODID:-//Belhus Park Chapel - ECPv6.15.14//NONSGML v1.0//EN
CALSCALE:GREGORIAN
METHOD:PUBLISH
X-WR-CALNAME:Belhus Park Chapel
X-ORIGINAL-URL:https://www.belhusparkchapel.co.uk
X-WR-CALDESC:Events for Belhus Park Chapel
REFRESH-INTERVAL;VALUE=DURATION:PT1H
X-Robots-Tag:noindex
X-PUBLISHED-TTL:PT1H
BEGIN:VTIMEZONE
TZID:UTC
BEGIN:STANDARD
TZOFFSETFROM:+0000
TZOFFSETTO:+0000
TZNAME:UTC
DTSTART:20180101T000000
END:STANDARD
END:VTIMEZONE
BEGIN:VEVENT
DTSTART;TZID=UTC:20191203T103000
DTEND;TZID=UTC:20191203T120000
DTSTAMP:20260422T214833
CREATED:20181105T100219Z
LAST-MODIFIED:20191112T165448Z
UID:8087-1575369000-1575374400@www.belhusparkchapel.co.uk
SUMMARY:Coffee Plus
DESCRIPTION:
URL:https://www.belhusparkchapel.co.uk/calendar/coffee-morning-2-2019-12-03/
END:VEVENT
BEGIN:VEVENT
DTSTART;TZID=UTC:20191208T111500
DTEND;TZID=UTC:20191208T123000
DTSTAMP:20260422T214833
CREATED:20181105T095935Z
LAST-MODIFIED:20191112T165554Z
UID:7894-1575803700-1575808200@www.belhusparkchapel.co.uk
SUMMARY:Morning Service - Pastor Julian Rogers
DESCRIPTION:
URL:https://www.belhusparkchapel.co.uk/calendar/morning-service-2019-12-08/
END:VEVENT
BEGIN:VEVENT
DTSTART;TZID=UTC:20191208T183000
DTEND;TZID=UTC:20191208T193000
DTSTAMP:20260422T214833
CREATED:20181105T100103Z
LAST-MODIFIED:20191112T165650Z
UID:7991-1575829800-1575833400@www.belhusparkchapel.co.uk
SUMMARY:Evening Service - Iain Jamieson
DESCRIPTION:
URL:https://www.belhusparkchapel.co.uk/calendar/evening-service-2-2019-12-08/
END:VEVENT
END:VCALENDAR