BEGIN:VCALENDAR
VERSION:2.0
PRODID:-//Belhus Park Chapel - ECPv6.15.14//NONSGML v1.0//EN
CALSCALE:GREGORIAN
METHOD:PUBLISH
X-ORIGINAL-URL:https://www.belhusparkchapel.co.uk
X-WR-CALDESC:Events for Belhus Park Chapel
REFRESH-INTERVAL;VALUE=DURATION:PT1H
X-Robots-Tag:noindex
X-PUBLISHED-TTL:PT1H
BEGIN:VTIMEZONE
TZID:UTC
BEGIN:STANDARD
TZOFFSETFROM:+0000
TZOFFSETTO:+0000
TZNAME:UTC
DTSTART:20180101T000000
END:STANDARD
END:VTIMEZONE
BEGIN:VEVENT
DTSTART;TZID=UTC:20191222T111500
DTEND;TZID=UTC:20191222T123000
DTSTAMP:20260422T154717
CREATED:20181105T095935Z
LAST-MODIFIED:20191112T170244Z
UID:7896-1577013300-1577017800@www.belhusparkchapel.co.uk
SUMMARY:Morning Service - Pastor Julian Rogers
DESCRIPTION:
URL:https://www.belhusparkchapel.co.uk/calendar/morning-service-2019-12-22/
END:VEVENT
BEGIN:VEVENT
DTSTART;TZID=UTC:20191222T180000
DTEND;TZID=UTC:20191222T193000
DTSTAMP:20260422T154717
CREATED:20181105T100103Z
LAST-MODIFIED:20191112T170458Z
UID:7993-1577037600-1577043000@www.belhusparkchapel.co.uk
SUMMARY:CAROL SERVICE (6pm) - Pastor Julian Rogers
DESCRIPTION:followed by refreshments
URL:https://www.belhusparkchapel.co.uk/calendar/evening-service-2-2019-12-22/
END:VEVENT
END:VCALENDAR