BEGIN:VCALENDAR
VERSION:2.0
PRODID:-//Belhus Park Chapel - ECPv6.15.14//NONSGML v1.0//EN
CALSCALE:GREGORIAN
METHOD:PUBLISH
X-ORIGINAL-URL:https://www.belhusparkchapel.co.uk
X-WR-CALDESC:Events for Belhus Park Chapel
REFRESH-INTERVAL;VALUE=DURATION:PT1H
X-Robots-Tag:noindex
X-PUBLISHED-TTL:PT1H
BEGIN:VTIMEZONE
TZID:UTC
BEGIN:STANDARD
TZOFFSETFROM:+0000
TZOFFSETTO:+0000
TZNAME:UTC
DTSTART:20180101T000000
END:STANDARD
END:VTIMEZONE
BEGIN:VEVENT
DTSTART;TZID=UTC:20191225T103000
DTEND;TZID=UTC:20191225T113000
DTSTAMP:20260422T154758
CREATED:20181105T100447Z
LAST-MODIFIED:20191112T171050Z
UID:8284-1577269800-1577273400@www.belhusparkchapel.co.uk
SUMMARY:Christmas Morning Service - Pastor Julian Rogers
DESCRIPTION:
URL:https://www.belhusparkchapel.co.uk/calendar/2019-12-25/
END:VEVENT
BEGIN:VEVENT
DTSTART;TZID=UTC:20191227T193000
DTEND;TZID=UTC:20191227T210000
DTSTAMP:20260422T154758
CREATED:20181105T100326Z
LAST-MODIFIED:20191112T170833Z
UID:8187-1577475000-1577480400@www.belhusparkchapel.co.uk
SUMMARY:Prayer Meeting
DESCRIPTION:
URL:https://www.belhusparkchapel.co.uk/calendar/prayer-bible-study-2-2019-12-27/
END:VEVENT
BEGIN:VEVENT
DTSTART;TZID=UTC:20191229T111500
DTEND;TZID=UTC:20191229T123000
DTSTAMP:20260422T154758
CREATED:20181105T095935Z
LAST-MODIFIED:20191112T171237Z
UID:7897-1577618100-1577622600@www.belhusparkchapel.co.uk
SUMMARY:Morning Service - Alan Greenbank
DESCRIPTION:
URL:https://www.belhusparkchapel.co.uk/calendar/morning-service-2019-12-29/
END:VEVENT
BEGIN:VEVENT
DTSTART;TZID=UTC:20191229T183000
DTEND;TZID=UTC:20191229T193000
DTSTAMP:20260422T154758
CREATED:20181105T100103Z
LAST-MODIFIED:20191112T171325Z
UID:7994-1577644200-1577647800@www.belhusparkchapel.co.uk
SUMMARY:Evening Service - Harry Vallance
DESCRIPTION:
URL:https://www.belhusparkchapel.co.uk/calendar/evening-service-2-2019-12-29/
END:VEVENT
END:VCALENDAR