BEGIN:VCALENDAR
VERSION:2.0
PRODID:-//Belhus Park Chapel - ECPv6.15.14//NONSGML v1.0//EN
CALSCALE:GREGORIAN
METHOD:PUBLISH
X-ORIGINAL-URL:https://www.belhusparkchapel.co.uk
X-WR-CALDESC:Events for Belhus Park Chapel
REFRESH-INTERVAL;VALUE=DURATION:PT1H
X-Robots-Tag:noindex
X-PUBLISHED-TTL:PT1H
BEGIN:VTIMEZONE
TZID:UTC
BEGIN:STANDARD
TZOFFSETFROM:+0000
TZOFFSETTO:+0000
TZNAME:UTC
DTSTART:20190101T000000
END:STANDARD
END:VTIMEZONE
BEGIN:VEVENT
DTSTART;TZID=UTC:20200121T103000
DTEND;TZID=UTC:20200121T120000
DTSTAMP:20260424T093612
CREATED:20181105T100219Z
LAST-MODIFIED:20191211T093406Z
UID:8094-1579602600-1579608000@www.belhusparkchapel.co.uk
SUMMARY:Coffee Plus
DESCRIPTION:
URL:https://www.belhusparkchapel.co.uk/calendar/coffee-morning-2-2020-01-21/
END:VEVENT
BEGIN:VEVENT
DTSTART;TZID=UTC:20200126T111500
DTEND;TZID=UTC:20200126T123000
DTSTAMP:20260424T093612
CREATED:20181105T095935Z
LAST-MODIFIED:20191211T093456Z
UID:7901-1580037300-1580041800@www.belhusparkchapel.co.uk
SUMMARY:Morning Service - Pastor Julian Rogers
DESCRIPTION:
URL:https://www.belhusparkchapel.co.uk/calendar/morning-service-2020-01-26/
END:VEVENT
BEGIN:VEVENT
DTSTART;TZID=UTC:20200126T183000
DTEND;TZID=UTC:20200126T193000
DTSTAMP:20260424T093612
CREATED:20181105T100103Z
LAST-MODIFIED:20191211T093544Z
UID:7998-1580063400-1580067000@www.belhusparkchapel.co.uk
SUMMARY:Evening Service - Pastor Steve Hensley
DESCRIPTION:
URL:https://www.belhusparkchapel.co.uk/calendar/evening-service-2-2020-01-26/
END:VEVENT
END:VCALENDAR