BEGIN:VCALENDAR
VERSION:2.0
PRODID:-//Belhus Park Chapel - ECPv6.15.14//NONSGML v1.0//EN
CALSCALE:GREGORIAN
METHOD:PUBLISH
X-ORIGINAL-URL:https://www.belhusparkchapel.co.uk
X-WR-CALDESC:Events for Belhus Park Chapel
REFRESH-INTERVAL;VALUE=DURATION:PT1H
X-Robots-Tag:noindex
X-PUBLISHED-TTL:PT1H
BEGIN:VTIMEZONE
TZID:UTC
BEGIN:STANDARD
TZOFFSETFROM:+0000
TZOFFSETTO:+0000
TZNAME:UTC
DTSTART:20190101T000000
END:STANDARD
END:VTIMEZONE
BEGIN:VEVENT
DTSTART;TZID=UTC:20200128T103000
DTEND;TZID=UTC:20200128T120000
DTSTAMP:20260424T143159
CREATED:20181105T100219Z
LAST-MODIFIED:20191211T093614Z
UID:8095-1580207400-1580212800@www.belhusparkchapel.co.uk
SUMMARY:Coffee Plus
DESCRIPTION:
URL:https://www.belhusparkchapel.co.uk/calendar/coffee-morning-2-2020-01-28/
END:VEVENT
BEGIN:VEVENT
DTSTART;TZID=UTC:20200202T111500
DTEND;TZID=UTC:20200202T123000
DTSTAMP:20260424T143159
CREATED:20181105T095935Z
LAST-MODIFIED:20191211T093709Z
UID:7902-1580642100-1580646600@www.belhusparkchapel.co.uk
SUMMARY:Family Service - Andy Banton
DESCRIPTION:
URL:https://www.belhusparkchapel.co.uk/calendar/morning-service-2020-02-02/
END:VEVENT
BEGIN:VEVENT
DTSTART;TZID=UTC:20200202T183000
DTEND;TZID=UTC:20200202T193000
DTSTAMP:20260424T143159
CREATED:20181105T100103Z
LAST-MODIFIED:20191211T093745Z
UID:7999-1580668200-1580671800@www.belhusparkchapel.co.uk
SUMMARY:Evening Service - Andy Banton
DESCRIPTION:
URL:https://www.belhusparkchapel.co.uk/calendar/evening-service-2-2020-02-02/
END:VEVENT
END:VCALENDAR