BEGIN:VCALENDAR
VERSION:2.0
PRODID:-//Belhus Park Chapel - ECPv6.15.14//NONSGML v1.0//EN
CALSCALE:GREGORIAN
METHOD:PUBLISH
X-ORIGINAL-URL:https://www.belhusparkchapel.co.uk
X-WR-CALDESC:Events for Belhus Park Chapel
REFRESH-INTERVAL;VALUE=DURATION:PT1H
X-Robots-Tag:noindex
X-PUBLISHED-TTL:PT1H
BEGIN:VTIMEZONE
TZID:UTC
BEGIN:STANDARD
TZOFFSETFROM:+0000
TZOFFSETTO:+0000
TZNAME:UTC
DTSTART:20190101T000000
END:STANDARD
END:VTIMEZONE
BEGIN:VEVENT
DTSTART;TZID=UTC:20201124T200000
DTEND;TZID=UTC:20201124T213000
DTSTAMP:20260423T061121
CREATED:20181105T100326Z
LAST-MODIFIED:20201006T161939Z
UID:8644-1606248000-1606253400@www.belhusparkchapel.co.uk
SUMMARY:Prayer Meeting (via Zoom)
DESCRIPTION:
URL:https://www.belhusparkchapel.co.uk/calendar/prayer-bible-study-2-2020-11-24/
END:VEVENT
BEGIN:VEVENT
DTSTART;TZID=UTC:20201129T111500
DTEND;TZID=UTC:20201129T123000
DTSTAMP:20260423T061121
CREATED:20181105T095935Z
LAST-MODIFIED:20201105T090708Z
UID:8649-1606648500-1606653000@www.belhusparkchapel.co.uk
SUMMARY:Morning Service - Pastor Keith White (online stream only)
DESCRIPTION:
URL:https://www.belhusparkchapel.co.uk/calendar/morning-service-2020-11-29/
END:VEVENT
BEGIN:VEVENT
DTSTART;TZID=UTC:20201129T183000
DTEND;TZID=UTC:20201129T193000
DTSTAMP:20260423T061121
CREATED:20200914T111105Z
LAST-MODIFIED:20201105T090741Z
UID:9976-1606674600-1606678200@www.belhusparkchapel.co.uk
SUMMARY:Evening Service - Pastor Keith White (online stream only)
DESCRIPTION:
URL:https://www.belhusparkchapel.co.uk/calendar/evening-service-available-to-stream-2020-11-29/
LOCATION:Belhus Park Chapel
END:VEVENT
END:VCALENDAR