BEGIN:VCALENDAR
VERSION:2.0
PRODID:-//Belhus Park Chapel - ECPv6.15.14//NONSGML v1.0//EN
CALSCALE:GREGORIAN
METHOD:PUBLISH
X-ORIGINAL-URL:https://www.belhusparkchapel.co.uk
X-WR-CALDESC:Events for Belhus Park Chapel
REFRESH-INTERVAL;VALUE=DURATION:PT1H
X-Robots-Tag:noindex
X-PUBLISHED-TTL:PT1H
BEGIN:VTIMEZONE
TZID:UTC
BEGIN:STANDARD
TZOFFSETFROM:+0000
TZOFFSETTO:+0000
TZNAME:UTC
DTSTART:20190101T000000
END:STANDARD
END:VTIMEZONE
BEGIN:VEVENT
DTSTART;TZID=UTC:20201201T200000
DTEND;TZID=UTC:20201201T213000
DTSTAMP:20260423T061121
CREATED:20181105T100326Z
LAST-MODIFIED:20201105T090857Z
UID:8652-1606852800-1606858200@www.belhusparkchapel.co.uk
SUMMARY:Prayer Meeting (via Zoom)
DESCRIPTION:
URL:https://www.belhusparkchapel.co.uk/calendar/prayer-bible-study-2-2020-12-01/
END:VEVENT
BEGIN:VEVENT
DTSTART;TZID=UTC:20201206T111500
DTEND;TZID=UTC:20201206T123000
DTSTAMP:20260423T061121
CREATED:20181105T095935Z
LAST-MODIFIED:20201105T091027Z
UID:8878-1607253300-1607257800@www.belhusparkchapel.co.uk
SUMMARY:Morning Family Service - Pastor Julian Rogers (available to stream)
DESCRIPTION:
URL:https://www.belhusparkchapel.co.uk/calendar/morning-service-2019-02-03-2020-12-06/
END:VEVENT
BEGIN:VEVENT
DTSTART;TZID=UTC:20201206T183000
DTEND;TZID=UTC:20201206T193000
DTSTAMP:20260423T061121
CREATED:20200914T111105Z
LAST-MODIFIED:20201105T091109Z
UID:9977-1607279400-1607283000@www.belhusparkchapel.co.uk
SUMMARY:Evening Service - Pastor Julian Rogers (available to stream)
DESCRIPTION:
URL:https://www.belhusparkchapel.co.uk/calendar/evening-service-available-to-stream-2020-12-06/
LOCATION:Belhus Park Chapel
END:VEVENT
END:VCALENDAR