BEGIN:VCALENDAR
VERSION:2.0
PRODID:-//Belhus Park Chapel - ECPv6.15.14//NONSGML v1.0//EN
CALSCALE:GREGORIAN
METHOD:PUBLISH
X-WR-CALNAME:Belhus Park Chapel
X-ORIGINAL-URL:https://www.belhusparkchapel.co.uk
X-WR-CALDESC:Events for Belhus Park Chapel
REFRESH-INTERVAL;VALUE=DURATION:PT1H
X-Robots-Tag:noindex
X-PUBLISHED-TTL:PT1H
BEGIN:VTIMEZONE
TZID:UTC
BEGIN:STANDARD
TZOFFSETFROM:+0000
TZOFFSETTO:+0000
TZNAME:UTC
DTSTART:20190101T000000
END:STANDARD
END:VTIMEZONE
BEGIN:VEVENT
DTSTART;TZID=UTC:20201229T200000
DTEND;TZID=UTC:20201229T213000
DTSTAMP:20260422T215020
CREATED:20181105T100326Z
LAST-MODIFIED:20201105T092234Z
UID:8912-1609272000-1609277400@www.belhusparkchapel.co.uk
SUMMARY:Prayer Meeting (via Zoom)
DESCRIPTION:
URL:https://www.belhusparkchapel.co.uk/calendar/prayer-bible-study-2-2020-12-29/
END:VEVENT
BEGIN:VEVENT
DTSTART;TZID=UTC:20210103T111500
DTEND;TZID=UTC:20210103T123000
DTSTAMP:20260422T215020
CREATED:20181105T095935Z
LAST-MODIFIED:20201109T130021Z
UID:8918-1609672500-1609677000@www.belhusparkchapel.co.uk
SUMMARY:Morning Family Service - Andy Banton (available to stream)
DESCRIPTION:
URL:https://www.belhusparkchapel.co.uk/calendar/morning-service-2019-02-03-2021-01-03/
END:VEVENT
BEGIN:VEVENT
DTSTART;TZID=UTC:20210103T183000
DTEND;TZID=UTC:20210103T193000
DTSTAMP:20260422T215020
CREATED:20200914T111105Z
LAST-MODIFIED:20210102T140321Z
UID:9981-1609698600-1609702200@www.belhusparkchapel.co.uk
SUMMARY:Evening Service - Andy Banton (available to stream)
DESCRIPTION:
URL:https://www.belhusparkchapel.co.uk/calendar/evening-service-available-to-stream-2021-01-03/
LOCATION:Belhus Park Chapel
END:VEVENT
END:VCALENDAR