BEGIN:VCALENDAR
VERSION:2.0
PRODID:-//Belhus Park Chapel - ECPv6.15.14//NONSGML v1.0//EN
CALSCALE:GREGORIAN
METHOD:PUBLISH
X-ORIGINAL-URL:https://www.belhusparkchapel.co.uk
X-WR-CALDESC:Events for Belhus Park Chapel
REFRESH-INTERVAL;VALUE=DURATION:PT1H
X-Robots-Tag:noindex
X-PUBLISHED-TTL:PT1H
BEGIN:VTIMEZONE
TZID:UTC
BEGIN:STANDARD
TZOFFSETFROM:+0000
TZOFFSETTO:+0000
TZNAME:UTC
DTSTART:20230101T000000
END:STANDARD
END:VTIMEZONE
BEGIN:VEVENT
DTSTART;TZID=UTC:20240702T124500
DTEND;TZID=UTC:20240702T134500
DTSTAMP:20260425T011122
CREATED:20231213T223007Z
LAST-MODIFIED:20231213T223007Z
UID:12253-1719924300-1719927900@www.belhusparkchapel.co.uk
SUMMARY:Lunch Club
DESCRIPTION:
URL:https://www.belhusparkchapel.co.uk/calendar/lunch-club-3/2024-07-02/
LOCATION:Belhus Park Chapel
END:VEVENT
BEGIN:VEVENT
DTSTART;TZID=UTC:20240702T200000
DTEND;TZID=UTC:20240702T210000
DTSTAMP:20260425T011122
CREATED:20231213T223530Z
LAST-MODIFIED:20231213T223530Z
UID:12407-1719950400-1719954000@www.belhusparkchapel.co.uk
SUMMARY:Prayer Meeting (on Zoom)
DESCRIPTION:
URL:https://www.belhusparkchapel.co.uk/calendar/prayer-meeting-on-zoom-3/2024-07-02/
END:VEVENT
BEGIN:VEVENT
DTSTART;TZID=UTC:20240703T180000
DTEND;TZID=UTC:20240703T210000
DTSTAMP:20260425T011122
CREATED:20231213T223131Z
LAST-MODIFIED:20231213T223131Z
UID:12304-1720029600-1720040400@www.belhusparkchapel.co.uk
SUMMARY:Campaigners
DESCRIPTION:
URL:https://www.belhusparkchapel.co.uk/calendar/campaigners-5/2024-07-03/
LOCATION:Belhus Park Chapel
END:VEVENT
BEGIN:VEVENT
DTSTART;TZID=UTC:20240704T100000
DTEND;TZID=UTC:20240704T113000
DTSTAMP:20260425T011122
CREATED:20231213T223245Z
LAST-MODIFIED:20231213T223245Z
UID:12355-1720087200-1720092600@www.belhusparkchapel.co.uk
SUMMARY:Noah's Ark
DESCRIPTION:
URL:https://www.belhusparkchapel.co.uk/calendar/noahs-ark-5/2024-07-04/
LOCATION:Belhus Park Chapel
END:VEVENT
BEGIN:VEVENT
DTSTART;TZID=UTC:20240707T094500
DTEND;TZID=UTC:20240707T104500
DTSTAMP:20260425T011122
CREATED:20181105T095347Z
LAST-MODIFIED:20181105T095347Z
UID:11279-1720345500-1720349100@www.belhusparkchapel.co.uk
SUMMARY:Explorers & Bible Class
DESCRIPTION:
URL:https://www.belhusparkchapel.co.uk/calendar/explorers-bible-class-2019-01-20/2024-07-07/
END:VEVENT
BEGIN:VEVENT
DTSTART;TZID=UTC:20240707T111500
DTEND;TZID=UTC:20240707T123000
DTSTAMP:20260425T011122
CREATED:20231213T222148Z
LAST-MODIFIED:20240529T193157Z
UID:12149-1720350900-1720355400@www.belhusparkchapel.co.uk
SUMMARY:Family Service - Mr Steve Gurnett (available to stream)
DESCRIPTION:followed by refreshments
URL:https://www.belhusparkchapel.co.uk/calendar/morning-service-preacher-tba-available-to-stream-2-2024-03-31/2024-07-07/
LOCATION:Belhus Park Chapel
END:VEVENT
BEGIN:VEVENT
DTSTART;TZID=UTC:20240707T183000
DTEND;TZID=UTC:20240707T193000
DTSTAMP:20260425T011122
CREATED:20231213T222311Z
LAST-MODIFIED:20240529T193221Z
UID:12201-1720377000-1720380600@www.belhusparkchapel.co.uk
SUMMARY:Evening Service - Pastor Julian Rogers (available to stream)
DESCRIPTION:
URL:https://www.belhusparkchapel.co.uk/calendar/evening-service-preacher-tba-available-to-stream-2024-04-07/2024-07-07/
LOCATION:Belhus Park Chapel
END:VEVENT
END:VCALENDAR