BEGIN:VCALENDAR
VERSION:2.0
PRODID:-//Belhus Park Chapel - ECPv6.15.14//NONSGML v1.0//EN
CALSCALE:GREGORIAN
METHOD:PUBLISH
X-ORIGINAL-URL:https://www.belhusparkchapel.co.uk
X-WR-CALDESC:Events for Belhus Park Chapel
REFRESH-INTERVAL;VALUE=DURATION:PT1H
X-Robots-Tag:noindex
X-PUBLISHED-TTL:PT1H
BEGIN:VTIMEZONE
TZID:UTC
BEGIN:STANDARD
TZOFFSETFROM:+0000
TZOFFSETTO:+0000
TZNAME:UTC
DTSTART:20230101T000000
END:STANDARD
END:VTIMEZONE
BEGIN:VEVENT
DTSTART;TZID=UTC:20241126T124500
DTEND;TZID=UTC:20241126T134500
DTSTAMP:20260420T081518
CREATED:20231213T223007Z
LAST-MODIFIED:20231213T223007Z
UID:12274-1732625100-1732628700@www.belhusparkchapel.co.uk
SUMMARY:Lunch Club
DESCRIPTION:
URL:https://www.belhusparkchapel.co.uk/calendar/lunch-club-3/2024-11-26/
LOCATION:Belhus Park Chapel
END:VEVENT
BEGIN:VEVENT
DTSTART;TZID=UTC:20241126T200000
DTEND;TZID=UTC:20241126T210000
DTSTAMP:20260420T081518
CREATED:20231213T223530Z
LAST-MODIFIED:20231213T223530Z
UID:12428-1732651200-1732654800@www.belhusparkchapel.co.uk
SUMMARY:Prayer Meeting (on Zoom)
DESCRIPTION:
URL:https://www.belhusparkchapel.co.uk/calendar/prayer-meeting-on-zoom-3/2024-11-26/
END:VEVENT
BEGIN:VEVENT
DTSTART;TZID=UTC:20241127T180000
DTEND;TZID=UTC:20241127T210000
DTSTAMP:20260420T081518
CREATED:20231213T223131Z
LAST-MODIFIED:20231213T223131Z
UID:12325-1732730400-1732741200@www.belhusparkchapel.co.uk
SUMMARY:Campaigners
DESCRIPTION:
URL:https://www.belhusparkchapel.co.uk/calendar/campaigners-5/2024-11-27/
LOCATION:Belhus Park Chapel
END:VEVENT
BEGIN:VEVENT
DTSTART;TZID=UTC:20241128T100000
DTEND;TZID=UTC:20241128T113000
DTSTAMP:20260420T081518
CREATED:20231213T223245Z
LAST-MODIFIED:20231213T223245Z
UID:12376-1732788000-1732793400@www.belhusparkchapel.co.uk
SUMMARY:Noah's Ark
DESCRIPTION:
URL:https://www.belhusparkchapel.co.uk/calendar/noahs-ark-5/2024-11-28/
LOCATION:Belhus Park Chapel
END:VEVENT
BEGIN:VEVENT
DTSTART;TZID=UTC:20241201T094500
DTEND;TZID=UTC:20241201T104500
DTSTAMP:20260420T081518
CREATED:20181105T095347Z
LAST-MODIFIED:20181105T095347Z
UID:11341-1733046300-1733049900@www.belhusparkchapel.co.uk
SUMMARY:Explorers & Bible Class
DESCRIPTION:
URL:https://www.belhusparkchapel.co.uk/calendar/explorers-bible-class-2019-01-20-2024-10-06-2024-10-13/2024-12-01/
END:VEVENT
BEGIN:VEVENT
DTSTART;TZID=UTC:20241201T111500
DTEND;TZID=UTC:20241201T123000
DTSTAMP:20260420T081518
CREATED:20231213T222148Z
LAST-MODIFIED:20241028T213608Z
UID:12170-1733051700-1733056200@www.belhusparkchapel.co.uk
SUMMARY:Family Service - Mr Peter Kennelly (available to stream)
DESCRIPTION:followed by refreshments
URL:https://www.belhusparkchapel.co.uk/calendar/morning-service-preacher-tba-available-to-stream-2-2024-03-31/2024-12-01/
LOCATION:Belhus Park Chapel
END:VEVENT
BEGIN:VEVENT
DTSTART;TZID=UTC:20241201T183000
DTEND;TZID=UTC:20241201T193000
DTSTAMP:20260420T081518
CREATED:20231213T222311Z
LAST-MODIFIED:20241028T213706Z
UID:12222-1733077800-1733081400@www.belhusparkchapel.co.uk
SUMMARY:Evening Service - Pastor Julian Rogers (available to stream)
DESCRIPTION:
URL:https://www.belhusparkchapel.co.uk/calendar/evening-service-preacher-tba-available-to-stream-2024-04-07/2024-12-01/
LOCATION:Belhus Park Chapel
END:VEVENT
END:VCALENDAR