BEGIN:VCALENDAR
VERSION:2.0
PRODID:-//Belhus Park Chapel - ECPv6.15.14//NONSGML v1.0//EN
CALSCALE:GREGORIAN
METHOD:PUBLISH
X-WR-CALNAME:Belhus Park Chapel
X-ORIGINAL-URL:https://www.belhusparkchapel.co.uk
X-WR-CALDESC:Events for Belhus Park Chapel
REFRESH-INTERVAL;VALUE=DURATION:PT1H
X-Robots-Tag:noindex
X-PUBLISHED-TTL:PT1H
BEGIN:VTIMEZONE
TZID:UTC
BEGIN:STANDARD
TZOFFSETFROM:+0000
TZOFFSETTO:+0000
TZNAME:UTC
DTSTART:20230101T000000
END:STANDARD
END:VTIMEZONE
BEGIN:VEVENT
DTSTART;TZID=UTC:20241223T200000
DTEND;TZID=UTC:20241223T210000
DTSTAMP:20260420T030906
CREATED:20241129T084917Z
LAST-MODIFIED:20241129T084917Z
UID:12746-1734984000-1734987600@www.belhusparkchapel.co.uk
SUMMARY:Prayer Meeting (on Zoom)
DESCRIPTION:
URL:https://www.belhusparkchapel.co.uk/calendar/prayer-meeting-on-zoom-4/
END:VEVENT
BEGIN:VEVENT
DTSTART;TZID=UTC:20241225T103000
DTEND;TZID=UTC:20241225T113000
DTSTAMP:20260420T030906
CREATED:20241028T214318Z
LAST-MODIFIED:20241028T214318Z
UID:12732-1735122600-1735126200@www.belhusparkchapel.co.uk
SUMMARY:Christmas Morning Service - Pastor Julian Rogers (available to stream)
DESCRIPTION:
URL:https://www.belhusparkchapel.co.uk/calendar/christmas-morning-service-pastor-julian-rogers-available-to-stream-5/
LOCATION:Belhus Park Chapel
END:VEVENT
BEGIN:VEVENT
DTSTART;TZID=UTC:20241229T111500
DTEND;TZID=UTC:20241229T123000
DTSTAMP:20260420T030906
CREATED:20231213T222148Z
LAST-MODIFIED:20240213T102030Z
UID:12174-1735470900-1735475400@www.belhusparkchapel.co.uk
SUMMARY:Morning Service - Preacher TBA (available to stream)
DESCRIPTION:
URL:https://www.belhusparkchapel.co.uk/calendar/morning-service-preacher-tba-available-to-stream-2-2024-03-31/2024-12-29/
LOCATION:Belhus Park Chapel
END:VEVENT
BEGIN:VEVENT
DTSTART;TZID=UTC:20241229T183000
DTEND;TZID=UTC:20241229T193000
DTSTAMP:20260420T030906
CREATED:20231213T222311Z
LAST-MODIFIED:20240213T102401Z
UID:12226-1735497000-1735500600@www.belhusparkchapel.co.uk
SUMMARY:Evening Service - Preacher TBA (available to stream)
DESCRIPTION:
URL:https://www.belhusparkchapel.co.uk/calendar/evening-service-preacher-tba-available-to-stream-2024-04-07/2024-12-29/
LOCATION:Belhus Park Chapel
END:VEVENT
END:VCALENDAR