BEGIN:VCALENDAR
VERSION:2.0
PRODID:-//Belhus Park Chapel - ECPv6.15.14//NONSGML v1.0//EN
CALSCALE:GREGORIAN
METHOD:PUBLISH
X-WR-CALNAME:Belhus Park Chapel
X-ORIGINAL-URL:https://www.belhusparkchapel.co.uk
X-WR-CALDESC:Events for Belhus Park Chapel
REFRESH-INTERVAL;VALUE=DURATION:PT1H
X-Robots-Tag:noindex
X-PUBLISHED-TTL:PT1H
BEGIN:VTIMEZONE
TZID:UTC
BEGIN:STANDARD
TZOFFSETFROM:+0000
TZOFFSETTO:+0000
TZNAME:UTC
DTSTART:20240101T000000
END:STANDARD
END:VTIMEZONE
BEGIN:VEVENT
DTSTART;TZID=UTC:20250107T200000
DTEND;TZID=UTC:20250107T210000
DTSTAMP:20260419T234637
CREATED:20241129T085206Z
LAST-MODIFIED:20241129T085206Z
UID:12750-1736280000-1736283600@www.belhusparkchapel.co.uk
SUMMARY:Prayer Meeting (on Zoom)
DESCRIPTION:
URL:https://www.belhusparkchapel.co.uk/calendar/prayer-meeting-on-zoom-6/
END:VEVENT
BEGIN:VEVENT
DTSTART;TZID=UTC:20250112T094500
DTEND;TZID=UTC:20250112T104500
DTSTAMP:20260419T234637
CREATED:20181105T095347Z
LAST-MODIFIED:20181105T095347Z
UID:11511-1736675100-1736678700@www.belhusparkchapel.co.uk
SUMMARY:Explorers & Bible Class
DESCRIPTION:
URL:https://www.belhusparkchapel.co.uk/calendar/explorers-bible-class-2019-01-20-2024-10-06-2024-10-13/2025-01-12/
END:VEVENT
BEGIN:VEVENT
DTSTART;TZID=UTC:20250112T111500
DTEND;TZID=UTC:20250112T123000
DTSTAMP:20260419T234637
CREATED:20241127T090109Z
LAST-MODIFIED:20241127T090109Z
UID:12740-1736680500-1736685000@www.belhusparkchapel.co.uk
SUMMARY:Morning Service - Preacher TBA (available to stream)
DESCRIPTION:
URL:https://www.belhusparkchapel.co.uk/calendar/morning-service-preacher-tba-available-to-stream-4/
LOCATION:Belhus Park Chapel
END:VEVENT
END:VCALENDAR