BEGIN:VCALENDAR
VERSION:2.0
PRODID:-//Belhus Park Chapel - ECPv6.15.14//NONSGML v1.0//EN
CALSCALE:GREGORIAN
METHOD:PUBLISH
X-WR-CALNAME:Belhus Park Chapel
X-ORIGINAL-URL:https://www.belhusparkchapel.co.uk
X-WR-CALDESC:Events for Belhus Park Chapel
REFRESH-INTERVAL;VALUE=DURATION:PT1H
X-Robots-Tag:noindex
X-PUBLISHED-TTL:PT1H
BEGIN:VTIMEZONE
TZID:UTC
BEGIN:STANDARD
TZOFFSETFROM:+0000
TZOFFSETTO:+0000
TZNAME:UTC
DTSTART:20240101T000000
END:STANDARD
END:VTIMEZONE
BEGIN:VEVENT
DTSTART;TZID=UTC:20250204T123000
DTEND;TZID=UTC:20250204T140000
DTSTAMP:20260419T222402
CREATED:20250128T115453Z
LAST-MODIFIED:20250128T115453Z
UID:12777-1738672200-1738677600@www.belhusparkchapel.co.uk
SUMMARY:Lunch Club
DESCRIPTION:
URL:https://www.belhusparkchapel.co.uk/calendar/lunch-club-5/
LOCATION:Belhus Park Chapel
END:VEVENT
BEGIN:VEVENT
DTSTART;TZID=UTC:20250204T200000
DTEND;TZID=UTC:20250204T210000
DTSTAMP:20260419T222402
CREATED:20250128T115550Z
LAST-MODIFIED:20250128T115550Z
UID:12779-1738699200-1738702800@www.belhusparkchapel.co.uk
SUMMARY:Prayer Meeting (on Zoom)
DESCRIPTION:
URL:https://www.belhusparkchapel.co.uk/calendar/prayer-meeting-on-zoom-10/
END:VEVENT
BEGIN:VEVENT
DTSTART;TZID=UTC:20250205T180000
DTEND;TZID=UTC:20250205T210000
DTSTAMP:20260419T222402
CREATED:20250128T115635Z
LAST-MODIFIED:20250128T115635Z
UID:12781-1738778400-1738789200@www.belhusparkchapel.co.uk
SUMMARY:Campaigners
DESCRIPTION:
URL:https://www.belhusparkchapel.co.uk/calendar/campaigners-7/
LOCATION:Belhus Park Chapel
END:VEVENT
BEGIN:VEVENT
DTSTART;TZID=UTC:20250206T100000
DTEND;TZID=UTC:20250206T113000
DTSTAMP:20260419T222402
CREATED:20250128T115724Z
LAST-MODIFIED:20250128T115724Z
UID:12783-1738836000-1738841400@www.belhusparkchapel.co.uk
SUMMARY:Noah's Ark
DESCRIPTION:
URL:https://www.belhusparkchapel.co.uk/calendar/noahs-ark-7/
LOCATION:Belhus Park Chapel
END:VEVENT
BEGIN:VEVENT
DTSTART;TZID=UTC:20250209T094500
DTEND;TZID=UTC:20250209T104500
DTSTAMP:20260419T222402
CREATED:20181105T095347Z
LAST-MODIFIED:20250128T120146Z
UID:11895-1739094300-1739097900@www.belhusparkchapel.co.uk
SUMMARY:Explorers
DESCRIPTION:
URL:https://www.belhusparkchapel.co.uk/calendar/explorers-bible-class-2019-01-20-2024-10-06-2024-10-13/2025-02-09/
END:VEVENT
BEGIN:VEVENT
DTSTART;TZID=UTC:20250209T111500
DTEND;TZID=UTC:20250209T123000
DTSTAMP:20260419T222402
CREATED:20250128T115909Z
LAST-MODIFIED:20250128T115909Z
UID:12785-1739099700-1739104200@www.belhusparkchapel.co.uk
SUMMARY:Morning Service - Pastor Julian Rogers (available to stream)
DESCRIPTION:
URL:https://www.belhusparkchapel.co.uk/calendar/morning-service-pastor-julian-rogers-available-to-stream/
LOCATION:Belhus Park Chapel
END:VEVENT
BEGIN:VEVENT
DTSTART;TZID=UTC:20250209T183000
DTEND;TZID=UTC:20250209T193000
DTSTAMP:20260419T222402
CREATED:20250128T120015Z
LAST-MODIFIED:20250128T120015Z
UID:12787-1739125800-1739129400@www.belhusparkchapel.co.uk
SUMMARY:Evening Service - Pastor Matthew Stratton (available to stream)
DESCRIPTION:
URL:https://www.belhusparkchapel.co.uk/calendar/evening-service-pastor-matthew-stratton-available-to-stream/
LOCATION:Belhus Park Chapel
END:VEVENT
END:VCALENDAR