BEGIN:VCALENDAR
VERSION:2.0
PRODID:-//Belhus Park Chapel - ECPv6.15.14//NONSGML v1.0//EN
CALSCALE:GREGORIAN
METHOD:PUBLISH
X-WR-CALNAME:Belhus Park Chapel
X-ORIGINAL-URL:https://www.belhusparkchapel.co.uk
X-WR-CALDESC:Events for Belhus Park Chapel
REFRESH-INTERVAL;VALUE=DURATION:PT1H
X-Robots-Tag:noindex
X-PUBLISHED-TTL:PT1H
BEGIN:VTIMEZONE
TZID:UTC
BEGIN:STANDARD
TZOFFSETFROM:+0000
TZOFFSETTO:+0000
TZNAME:UTC
DTSTART:20240101T000000
END:STANDARD
END:VTIMEZONE
BEGIN:VEVENT
DTSTART;TZID=UTC:20250218T200000
DTEND;TZID=UTC:20250218T210000
DTSTAMP:20260419T173315
CREATED:20250228T170514Z
LAST-MODIFIED:20250228T170514Z
UID:12805-1739908800-1739912400@www.belhusparkchapel.co.uk
SUMMARY:Prayer Meeting (on Zoom)
DESCRIPTION:
URL:https://www.belhusparkchapel.co.uk/calendar/prayer-meeting-on-zoom-12/
END:VEVENT
BEGIN:VEVENT
DTSTART;TZID=UTC:20250223T094500
DTEND;TZID=UTC:20250223T104500
DTSTAMP:20260419T173315
CREATED:20181105T095347Z
LAST-MODIFIED:20181105T095347Z
UID:11908-1740303900-1740307500@www.belhusparkchapel.co.uk
SUMMARY:Explorers & Bible Class
DESCRIPTION:
URL:https://www.belhusparkchapel.co.uk/calendar/explorers-bible-class-2019-01-20-2024-10-06-2024-10-13/2025-02-23/
END:VEVENT
BEGIN:VEVENT
DTSTART;TZID=UTC:20250223T111500
DTEND;TZID=UTC:20250223T123000
DTSTAMP:20260419T173315
CREATED:20250228T170903Z
LAST-MODIFIED:20250228T170903Z
UID:12809-1740309300-1740313800@www.belhusparkchapel.co.uk
SUMMARY:Morning Service - Pastor Julian Rogers (available to stream)
DESCRIPTION:
URL:https://www.belhusparkchapel.co.uk/calendar/morning-service-pastor-julian-rogers-available-to-stream-2/
LOCATION:Belhus Park Chapel
END:VEVENT
BEGIN:VEVENT
DTSTART;TZID=UTC:20250223T183000
DTEND;TZID=UTC:20250223T193000
DTSTAMP:20260419T173315
CREATED:20250228T171106Z
LAST-MODIFIED:20250228T171106Z
UID:12811-1740335400-1740339000@www.belhusparkchapel.co.uk
SUMMARY:Evening Service - Mr Tim Hambridge (available to stream)
DESCRIPTION:
URL:https://www.belhusparkchapel.co.uk/calendar/evening-service-mr-tim-hambridge-available-to-stream/
LOCATION:Belhus Park Chapel
END:VEVENT
END:VCALENDAR