BEGIN:VCALENDAR
VERSION:2.0
PRODID:-//Belhus Park Chapel - ECPv6.15.14//NONSGML v1.0//EN
CALSCALE:GREGORIAN
METHOD:PUBLISH
X-ORIGINAL-URL:https://www.belhusparkchapel.co.uk
X-WR-CALDESC:Events for Belhus Park Chapel
REFRESH-INTERVAL;VALUE=DURATION:PT1H
X-Robots-Tag:noindex
X-PUBLISHED-TTL:PT1H
BEGIN:VTIMEZONE
TZID:UTC
BEGIN:STANDARD
TZOFFSETFROM:+0000
TZOFFSETTO:+0000
TZNAME:UTC
DTSTART:20240101T000000
END:STANDARD
END:VTIMEZONE
BEGIN:VEVENT
DTSTART;TZID=UTC:20250225T123000
DTEND;TZID=UTC:20250225T140000
DTSTAMP:20260419T190556
CREATED:20250228T170658Z
LAST-MODIFIED:20250228T170658Z
UID:12807-1740486600-1740492000@www.belhusparkchapel.co.uk
SUMMARY:Lunch Club
DESCRIPTION:
URL:https://www.belhusparkchapel.co.uk/calendar/lunch-club-8/
LOCATION:Belhus Park Chapel
END:VEVENT
BEGIN:VEVENT
DTSTART;TZID=UTC:20250225T200000
DTEND;TZID=UTC:20250225T210000
DTSTAMP:20260419T190556
CREATED:20250228T171248Z
LAST-MODIFIED:20250228T171248Z
UID:12813-1740513600-1740517200@www.belhusparkchapel.co.uk
SUMMARY:Prayer Meeting (on Zoom)
DESCRIPTION:
URL:https://www.belhusparkchapel.co.uk/calendar/prayer-meeting-on-zoom-13/
END:VEVENT
BEGIN:VEVENT
DTSTART;TZID=UTC:20250226T180000
DTEND;TZID=UTC:20250226T210000
DTSTAMP:20260419T190556
CREATED:20250228T171419Z
LAST-MODIFIED:20250228T171419Z
UID:12815-1740592800-1740603600@www.belhusparkchapel.co.uk
SUMMARY:Campaigners
DESCRIPTION:
URL:https://www.belhusparkchapel.co.uk/calendar/campaigners-9/
LOCATION:Belhus Park Chapel
END:VEVENT
BEGIN:VEVENT
DTSTART;TZID=UTC:20250227T100000
DTEND;TZID=UTC:20250227T113000
DTSTAMP:20260419T190556
CREATED:20250228T171957Z
LAST-MODIFIED:20250228T171957Z
UID:12821-1740650400-1740655800@www.belhusparkchapel.co.uk
SUMMARY:Noah's Ark
DESCRIPTION:
URL:https://www.belhusparkchapel.co.uk/calendar/noahs-ark-10/
LOCATION:Belhus Park Chapel
END:VEVENT
BEGIN:VEVENT
DTSTART;TZID=UTC:20250302T094500
DTEND;TZID=UTC:20250302T104500
DTSTAMP:20260419T190556
CREATED:20181105T095347Z
LAST-MODIFIED:20181105T095347Z
UID:11919-1740908700-1740912300@www.belhusparkchapel.co.uk
SUMMARY:Explorers & Bible Class
DESCRIPTION:
URL:https://www.belhusparkchapel.co.uk/calendar/explorers-bible-class-2019-01-20-2024-10-06-2024-10-13/2025-03-02/
END:VEVENT
BEGIN:VEVENT
DTSTART;TZID=UTC:20250302T111500
DTEND;TZID=UTC:20250302T123000
DTSTAMP:20260419T190556
CREATED:20250228T171613Z
LAST-MODIFIED:20250228T171836Z
UID:12817-1740914100-1740918600@www.belhusparkchapel.co.uk
SUMMARY:Family Service - Mr Steve Gurnett (available to stream)
DESCRIPTION:followed by refreshments
URL:https://www.belhusparkchapel.co.uk/calendar/noahs-ark-9/
LOCATION:Belhus Park Chapel
END:VEVENT
BEGIN:VEVENT
DTSTART;TZID=UTC:20250302T183000
DTEND;TZID=UTC:20250302T193000
DTSTAMP:20260419T190556
CREATED:20250228T172056Z
LAST-MODIFIED:20250228T172056Z
UID:12823-1740940200-1740943800@www.belhusparkchapel.co.uk
SUMMARY:Gospel Service - Pastor Julian Rogers (available to stream)
DESCRIPTION:
URL:https://www.belhusparkchapel.co.uk/calendar/gospel-service-pastor-julian-rogers-available-to-stream-2/
LOCATION:Belhus Park Chapel
END:VEVENT
END:VCALENDAR