BEGIN:VCALENDAR
VERSION:2.0
PRODID:-//Belhus Park Chapel - ECPv6.15.14//NONSGML v1.0//EN
CALSCALE:GREGORIAN
METHOD:PUBLISH
X-ORIGINAL-URL:https://www.belhusparkchapel.co.uk
X-WR-CALDESC:Events for Belhus Park Chapel
REFRESH-INTERVAL;VALUE=DURATION:PT1H
X-Robots-Tag:noindex
X-PUBLISHED-TTL:PT1H
BEGIN:VTIMEZONE
TZID:UTC
BEGIN:STANDARD
TZOFFSETFROM:+0000
TZOFFSETTO:+0000
TZNAME:UTC
DTSTART:20240101T000000
END:STANDARD
END:VTIMEZONE
BEGIN:VEVENT
DTSTART;TZID=UTC:20250304T123000
DTEND;TZID=UTC:20250304T140000
DTSTAMP:20260419T204847
CREATED:20250228T172302Z
LAST-MODIFIED:20250228T172302Z
UID:12827-1741091400-1741096800@www.belhusparkchapel.co.uk
SUMMARY:Lunch Club
DESCRIPTION:
URL:https://www.belhusparkchapel.co.uk/calendar/lunch-club-7/
LOCATION:Belhus Park Chapel
END:VEVENT
BEGIN:VEVENT
DTSTART;TZID=UTC:20250304T200000
DTEND;TZID=UTC:20250304T210000
DTSTAMP:20260419T204847
CREATED:20250228T172207Z
LAST-MODIFIED:20250228T172207Z
UID:12825-1741118400-1741122000@www.belhusparkchapel.co.uk
SUMMARY:Prayer Meeting (on Zoom)
DESCRIPTION:
URL:https://www.belhusparkchapel.co.uk/calendar/prayer-meeting-on-zoom-14/
END:VEVENT
BEGIN:VEVENT
DTSTART;TZID=UTC:20250305T180000
DTEND;TZID=UTC:20250305T210000
DTSTAMP:20260419T204847
CREATED:20250228T172344Z
LAST-MODIFIED:20250228T172344Z
UID:12829-1741197600-1741208400@www.belhusparkchapel.co.uk
SUMMARY:Campaigners
DESCRIPTION:
URL:https://www.belhusparkchapel.co.uk/calendar/campaigners-10/
LOCATION:Belhus Park Chapel
END:VEVENT
BEGIN:VEVENT
DTSTART;TZID=UTC:20250306T100000
DTEND;TZID=UTC:20250306T113000
DTSTAMP:20260419T204847
CREATED:20250228T172442Z
LAST-MODIFIED:20250228T172442Z
UID:12831-1741255200-1741260600@www.belhusparkchapel.co.uk
SUMMARY:Noah's Ark
DESCRIPTION:
URL:https://www.belhusparkchapel.co.uk/calendar/noahs-ark-11/
LOCATION:Belhus Park Chapel
END:VEVENT
BEGIN:VEVENT
DTSTART;TZID=UTC:20250309T094500
DTEND;TZID=UTC:20250309T104500
DTSTAMP:20260419T204847
CREATED:20181105T095347Z
LAST-MODIFIED:20181105T095347Z
UID:11920-1741513500-1741517100@www.belhusparkchapel.co.uk
SUMMARY:Explorers & Bible Class
DESCRIPTION:
URL:https://www.belhusparkchapel.co.uk/calendar/explorers-bible-class-2019-01-20-2024-10-06-2024-10-13/2025-03-09/
END:VEVENT
BEGIN:VEVENT
DTSTART;TZID=UTC:20250309T111500
DTEND;TZID=UTC:20250309T123000
DTSTAMP:20260419T204847
CREATED:20250228T172544Z
LAST-MODIFIED:20250228T172544Z
UID:12833-1741518900-1741523400@www.belhusparkchapel.co.uk
SUMMARY:Morning Service - Pastor Julian Rogers (available to stream)
DESCRIPTION:
URL:https://www.belhusparkchapel.co.uk/calendar/morning-service-pastor-julian-rogers-available-to-stream-3/
LOCATION:Belhus Park Chapel
END:VEVENT
BEGIN:VEVENT
DTSTART;TZID=UTC:20250309T183000
DTEND;TZID=UTC:20250309T193000
DTSTAMP:20260419T204847
CREATED:20250228T172641Z
LAST-MODIFIED:20250228T172641Z
UID:12835-1741545000-1741548600@www.belhusparkchapel.co.uk
SUMMARY:Evening Service - Pastor David Fortune (available to stream)
DESCRIPTION:
URL:https://www.belhusparkchapel.co.uk/calendar/evening-service-pastor-david-fortune-available-to-stream/
LOCATION:Belhus Park Chapel
END:VEVENT
END:VCALENDAR