BEGIN:VCALENDAR
VERSION:2.0
PRODID:-//Belhus Park Chapel - ECPv6.15.14//NONSGML v1.0//EN
CALSCALE:GREGORIAN
METHOD:PUBLISH
X-ORIGINAL-URL:https://www.belhusparkchapel.co.uk
X-WR-CALDESC:Events for Belhus Park Chapel
REFRESH-INTERVAL;VALUE=DURATION:PT1H
X-Robots-Tag:noindex
X-PUBLISHED-TTL:PT1H
BEGIN:VTIMEZONE
TZID:UTC
BEGIN:STANDARD
TZOFFSETFROM:+0000
TZOFFSETTO:+0000
TZNAME:UTC
DTSTART:20240101T000000
END:STANDARD
END:VTIMEZONE
BEGIN:VEVENT
DTSTART;TZID=UTC:20250311T123000
DTEND;TZID=UTC:20250311T140000
DTSTAMP:20260423T083605
CREATED:20250305T192229Z
LAST-MODIFIED:20250305T192229Z
UID:12837-1741696200-1741701600@www.belhusparkchapel.co.uk
SUMMARY:Lunch Club
DESCRIPTION:
URL:https://www.belhusparkchapel.co.uk/calendar/lunch-club-9/
LOCATION:Belhus Park Chapel
END:VEVENT
BEGIN:VEVENT
DTSTART;TZID=UTC:20250311T200000
DTEND;TZID=UTC:20250311T210000
DTSTAMP:20260423T083605
CREATED:20250305T192313Z
LAST-MODIFIED:20250305T192313Z
UID:12839-1741723200-1741726800@www.belhusparkchapel.co.uk
SUMMARY:Prayer Meeting (on Zoom)
DESCRIPTION:
URL:https://www.belhusparkchapel.co.uk/calendar/prayer-meeting-on-zoom-15/
END:VEVENT
BEGIN:VEVENT
DTSTART;TZID=UTC:20250312T180000
DTEND;TZID=UTC:20250312T210000
DTSTAMP:20260423T083605
CREATED:20250305T192353Z
LAST-MODIFIED:20250305T192353Z
UID:12841-1741802400-1741813200@www.belhusparkchapel.co.uk
SUMMARY:Campaigners
DESCRIPTION:
URL:https://www.belhusparkchapel.co.uk/calendar/campaigners-11/
LOCATION:Belhus Park Chapel
END:VEVENT
BEGIN:VEVENT
DTSTART;TZID=UTC:20250313T100000
DTEND;TZID=UTC:20250313T113000
DTSTAMP:20260423T083605
CREATED:20250305T192438Z
LAST-MODIFIED:20250305T192438Z
UID:12843-1741860000-1741865400@www.belhusparkchapel.co.uk
SUMMARY:Noah's Ark
DESCRIPTION:
URL:https://www.belhusparkchapel.co.uk/calendar/noahs-ark-12/
LOCATION:Belhus Park Chapel
END:VEVENT
BEGIN:VEVENT
DTSTART;TZID=UTC:20250316T094500
DTEND;TZID=UTC:20250316T104500
DTSTAMP:20260423T083605
CREATED:20181105T095347Z
LAST-MODIFIED:20181105T095347Z
UID:11949-1742118300-1742121900@www.belhusparkchapel.co.uk
SUMMARY:Explorers & Bible Class
DESCRIPTION:
URL:https://www.belhusparkchapel.co.uk/calendar/explorers-bible-class-2019-01-20-2024-10-06-2024-10-13/2025-03-16/
END:VEVENT
BEGIN:VEVENT
DTSTART;TZID=UTC:20250316T111500
DTEND;TZID=UTC:20250316T123000
DTSTAMP:20260423T083605
CREATED:20250305T192548Z
LAST-MODIFIED:20250305T192548Z
UID:12845-1742123700-1742128200@www.belhusparkchapel.co.uk
SUMMARY:Morning Service - Mr Maurice Titmarsh (available to stream)
DESCRIPTION:
URL:https://www.belhusparkchapel.co.uk/calendar/morning-service-mr-maurice-titmarsh-available-to-stream-2/
LOCATION:Belhus Park Chapel
END:VEVENT
BEGIN:VEVENT
DTSTART;TZID=UTC:20250316T183000
DTEND;TZID=UTC:20250316T193000
DTSTAMP:20260423T083605
CREATED:20250305T192650Z
LAST-MODIFIED:20250305T192650Z
UID:12847-1742149800-1742153400@www.belhusparkchapel.co.uk
SUMMARY:Discovery Service - Mr Maurice Titmarsh (available to stream)
DESCRIPTION:followed by hot buffet
URL:https://www.belhusparkchapel.co.uk/calendar/discovery-service-mr-maurice-titmarsh-available-to-stream-2/
LOCATION:Belhus Park Chapel
END:VEVENT
END:VCALENDAR