BEGIN:VCALENDAR
VERSION:2.0
PRODID:-//Belhus Park Chapel - ECPv6.15.14//NONSGML v1.0//EN
CALSCALE:GREGORIAN
METHOD:PUBLISH
X-WR-CALNAME:Belhus Park Chapel
X-ORIGINAL-URL:https://www.belhusparkchapel.co.uk
X-WR-CALDESC:Events for Belhus Park Chapel
REFRESH-INTERVAL;VALUE=DURATION:PT1H
X-Robots-Tag:noindex
X-PUBLISHED-TTL:PT1H
BEGIN:VTIMEZONE
TZID:UTC
BEGIN:STANDARD
TZOFFSETFROM:+0000
TZOFFSETTO:+0000
TZNAME:UTC
DTSTART:20240101T000000
END:STANDARD
END:VTIMEZONE
BEGIN:VEVENT
DTSTART;TZID=UTC:20250318T123000
DTEND;TZID=UTC:20250318T140000
DTSTAMP:20260419T234637
CREATED:20250305T192751Z
LAST-MODIFIED:20250305T192751Z
UID:12849-1742301000-1742306400@www.belhusparkchapel.co.uk
SUMMARY:Lunch Club
DESCRIPTION:
URL:https://www.belhusparkchapel.co.uk/calendar/lunch-club-10/
LOCATION:Belhus Park Chapel
END:VEVENT
BEGIN:VEVENT
DTSTART;TZID=UTC:20250318T200000
DTEND;TZID=UTC:20250318T210000
DTSTAMP:20260419T234637
CREATED:20250305T192832Z
LAST-MODIFIED:20250305T192832Z
UID:12851-1742328000-1742331600@www.belhusparkchapel.co.uk
SUMMARY:Prayer Meeting (on Zoom)
DESCRIPTION:
URL:https://www.belhusparkchapel.co.uk/calendar/prayer-meeting-on-zoom-16/
END:VEVENT
BEGIN:VEVENT
DTSTART;TZID=UTC:20250319T180000
DTEND;TZID=UTC:20250319T210000
DTSTAMP:20260419T234637
CREATED:20250305T192913Z
LAST-MODIFIED:20250305T192913Z
UID:12853-1742407200-1742418000@www.belhusparkchapel.co.uk
SUMMARY:Campaigners
DESCRIPTION:
URL:https://www.belhusparkchapel.co.uk/calendar/campaigners-12/
LOCATION:Belhus Park Chapel
END:VEVENT
BEGIN:VEVENT
DTSTART;TZID=UTC:20250320T100000
DTEND;TZID=UTC:20250320T113000
DTSTAMP:20260419T234637
CREATED:20250305T192949Z
LAST-MODIFIED:20250305T192949Z
UID:12855-1742464800-1742470200@www.belhusparkchapel.co.uk
SUMMARY:Noah's Ark
DESCRIPTION:
URL:https://www.belhusparkchapel.co.uk/calendar/noahs-ark-13/
LOCATION:Belhus Park Chapel
END:VEVENT
BEGIN:VEVENT
DTSTART;TZID=UTC:20250323T094500
DTEND;TZID=UTC:20250323T104500
DTSTAMP:20260419T234637
CREATED:20181105T095347Z
LAST-MODIFIED:20181105T095347Z
UID:11950-1742723100-1742726700@www.belhusparkchapel.co.uk
SUMMARY:Explorers & Bible Class
DESCRIPTION:
URL:https://www.belhusparkchapel.co.uk/calendar/explorers-bible-class-2019-01-20-2024-10-06-2024-10-13/2025-03-23/
END:VEVENT
BEGIN:VEVENT
DTSTART;TZID=UTC:20250323T111500
DTEND;TZID=UTC:20250323T123000
DTSTAMP:20260419T234637
CREATED:20250305T193040Z
LAST-MODIFIED:20250305T193040Z
UID:12857-1742728500-1742733000@www.belhusparkchapel.co.uk
SUMMARY:Morning Service - Pastor Julian Rogers (available to stream)
DESCRIPTION:
URL:https://www.belhusparkchapel.co.uk/calendar/morning-service-pastor-julian-rogers-available-to-stream-4/
LOCATION:Belhus Park Chapel
END:VEVENT
BEGIN:VEVENT
DTSTART;TZID=UTC:20250323T183000
DTEND;TZID=UTC:20250323T193000
DTSTAMP:20260419T234637
CREATED:20250305T193130Z
LAST-MODIFIED:20250305T193130Z
UID:12859-1742754600-1742758200@www.belhusparkchapel.co.uk
SUMMARY:Evening Service - Pastor Bill Gardner (available to stream)
DESCRIPTION:
URL:https://www.belhusparkchapel.co.uk/calendar/evening-service-pastor-bill-gardner-available-to-stream/
LOCATION:Belhus Park Chapel
END:VEVENT
END:VCALENDAR