BEGIN:VCALENDAR
VERSION:2.0
PRODID:-//Belhus Park Chapel - ECPv6.15.14//NONSGML v1.0//EN
CALSCALE:GREGORIAN
METHOD:PUBLISH
X-WR-CALNAME:Belhus Park Chapel
X-ORIGINAL-URL:https://www.belhusparkchapel.co.uk
X-WR-CALDESC:Events for Belhus Park Chapel
REFRESH-INTERVAL;VALUE=DURATION:PT1H
X-Robots-Tag:noindex
X-PUBLISHED-TTL:PT1H
BEGIN:VTIMEZONE
TZID:UTC
BEGIN:STANDARD
TZOFFSETFROM:+0000
TZOFFSETTO:+0000
TZNAME:UTC
DTSTART:20240101T000000
END:STANDARD
END:VTIMEZONE
BEGIN:VEVENT
DTSTART;TZID=UTC:20250422T123000
DTEND;TZID=UTC:20250422T140000
DTSTAMP:20260419T141220
CREATED:20250326T194316Z
LAST-MODIFIED:20250326T194627Z
UID:12889-1745325000-1745330400@www.belhusparkchapel.co.uk
SUMMARY:Lunch Club
DESCRIPTION:Gospel message & free lunch for all
URL:https://www.belhusparkchapel.co.uk/calendar/lunch-club-13/
LOCATION:Belhus Park Chapel
END:VEVENT
BEGIN:VEVENT
DTSTART;TZID=UTC:20250422T200000
DTEND;TZID=UTC:20250422T210000
DTSTAMP:20260419T141220
CREATED:20250326T200222Z
LAST-MODIFIED:20250326T200222Z
UID:12907-1745352000-1745355600@www.belhusparkchapel.co.uk
SUMMARY:Prayer Meeting (on Zoom)
DESCRIPTION:
URL:https://www.belhusparkchapel.co.uk/calendar/prayer-meeting-on-zoom-20/
END:VEVENT
BEGIN:VEVENT
DTSTART;TZID=UTC:20250423T180000
DTEND;TZID=UTC:20250423T210000
DTSTAMP:20260419T141220
CREATED:20250326T194537Z
LAST-MODIFIED:20250326T194537Z
UID:12893-1745431200-1745442000@www.belhusparkchapel.co.uk
SUMMARY:Campaigners
DESCRIPTION:
URL:https://www.belhusparkchapel.co.uk/calendar/campaigners-15/
LOCATION:Belhus Park Chapel
END:VEVENT
BEGIN:VEVENT
DTSTART;TZID=UTC:20250424T100000
DTEND;TZID=UTC:20250424T113000
DTSTAMP:20260419T141220
CREATED:20250326T200955Z
LAST-MODIFIED:20250326T200955Z
UID:12921-1745488800-1745494200@www.belhusparkchapel.co.uk
SUMMARY:Noah's Ark
DESCRIPTION:
URL:https://www.belhusparkchapel.co.uk/calendar/noahs-ark-16/
LOCATION:Belhus Park Chapel
END:VEVENT
BEGIN:VEVENT
DTSTART;TZID=UTC:20250427T094500
DTEND;TZID=UTC:20250427T104500
DTSTAMP:20260419T141220
CREATED:20181105T095347Z
LAST-MODIFIED:20250501T203812Z
UID:11968-1745747100-1745750700@www.belhusparkchapel.co.uk
SUMMARY:Explorers
DESCRIPTION:
URL:https://www.belhusparkchapel.co.uk/calendar/explorers-bible-class-2019-01-20-2024-10-06-2024-10-13/2025-04-27/
END:VEVENT
BEGIN:VEVENT
DTSTART;TZID=UTC:20250427T111500
DTEND;TZID=UTC:20250427T123000
DTSTAMP:20260419T141220
CREATED:20250501T203927Z
LAST-MODIFIED:20250501T203927Z
UID:12934-1745752500-1745757000@www.belhusparkchapel.co.uk
SUMMARY:Morning Service - Pastor Julian Rogers (available to stream)
DESCRIPTION:
URL:https://www.belhusparkchapel.co.uk/calendar/morning-service-pastor-julian-rogers-available-to-stream-6/
LOCATION:Belhus Park Chapel
END:VEVENT
BEGIN:VEVENT
DTSTART;TZID=UTC:20250427T183000
DTEND;TZID=UTC:20250427T193000
DTSTAMP:20260419T141220
CREATED:20250501T204029Z
LAST-MODIFIED:20250501T204029Z
UID:12936-1745778600-1745782200@www.belhusparkchapel.co.uk
SUMMARY:Evening Service - Mr Alan Greenbank (available to stream)
DESCRIPTION:
URL:https://www.belhusparkchapel.co.uk/calendar/evening-service-mr-alan-greenbank-available-to-stream/
LOCATION:Belhus Park Chapel
END:VEVENT
END:VCALENDAR