BEGIN:VCALENDAR
VERSION:2.0
PRODID:-//Belhus Park Chapel - ECPv6.15.14//NONSGML v1.0//EN
CALSCALE:GREGORIAN
METHOD:PUBLISH
X-WR-CALNAME:Belhus Park Chapel
X-ORIGINAL-URL:https://www.belhusparkchapel.co.uk
X-WR-CALDESC:Events for Belhus Park Chapel
REFRESH-INTERVAL;VALUE=DURATION:PT1H
X-Robots-Tag:noindex
X-PUBLISHED-TTL:PT1H
BEGIN:VTIMEZONE
TZID:UTC
BEGIN:STANDARD
TZOFFSETFROM:+0000
TZOFFSETTO:+0000
TZNAME:UTC
DTSTART:20240101T000000
END:STANDARD
END:VTIMEZONE
BEGIN:VEVENT
DTSTART;TZID=UTC:20250513T124500
DTEND;TZID=UTC:20250513T140000
DTSTAMP:20260423T081447
CREATED:20250502T075731Z
LAST-MODIFIED:20250502T075731Z
UID:12970-1747140300-1747144800@www.belhusparkchapel.co.uk
SUMMARY:Lunch Club
DESCRIPTION:
URL:https://www.belhusparkchapel.co.uk/calendar/lunch-club-16/
LOCATION:Belhus Park Chapel
END:VEVENT
BEGIN:VEVENT
DTSTART;TZID=UTC:20250513T200000
DTEND;TZID=UTC:20250513T210000
DTSTAMP:20260423T081447
CREATED:20250502T075816Z
LAST-MODIFIED:20250502T075816Z
UID:12972-1747166400-1747170000@www.belhusparkchapel.co.uk
SUMMARY:Prayer Meeting (on Zoom)
DESCRIPTION:
URL:https://www.belhusparkchapel.co.uk/calendar/prayer-meeting-on-zoom-24/
END:VEVENT
BEGIN:VEVENT
DTSTART;TZID=UTC:20250514T180000
DTEND;TZID=UTC:20250514T210000
DTSTAMP:20260423T081447
CREATED:20250502T075855Z
LAST-MODIFIED:20250502T075855Z
UID:12974-1747245600-1747256400@www.belhusparkchapel.co.uk
SUMMARY:Campaigners
DESCRIPTION:
URL:https://www.belhusparkchapel.co.uk/calendar/campaigners-18/
LOCATION:Belhus Park Chapel
END:VEVENT
BEGIN:VEVENT
DTSTART;TZID=UTC:20250515T100000
DTEND;TZID=UTC:20250515T113000
DTSTAMP:20260423T081447
CREATED:20250502T075936Z
LAST-MODIFIED:20250502T075936Z
UID:12976-1747303200-1747308600@www.belhusparkchapel.co.uk
SUMMARY:Noah's Ark
DESCRIPTION:
URL:https://www.belhusparkchapel.co.uk/calendar/noahs-ark-19/
LOCATION:Belhus Park Chapel
END:VEVENT
BEGIN:VEVENT
DTSTART;TZID=UTC:20250518T094500
DTEND;TZID=UTC:20250518T104500
DTSTAMP:20260423T081447
CREATED:20181105T095347Z
LAST-MODIFIED:20250502T080419Z
UID:11981-1747561500-1747565100@www.belhusparkchapel.co.uk
SUMMARY:Explorers
DESCRIPTION:
URL:https://www.belhusparkchapel.co.uk/calendar/explorers-bible-class-2019-01-20-2024-10-06-2024-10-13/2025-05-18/
END:VEVENT
BEGIN:VEVENT
DTSTART;TZID=UTC:20250518T111500
DTEND;TZID=UTC:20250518T123000
DTSTAMP:20260423T081447
CREATED:20250502T080103Z
LAST-MODIFIED:20250502T080103Z
UID:12978-1747566900-1747571400@www.belhusparkchapel.co.uk
SUMMARY:Morning Service - Mr Maurice Titmarsh (available to stream)
DESCRIPTION:
URL:https://www.belhusparkchapel.co.uk/calendar/morning-service-mr-maurice-titmarsh-available-to-stream-3/
LOCATION:Belhus Park Chapel
END:VEVENT
BEGIN:VEVENT
DTSTART;TZID=UTC:20250518T183000
DTEND;TZID=UTC:20250518T193000
DTSTAMP:20260423T081447
CREATED:20250502T080337Z
LAST-MODIFIED:20250502T080337Z
UID:12981-1747593000-1747596600@www.belhusparkchapel.co.uk
SUMMARY:Discovery Service - Mr Maurice Titmarsh (available to stream)
DESCRIPTION:followed by hot buffet
URL:https://www.belhusparkchapel.co.uk/calendar/discovery-service-mr-maurice-titmarsh-available-to-stream-4/
LOCATION:Belhus Park Chapel
END:VEVENT
END:VCALENDAR