BEGIN:VCALENDAR
VERSION:2.0
PRODID:-//Belhus Park Chapel - ECPv6.15.14//NONSGML v1.0//EN
CALSCALE:GREGORIAN
METHOD:PUBLISH
X-ORIGINAL-URL:https://www.belhusparkchapel.co.uk
X-WR-CALDESC:Events for Belhus Park Chapel
REFRESH-INTERVAL;VALUE=DURATION:PT1H
X-Robots-Tag:noindex
X-PUBLISHED-TTL:PT1H
BEGIN:VTIMEZONE
TZID:UTC
BEGIN:STANDARD
TZOFFSETFROM:+0000
TZOFFSETTO:+0000
TZNAME:UTC
DTSTART:20240101T000000
END:STANDARD
END:VTIMEZONE
BEGIN:VEVENT
DTSTART;TZID=UTC:20250603T124500
DTEND;TZID=UTC:20250603T140000
DTSTAMP:20260421T101907
CREATED:20250602T142611Z
LAST-MODIFIED:20250602T142611Z
UID:13005-1748954700-1748959200@www.belhusparkchapel.co.uk
SUMMARY:Lunch Club
DESCRIPTION:
URL:https://www.belhusparkchapel.co.uk/calendar/lunch-club-18/
LOCATION:Belhus Park Chapel
END:VEVENT
BEGIN:VEVENT
DTSTART;TZID=UTC:20250603T200000
DTEND;TZID=UTC:20250603T210000
DTSTAMP:20260421T101907
CREATED:20250602T142651Z
LAST-MODIFIED:20250602T142651Z
UID:13007-1748980800-1748984400@www.belhusparkchapel.co.uk
SUMMARY:Prayer Meeting (on Zoom)
DESCRIPTION:
URL:https://www.belhusparkchapel.co.uk/calendar/prayer-meeting-on-zoom-27/
END:VEVENT
BEGIN:VEVENT
DTSTART;TZID=UTC:20250604T180000
DTEND;TZID=UTC:20250604T210000
DTSTAMP:20260421T101907
CREATED:20250602T142730Z
LAST-MODIFIED:20250602T142730Z
UID:13009-1749060000-1749070800@www.belhusparkchapel.co.uk
SUMMARY:Campaigners
DESCRIPTION:
URL:https://www.belhusparkchapel.co.uk/calendar/campaigners-20/
LOCATION:Belhus Park Chapel
END:VEVENT
BEGIN:VEVENT
DTSTART;TZID=UTC:20250605T100000
DTEND;TZID=UTC:20250605T113000
DTSTAMP:20260421T101907
CREATED:20250602T142805Z
LAST-MODIFIED:20250602T142805Z
UID:13011-1749117600-1749123000@www.belhusparkchapel.co.uk
SUMMARY:Noah's Ark
DESCRIPTION:
URL:https://www.belhusparkchapel.co.uk/calendar/noahs-ark-21/
LOCATION:Belhus Park Chapel
END:VEVENT
BEGIN:VEVENT
DTSTART;TZID=UTC:20250608T094500
DTEND;TZID=UTC:20250608T104500
DTSTAMP:20260421T101907
CREATED:20181105T095347Z
LAST-MODIFIED:20250602T143509Z
UID:11984-1749375900-1749379500@www.belhusparkchapel.co.uk
SUMMARY:Explorers
DESCRIPTION:
URL:https://www.belhusparkchapel.co.uk/calendar/explorers-bible-class-2019-01-20-2024-10-06-2024-10-13/2025-06-08/
END:VEVENT
BEGIN:VEVENT
DTSTART;TZID=UTC:20250608T111500
DTEND;TZID=UTC:20250608T123000
DTSTAMP:20260421T101907
CREATED:20250602T142909Z
LAST-MODIFIED:20250602T142909Z
UID:13013-1749381300-1749385800@www.belhusparkchapel.co.uk
SUMMARY:Morning Service - Pastor Julian Rogers (available to stream)
DESCRIPTION:
URL:https://www.belhusparkchapel.co.uk/calendar/morning-service-pastor-julian-rogers-available-to-stream-9/
LOCATION:Belhus Park Chapel
END:VEVENT
BEGIN:VEVENT
DTSTART;TZID=UTC:20250608T183000
DTEND;TZID=UTC:20250608T193000
DTSTAMP:20260421T101907
CREATED:20250602T143005Z
LAST-MODIFIED:20250602T143005Z
UID:13015-1749407400-1749411000@www.belhusparkchapel.co.uk
SUMMARY:Evening Service - Mr Ray Birch (available to stream)
DESCRIPTION:
URL:https://www.belhusparkchapel.co.uk/calendar/evening-service-mr-ray-birch-available-to-stream/
LOCATION:Belhus Park Chapel
END:VEVENT
END:VCALENDAR