BEGIN:VCALENDAR
VERSION:2.0
PRODID:-//Belhus Park Chapel - ECPv6.15.14//NONSGML v1.0//EN
CALSCALE:GREGORIAN
METHOD:PUBLISH
X-ORIGINAL-URL:https://www.belhusparkchapel.co.uk
X-WR-CALDESC:Events for Belhus Park Chapel
REFRESH-INTERVAL;VALUE=DURATION:PT1H
X-Robots-Tag:noindex
X-PUBLISHED-TTL:PT1H
BEGIN:VTIMEZONE
TZID:UTC
BEGIN:STANDARD
TZOFFSETFROM:+0000
TZOFFSETTO:+0000
TZNAME:UTC
DTSTART:20240101T000000
END:STANDARD
END:VTIMEZONE
BEGIN:VEVENT
DTSTART;TZID=UTC:20250715T124500
DTEND;TZID=UTC:20250715T140000
DTSTAMP:20260421T114611
CREATED:20250619T081224Z
LAST-MODIFIED:20250619T081224Z
UID:13085-1752583500-1752588000@www.belhusparkchapel.co.uk
SUMMARY:Lunch Club
DESCRIPTION:
URL:https://www.belhusparkchapel.co.uk/calendar/lunch-club-24/
LOCATION:Belhus Park Chapel
END:VEVENT
BEGIN:VEVENT
DTSTART;TZID=UTC:20250715T200000
DTEND;TZID=UTC:20250715T210000
DTSTAMP:20260421T114611
CREATED:20250619T081256Z
LAST-MODIFIED:20250619T081256Z
UID:13087-1752609600-1752613200@www.belhusparkchapel.co.uk
SUMMARY:Prayer Meeting (on Zoom)
DESCRIPTION:
URL:https://www.belhusparkchapel.co.uk/calendar/prayer-meeting-on-zoom-33/
END:VEVENT
BEGIN:VEVENT
DTSTART;TZID=UTC:20250716T180000
DTEND;TZID=UTC:20250716T210000
DTSTAMP:20260421T114611
CREATED:20250619T081332Z
LAST-MODIFIED:20250619T081332Z
UID:13089-1752688800-1752699600@www.belhusparkchapel.co.uk
SUMMARY:Campaigners
DESCRIPTION:
URL:https://www.belhusparkchapel.co.uk/calendar/campaigners-26/
LOCATION:Belhus Park Chapel
END:VEVENT
BEGIN:VEVENT
DTSTART;TZID=UTC:20250717T100000
DTEND;TZID=UTC:20250717T113000
DTSTAMP:20260421T114611
CREATED:20250619T081431Z
LAST-MODIFIED:20250619T081431Z
UID:13091-1752746400-1752751800@www.belhusparkchapel.co.uk
SUMMARY:Noah's Ark
DESCRIPTION:
URL:https://www.belhusparkchapel.co.uk/calendar/noahs-ark-27/
LOCATION:Belhus Park Chapel
END:VEVENT
BEGIN:VEVENT
DTSTART;TZID=UTC:20250720T094500
DTEND;TZID=UTC:20250720T104500
DTSTAMP:20260421T114611
CREATED:20181105T095347Z
LAST-MODIFIED:20250619T081807Z
UID:12006-1753004700-1753008300@www.belhusparkchapel.co.uk
SUMMARY:Explorers
DESCRIPTION:
URL:https://www.belhusparkchapel.co.uk/calendar/explorers-bible-class-2019-01-20-2024-10-06-2024-10-13/2025-07-20/
END:VEVENT
BEGIN:VEVENT
DTSTART;TZID=UTC:20250720T111500
DTEND;TZID=UTC:20250720T123000
DTSTAMP:20260421T114611
CREATED:20250619T081536Z
LAST-MODIFIED:20250619T081536Z
UID:13093-1753010100-1753014600@www.belhusparkchapel.co.uk
SUMMARY:Morning Service - Mr Maurice Titmarsh (available to stream)
DESCRIPTION:
URL:https://www.belhusparkchapel.co.uk/calendar/morning-service-mr-maurice-titmarsh-available-to-stream-5/
LOCATION:Belhus Park Chapel
END:VEVENT
BEGIN:VEVENT
DTSTART;TZID=UTC:20250720T183000
DTEND;TZID=UTC:20250720T191500
DTSTAMP:20260421T114611
CREATED:20250619T081739Z
LAST-MODIFIED:20250619T081739Z
UID:13095-1753036200-1753038900@www.belhusparkchapel.co.uk
SUMMARY:Discovery Service - Mr Maurice Titmarsh (available to stream)
DESCRIPTION:followed by hot buffet
URL:https://www.belhusparkchapel.co.uk/calendar/discovery-service-mr-maurice-titmarsh-available-to-stream-6/
LOCATION:Belhus Park Chapel
END:VEVENT
END:VCALENDAR