BEGIN:VCALENDAR
VERSION:2.0
PRODID:-//Belhus Park Chapel - ECPv6.15.14//NONSGML v1.0//EN
CALSCALE:GREGORIAN
METHOD:PUBLISH
X-WR-CALNAME:Belhus Park Chapel
X-ORIGINAL-URL:https://www.belhusparkchapel.co.uk
X-WR-CALDESC:Events for Belhus Park Chapel
REFRESH-INTERVAL;VALUE=DURATION:PT1H
X-Robots-Tag:noindex
X-PUBLISHED-TTL:PT1H
BEGIN:VTIMEZONE
TZID:UTC
BEGIN:STANDARD
TZOFFSETFROM:+0000
TZOFFSETTO:+0000
TZNAME:UTC
DTSTART:20240101T000000
END:STANDARD
END:VTIMEZONE
BEGIN:VEVENT
DTSTART;TZID=UTC:20250909T124500
DTEND;TZID=UTC:20250909T140000
DTSTAMP:20260421T144055
CREATED:20250829T080325Z
LAST-MODIFIED:20250829T080325Z
UID:13155-1757421900-1757426400@www.belhusparkchapel.co.uk
SUMMARY:Lunch Club
DESCRIPTION:
URL:https://www.belhusparkchapel.co.uk/calendar/lunch-club-26/
LOCATION:Belhus Park Chapel
END:VEVENT
BEGIN:VEVENT
DTSTART;TZID=UTC:20250909T200000
DTEND;TZID=UTC:20250909T210000
DTSTAMP:20260421T144055
CREATED:20250829T080221Z
LAST-MODIFIED:20250829T080221Z
UID:13153-1757448000-1757451600@www.belhusparkchapel.co.uk
SUMMARY:Prayer Meeting (on Zoom)
DESCRIPTION:
URL:https://www.belhusparkchapel.co.uk/calendar/prayer-meeting-on-zoom-41/
END:VEVENT
BEGIN:VEVENT
DTSTART;TZID=UTC:20250910T180000
DTEND;TZID=UTC:20250910T210000
DTSTAMP:20260421T144055
CREATED:20250829T080455Z
LAST-MODIFIED:20250829T080455Z
UID:13157-1757527200-1757538000@www.belhusparkchapel.co.uk
SUMMARY:Campaigners
DESCRIPTION:
URL:https://www.belhusparkchapel.co.uk/calendar/campaigners-27/
LOCATION:Belhus Park Chapel
END:VEVENT
BEGIN:VEVENT
DTSTART;TZID=UTC:20250911T100000
DTEND;TZID=UTC:20250911T113000
DTSTAMP:20260421T144055
CREATED:20250829T080534Z
LAST-MODIFIED:20250829T080534Z
UID:13159-1757584800-1757590200@www.belhusparkchapel.co.uk
SUMMARY:Noah's Ark
DESCRIPTION:
URL:https://www.belhusparkchapel.co.uk/calendar/noahs-ark-28/
LOCATION:Belhus Park Chapel
END:VEVENT
BEGIN:VEVENT
DTSTART;TZID=UTC:20250914T094500
DTEND;TZID=UTC:20250914T104500
DTSTAMP:20260421T144055
CREATED:20181105T095347Z
LAST-MODIFIED:20250901T145838Z
UID:12075-1757843100-1757846700@www.belhusparkchapel.co.uk
SUMMARY:Explorers
DESCRIPTION:
URL:https://www.belhusparkchapel.co.uk/calendar/explorers-bible-class-2019-01-20-2024-10-06-2024-10-13/2025-09-14/
END:VEVENT
BEGIN:VEVENT
DTSTART;TZID=UTC:20250914T111500
DTEND;TZID=UTC:20250914T123000
DTSTAMP:20260421T144055
CREATED:20250829T080629Z
LAST-MODIFIED:20250829T080629Z
UID:13161-1757848500-1757853000@www.belhusparkchapel.co.uk
SUMMARY:Morning Service - Pastor Julian Rogers (available to stream)
DESCRIPTION:
URL:https://www.belhusparkchapel.co.uk/calendar/morning-service-pastor-julian-rogers-available-to-stream-16/
LOCATION:Belhus Park Chapel
END:VEVENT
BEGIN:VEVENT
DTSTART;TZID=UTC:20250914T183000
DTEND;TZID=UTC:20250914T193000
DTSTAMP:20260421T144055
CREATED:20250901T145306Z
LAST-MODIFIED:20250901T145306Z
UID:13163-1757874600-1757878200@www.belhusparkchapel.co.uk
SUMMARY:Baptism Service - Pastor Julian Rogers (available to stream)
DESCRIPTION:followed by refreshments
URL:https://www.belhusparkchapel.co.uk/calendar/baptism-service-pastor-julian-rogers-available-to-stream/
LOCATION:Belhus Park Chapel
END:VEVENT
END:VCALENDAR