BEGIN:VCALENDAR
VERSION:2.0
PRODID:-//Belhus Park Chapel - ECPv6.15.14//NONSGML v1.0//EN
CALSCALE:GREGORIAN
METHOD:PUBLISH
X-WR-CALNAME:Belhus Park Chapel
X-ORIGINAL-URL:https://www.belhusparkchapel.co.uk
X-WR-CALDESC:Events for Belhus Park Chapel
REFRESH-INTERVAL;VALUE=DURATION:PT1H
X-Robots-Tag:noindex
X-PUBLISHED-TTL:PT1H
BEGIN:VTIMEZONE
TZID:UTC
BEGIN:STANDARD
TZOFFSETFROM:+0000
TZOFFSETTO:+0000
TZNAME:UTC
DTSTART:20240101T000000
END:STANDARD
END:VTIMEZONE
BEGIN:VEVENT
DTSTART;TZID=UTC:20251007T123000
DTEND;TZID=UTC:20251007T140000
DTSTAMP:20260421T144022
CREATED:20251022T081256Z
LAST-MODIFIED:20251022T081256Z
UID:13207-1759840200-1759845600@www.belhusparkchapel.co.uk
SUMMARY:Lunch Club
DESCRIPTION:
URL:https://www.belhusparkchapel.co.uk/calendar/lunch-club-30/
LOCATION:Belhus Park Chapel
END:VEVENT
BEGIN:VEVENT
DTSTART;TZID=UTC:20251007T200000
DTEND;TZID=UTC:20251007T210000
DTSTAMP:20260421T144022
CREATED:20251022T081349Z
LAST-MODIFIED:20251022T081349Z
UID:13209-1759867200-1759870800@www.belhusparkchapel.co.uk
SUMMARY:Prayer Meeting (on Zoom)
DESCRIPTION:
URL:https://www.belhusparkchapel.co.uk/calendar/prayer-meeting-on-zoom-44/
END:VEVENT
BEGIN:VEVENT
DTSTART;TZID=UTC:20251008T180000
DTEND;TZID=UTC:20251008T210000
DTSTAMP:20260421T144022
CREATED:20251022T081423Z
LAST-MODIFIED:20251022T081423Z
UID:13211-1759946400-1759957200@www.belhusparkchapel.co.uk
SUMMARY:Campaigners
DESCRIPTION:
URL:https://www.belhusparkchapel.co.uk/calendar/campaigners-31/
LOCATION:Belhus Park Chapel
END:VEVENT
BEGIN:VEVENT
DTSTART;TZID=UTC:20251009T100000
DTEND;TZID=UTC:20251009T113000
DTSTAMP:20260421T144022
CREATED:20251022T081502Z
LAST-MODIFIED:20251022T081502Z
UID:13213-1760004000-1760009400@www.belhusparkchapel.co.uk
SUMMARY:Noah's Ark
DESCRIPTION:
URL:https://www.belhusparkchapel.co.uk/calendar/noahs-ark-32/
LOCATION:Belhus Park Chapel
END:VEVENT
BEGIN:VEVENT
DTSTART;TZID=UTC:20251012T094500
DTEND;TZID=UTC:20251012T104500
DTSTAMP:20260421T144022
CREATED:20181105T095347Z
LAST-MODIFIED:20251022T081740Z
UID:12086-1760262300-1760265900@www.belhusparkchapel.co.uk
SUMMARY:Explorers
DESCRIPTION:
URL:https://www.belhusparkchapel.co.uk/calendar/explorers-bible-class-2019-01-20-2024-10-06-2024-10-13/2025-10-12/
END:VEVENT
BEGIN:VEVENT
DTSTART;TZID=UTC:20251012T111500
DTEND;TZID=UTC:20251012T123000
DTSTAMP:20260421T144022
CREATED:20251022T081620Z
LAST-MODIFIED:20251022T081620Z
UID:13215-1760267700-1760272200@www.belhusparkchapel.co.uk
SUMMARY:Morning Service - Pastor Julian Rogers (available to stream)
DESCRIPTION:
URL:https://www.belhusparkchapel.co.uk/calendar/morning-service-pastor-julian-rogers-available-to-stream-18/
LOCATION:Belhus Park Chapel
END:VEVENT
BEGIN:VEVENT
DTSTART;TZID=UTC:20251012T183000
DTEND;TZID=UTC:20251012T193000
DTSTAMP:20260421T144022
CREATED:20251022T081705Z
LAST-MODIFIED:20251022T081705Z
UID:13217-1760293800-1760297400@www.belhusparkchapel.co.uk
SUMMARY:Evening Service - Pastor Matthew Stratton (available to stream)
DESCRIPTION:
URL:https://www.belhusparkchapel.co.uk/calendar/evening-service-pastor-matthew-stratton-available-to-stream-2/
LOCATION:Belhus Park Chapel
END:VEVENT
END:VCALENDAR