BEGIN:VCALENDAR
VERSION:2.0
PRODID:-//Belhus Park Chapel - ECPv6.15.14//NONSGML v1.0//EN
CALSCALE:GREGORIAN
METHOD:PUBLISH
X-WR-CALNAME:Belhus Park Chapel
X-ORIGINAL-URL:https://www.belhusparkchapel.co.uk
X-WR-CALDESC:Events for Belhus Park Chapel
REFRESH-INTERVAL;VALUE=DURATION:PT1H
X-Robots-Tag:noindex
X-PUBLISHED-TTL:PT1H
BEGIN:VTIMEZONE
TZID:UTC
BEGIN:STANDARD
TZOFFSETFROM:+0000
TZOFFSETTO:+0000
TZNAME:UTC
DTSTART:20240101T000000
END:STANDARD
END:VTIMEZONE
BEGIN:VEVENT
DTSTART;TZID=UTC:20251014T123000
DTEND;TZID=UTC:20251014T140000
DTSTAMP:20260419T155745
CREATED:20251022T081827Z
LAST-MODIFIED:20251022T081827Z
UID:13220-1760445000-1760450400@www.belhusparkchapel.co.uk
SUMMARY:Lunch Club
DESCRIPTION:
URL:https://www.belhusparkchapel.co.uk/calendar/lunch-club-31/
LOCATION:Belhus Park Chapel
END:VEVENT
BEGIN:VEVENT
DTSTART;TZID=UTC:20251014T200000
DTEND;TZID=UTC:20251014T210000
DTSTAMP:20260419T155745
CREATED:20251022T081902Z
LAST-MODIFIED:20251022T081902Z
UID:13222-1760472000-1760475600@www.belhusparkchapel.co.uk
SUMMARY:Prayer Meeting (on Zoom)
DESCRIPTION:
URL:https://www.belhusparkchapel.co.uk/calendar/prayer-meeting-on-zoom-45/
END:VEVENT
BEGIN:VEVENT
DTSTART;TZID=UTC:20251015T180000
DTEND;TZID=UTC:20251015T210000
DTSTAMP:20260419T155745
CREATED:20251022T081934Z
LAST-MODIFIED:20251022T081934Z
UID:13224-1760551200-1760562000@www.belhusparkchapel.co.uk
SUMMARY:Campaigners
DESCRIPTION:
URL:https://www.belhusparkchapel.co.uk/calendar/campaigners-32/
LOCATION:Belhus Park Chapel
END:VEVENT
BEGIN:VEVENT
DTSTART;TZID=UTC:20251016T100000
DTEND;TZID=UTC:20251016T113000
DTSTAMP:20260419T155745
CREATED:20251022T082005Z
LAST-MODIFIED:20251022T082005Z
UID:13226-1760608800-1760614200@www.belhusparkchapel.co.uk
SUMMARY:Noah's Ark
DESCRIPTION:
URL:https://www.belhusparkchapel.co.uk/calendar/noahs-ark-33/
LOCATION:Belhus Park Chapel
END:VEVENT
BEGIN:VEVENT
DTSTART;TZID=UTC:20251019T094500
DTEND;TZID=UTC:20251019T104500
DTSTAMP:20260419T155745
CREATED:20181105T095347Z
LAST-MODIFIED:20251022T082323Z
UID:12099-1760867100-1760870700@www.belhusparkchapel.co.uk
SUMMARY:Explorers
DESCRIPTION:
URL:https://www.belhusparkchapel.co.uk/calendar/explorers-bible-class-2019-01-20-2024-10-06-2024-10-13/2025-10-19/
END:VEVENT
BEGIN:VEVENT
DTSTART;TZID=UTC:20251019T111500
DTEND;TZID=UTC:20251019T123000
DTSTAMP:20260419T155745
CREATED:20251022T082113Z
LAST-MODIFIED:20251022T082113Z
UID:13228-1760872500-1760877000@www.belhusparkchapel.co.uk
SUMMARY:Morning Service - Mr Maurice Titmarsh (available to stream)
DESCRIPTION:
URL:https://www.belhusparkchapel.co.uk/calendar/morning-service-mr-maurice-titmarsh-available-to-stream-8/
LOCATION:Belhus Park Chapel
END:VEVENT
BEGIN:VEVENT
DTSTART;TZID=UTC:20251019T183000
DTEND;TZID=UTC:20251019T193000
DTSTAMP:20260419T155745
CREATED:20251022T082202Z
LAST-MODIFIED:20251022T082202Z
UID:13230-1760898600-1760902200@www.belhusparkchapel.co.uk
SUMMARY:Discovery Service - Mr Maurice Titmarsh (available to stream)
DESCRIPTION:followed by hot buffet
URL:https://www.belhusparkchapel.co.uk/calendar/discovery-service-mr-maurice-titmarsh-available-to-stream-8/
LOCATION:Belhus Park Chapel
END:VEVENT
END:VCALENDAR