BEGIN:VCALENDAR
VERSION:2.0
PRODID:-//Belhus Park Chapel - ECPv6.15.14//NONSGML v1.0//EN
CALSCALE:GREGORIAN
METHOD:PUBLISH
X-WR-CALNAME:Belhus Park Chapel
X-ORIGINAL-URL:https://www.belhusparkchapel.co.uk
X-WR-CALDESC:Events for Belhus Park Chapel
REFRESH-INTERVAL;VALUE=DURATION:PT1H
X-Robots-Tag:noindex
X-PUBLISHED-TTL:PT1H
BEGIN:VTIMEZONE
TZID:UTC
BEGIN:STANDARD
TZOFFSETFROM:+0000
TZOFFSETTO:+0000
TZNAME:UTC
DTSTART:20240101T000000
END:STANDARD
END:VTIMEZONE
BEGIN:VEVENT
DTSTART;TZID=UTC:20251021T200000
DTEND;TZID=UTC:20251021T210000
DTSTAMP:20260419T173314
CREATED:20251022T082249Z
LAST-MODIFIED:20251022T082249Z
UID:13232-1761076800-1761080400@www.belhusparkchapel.co.uk
SUMMARY:Prayer Meeting (on Zoom)
DESCRIPTION:
URL:https://www.belhusparkchapel.co.uk/calendar/prayer-meeting-on-zoom-46/
END:VEVENT
BEGIN:VEVENT
DTSTART;TZID=UTC:20251026T094500
DTEND;TZID=UTC:20251026T104500
DTSTAMP:20260419T173314
CREATED:20181105T095347Z
LAST-MODIFIED:20251022T082504Z
UID:12100-1761471900-1761475500@www.belhusparkchapel.co.uk
SUMMARY:Explorers
DESCRIPTION:
URL:https://www.belhusparkchapel.co.uk/calendar/explorers-bible-class-2019-01-20-2024-10-06-2024-10-13/2025-10-26/
END:VEVENT
BEGIN:VEVENT
DTSTART;TZID=UTC:20251026T111500
DTEND;TZID=UTC:20251026T123000
DTSTAMP:20260419T173314
CREATED:20251022T082413Z
LAST-MODIFIED:20251022T082413Z
UID:13235-1761477300-1761481800@www.belhusparkchapel.co.uk
SUMMARY:Morning Service - Pastor Julian Rogers (available to stream)
DESCRIPTION:
URL:https://www.belhusparkchapel.co.uk/calendar/morning-service-pastor-julian-rogers-available-to-stream-19/
LOCATION:Belhus Park Chapel
END:VEVENT
BEGIN:VEVENT
DTSTART;TZID=UTC:20251026T183000
DTEND;TZID=UTC:20251026T193000
DTSTAMP:20260419T173314
CREATED:20251022T082450Z
LAST-MODIFIED:20251022T082450Z
UID:13237-1761503400-1761507000@www.belhusparkchapel.co.uk
SUMMARY:Evening Service - Pastor Jag Johal (available to stream)
DESCRIPTION:
URL:https://www.belhusparkchapel.co.uk/calendar/evening-service-pastor-jag-johal-available-to-stream-2/
LOCATION:Belhus Park Chapel
END:VEVENT
END:VCALENDAR