BEGIN:VCALENDAR
VERSION:2.0
PRODID:-//Belhus Park Chapel - ECPv6.15.14//NONSGML v1.0//EN
CALSCALE:GREGORIAN
METHOD:PUBLISH
X-ORIGINAL-URL:https://www.belhusparkchapel.co.uk
X-WR-CALDESC:Events for Belhus Park Chapel
REFRESH-INTERVAL;VALUE=DURATION:PT1H
X-Robots-Tag:noindex
X-PUBLISHED-TTL:PT1H
BEGIN:VTIMEZONE
TZID:UTC
BEGIN:STANDARD
TZOFFSETFROM:+0000
TZOFFSETTO:+0000
TZNAME:UTC
DTSTART:20250101T000000
END:STANDARD
END:VTIMEZONE
BEGIN:VEVENT
DTSTART;TZID=UTC:20260901T123000
DTEND;TZID=UTC:20260901T140000
DTSTAMP:20260423T015908
CREATED:20260119T103239Z
LAST-MODIFIED:20260119T103239Z
UID:13451-1788265800-1788271200@www.belhusparkchapel.co.uk
SUMMARY:Lunch Club
DESCRIPTION:free food provided
URL:https://www.belhusparkchapel.co.uk/calendar/lunch-club-37/2026-09-01/
LOCATION:Belhus Park Chapel
END:VEVENT
BEGIN:VEVENT
DTSTART;TZID=UTC:20260901T200000
DTEND;TZID=UTC:20260901T210000
DTSTAMP:20260423T015908
CREATED:20260119T103356Z
LAST-MODIFIED:20260119T103356Z
UID:13499-1788292800-1788296400@www.belhusparkchapel.co.uk
SUMMARY:Prayer Meeting (on Zoom)
DESCRIPTION:
URL:https://www.belhusparkchapel.co.uk/calendar/prayer-meeting-on-zoom-50/2026-09-01/
END:VEVENT
BEGIN:VEVENT
DTSTART;TZID=UTC:20260902T180000
DTEND;TZID=UTC:20260902T210000
DTSTAMP:20260423T015908
CREATED:20260119T103454Z
LAST-MODIFIED:20260119T103454Z
UID:13549-1788372000-1788382800@www.belhusparkchapel.co.uk
SUMMARY:Campaigners
DESCRIPTION:
URL:https://www.belhusparkchapel.co.uk/calendar/campaigners-38/2026-09-02/
LOCATION:Belhus Park Chapel
END:VEVENT
BEGIN:VEVENT
DTSTART;TZID=UTC:20260903T100000
DTEND;TZID=UTC:20260903T113000
DTSTAMP:20260423T015908
CREATED:20260119T103715Z
LAST-MODIFIED:20260119T103715Z
UID:13597-1788429600-1788435000@www.belhusparkchapel.co.uk
SUMMARY:Noah's Ark
DESCRIPTION:
URL:https://www.belhusparkchapel.co.uk/calendar/noahs-ark-39/2026-09-03/
LOCATION:Belhus Park Chapel
END:VEVENT
BEGIN:VEVENT
DTSTART;TZID=UTC:20260906T094500
DTEND;TZID=UTC:20260906T104500
DTSTAMP:20260423T015908
CREATED:20260119T102908Z
LAST-MODIFIED:20260119T102908Z
UID:13402-1788687900-1788691500@www.belhusparkchapel.co.uk
SUMMARY:Explorers
DESCRIPTION:
URL:https://www.belhusparkchapel.co.uk/calendar/explorers-3/2026-09-06/
LOCATION:Belhus Park Chapel
END:VEVENT
END:VCALENDAR